PDS_VERSION_ID = PDS3
/* FILE DATA ELEMENTS */
RECORD_TYPE = UNDEFINED
/* POINTERS TO DATA OBJECTS */
^IMAGE = ("HI785_0000_RE4.TIF")
/* IDENTIFICATION DATA ELEMENTS */
DATA_SET_ID = "MEX-M-HRSC-4-REFDR-MAPPROJECT-EXT6-V4.0"
DATA_SET_NAME = "MARS EXPRESS HRSC MAP PROJECTED REFDR EXTENSION6 V4.0"
DETECTOR_ID = MEX_HRSC_RED
EVENT_TYPE = "MARS-REGIONAL-MAPPING-Vo-Im-Fl"
INSTRUMENT_HOST_ID = MEX
INSTRUMENT_HOST_NAME = "MARS EXPRESS"
INSTRUMENT_ID = HRSC
INSTRUMENT_NAME = "HIGH RESOLUTION STEREO CAMERA"
MISSION_NAME = "MARS EXPRESS"
MISSION_PHASE_NAME = ME_Phase_39
PROCESSING_LEVEL_ID = 4
PRODUCT_CREATION_TIME = 2023-01-29T14:35:52.000Z
PRODUCT_ID = "HI785_0000_RE4.TIF"
RELEASE_ID = 0005
REVISION_ID = 0000
/* QUALITY DATA ELEMENTS */
DATA_QUALITY_ID = 1
DATA_QUALITY_DESC = "Data calculated based on original SPICE kernels"
/* TIME DATA ELEMENTS */
SPACECRAFT_CLOCK_START_COUNT = "1/0489590105.24886"
SPACECRAFT_CLOCK_STOP_COUNT = "1/0489590354.49884"
START_TIME = 2018-11-06T13:15:41.963Z
STOP_TIME = 2018-11-06T13:18:53.108Z
/* ORBITAL DATA ELEMENTS */
ASCENDING_NODE_LONGITUDE = 221.75
MAXIMUM_RESOLUTION = 0.0574
FOOTPRINT_POINT_LATITUDE = (-28.2268,-28.2246,-28.2208,-28.2152, -28.215,-28.1973,-27.8795,-27.5855, -27.1846,-26.9175,-26.651,-26.3847, -26.1181,-25.8522,-25.5837,-25.3173, -25.0497,-24.7821,-24.5142,-24.2454, -23.8428,-23.5743,-23.1715,-22.7694, -22.499,-22.2323,-21.9589,-21.5523, -21.2756,-21.0111,-20.7397,-20.2071, -19.9262,-19.6538,-19.1206,-18.8476, -18.5756,-18.3044,-17.8952,-17.4851, -17.0763,-16.8039,-16.5302,-16.2593, -15.9737,-15.6988,-15.4327,-15.1557, -14.7414,-14.6007,-14.5368,-14.5415, -14.5418,-14.5407,-14.5406,-14.5415, -14.8176,-15.0933,-15.3694,-15.646, -15.9215,-16.3341,-16.6088,-16.8822, -17.2918,-17.5638,-17.8371,-18.2456, -18.6549,-18.9268,-19.198,-19.6054, -19.8774,-20.1485,-20.4208,-20.8272, -21.3617,-21.6323,-21.9064,-22.3121, -22.5804,-22.8492,-23.1187,-23.3878, -23.7848,-24.1926,-24.4607,-24.7292, -24.9952,-25.2646,-25.6653,-25.9325, -26.2029,-26.6011,-26.8672,-27.1343, -27.5343,-27.9746,-28.134,-28.2268)
FOOTPRINT_POINT_LONGITUDE = (85.9053,85.3353,84.9098,84.491,84.478, 84.4774,84.48,84.4827,84.4859,84.488, 84.4899,84.4917,84.4934,84.495,84.4968, 84.4983,84.4999,84.5014,84.5029,84.5045 ,84.5066,84.5079,84.5097,84.5114, 84.5127,84.5134,84.515,84.5167,84.5184, 84.5187,84.5197,84.5204,84.5223,84.5232 ,84.5235,84.5243,84.5249,84.5254, 84.5264,84.5272,84.5279,84.5283,84.5287 ,84.5289,84.5304,84.5309,84.5304,84.531 ,84.5316,84.5321,84.5322,84.967,85.2908 ,85.8044,85.8168,85.8209,85.8197, 85.8187,85.8173,85.8157,85.8146,85.8135 ,85.8129,85.8132,85.8138,85.815,85.8152 ,85.8165,85.8172,85.8183,85.8199, 85.8218,85.8227,85.8243,85.8249,85.8273 ,85.8366,85.8384,85.8372,85.8399, 85.8436,85.8468,85.8494,85.8522,85.8631 ,85.8632,85.8669,85.8702,85.8762, 85.8785,85.8856,85.8902,85.8911,85.901, 85.9068,85.9116,85.9193,85.9278,85.9305 ,85.9053)
ORBIT_NUMBER = 18785
ORBITAL_ECCENTRICITY = 0.578
ORBITAL_INCLINATION = 86.96
ORBITAL_SEMIMAJOR_AXIS = 8844.55
PERIAPSIS_ALTITUDE = 336.44
PERIAPSIS_ARGUMENT_ANGLE = 342.15
PERIAPSIS_TIME = 2018-11-06T13:18:40.000Z
SPACECRAFT_ORIENTATION = (0.0,1.0,0.0)
^MEX_ORIENTATION_DESC = "MEX_ORIENTATION_DESC.TXT"
SPACECRAFT_POINTING_MODE = INERT
^MEX_POINTING_DESC = "MEX_POINTING_DESC.TXT"
RIGHT_ASCENSION = 71.068
DECLINATION = 38.226
OFFSET_ANGLE = -1e+32
SPACECRAFT_SOLAR_DISTANCE = 2.09392e+08
TARGET_NAME = MARS
/* CAMERA DATA ELEMENTS */
DETECTOR_TEMPERATURE = 19.39
FOCAL_PLANE_TEMPERATURE = 11.8457
INST_CMPRS_NAME = "DISCRETE COSINE TRANSFORMATION (DCT)"
INST_CMPRS_RATIO = 15.7225
INST_CMPRS_QUALITY = 0
INST_CMPRS_QUANTZ_TBL_ID = 0
INSTRUMENT_TEMPERATURE = 13.0691
LENS_TEMPERATURE = 12.0496
MACROPIXEL_SIZE = 4
MISSING_FRAMES = 0
PIXEL_SUBSAMPLING_FLAG = N
SIGNAL_CHAIN_ID = 2
/* RADIOMETRIC DATA ELEMENTS */
BANDWIDTH = 48.0
CENTER_FILTER_WAVELENGTH = 748.0
RADIANCE_OFFSET = 0.784661
RADIANCE_SCALING_FACTOR = 0.00356766
REFLECTANCE_SCALING_FACTOR = 0.000356969
MEX:REFLECTANCE_OFFSET = 0.078511
/* IMAGE OBJECT DEFINITIONS */
OBJECT = IMAGE
  INTERCHANGE_FORMAT = BINARY
  LINES = 16292
  LINE_SAMPLES = 1530
  SAMPLE_TYPE = UNSIGNED_INTEGER
  SAMPLE_BITS = 8
  BANDS = 1
  BAND_STORAGE_TYPE = BAND_SEQUENTIAL
  MAXIMUM = 255
  MEAN = 112.342
  MINIMUM = 1
  STANDARD_DEVIATION = 27.8852
END_OBJECT = IMAGE
/* MAP OBJECT DEFINITIONS */
OBJECT = IMAGE_MAP_PROJECTION
  ^DATA_SET_MAP_PROJECTION_CATALOG= "DSMAP.CAT"
  A_AXIS_RADIUS = 3396.0
  B_AXIS_RADIUS = 3396.0
  C_AXIS_RADIUS = 3396.0
  CENTER_LATITUDE = 0.0
  CENTER_LONGITUDE = 85.0
  COORDINATE_SYSTEM_NAME = PLANETOGRAPHIC
  COORDINATE_SYSTEM_TYPE = "BODY-FIXED ROTATING"
  EASTERNMOST_LONGITUDE = 85.93049999999999
  FIRST_STANDARD_PARALLEL = "N/A"
  LINE_FIRST_PIXEL = 1
  LINE_LAST_PIXEL = 16292
  LINE_PROJECTION_OFFSET = -17174.875
  MAP_PROJECTION_ROTATION = 0.0
  MAP_PROJECTION_TYPE = SINUSOIDAL
  MAP_RESOLUTION = 1185.42760773333
  MAP_SCALE = 0.05
  MAXIMUM_LATITUDE = -14.5368
  MINIMUM_LATITUDE = -28.2268
  POSITIVE_LONGITUDE_DIRECTION = EAST
  REFERENCE_LATITUDE = "N/A"
  REFERENCE_LONGITUDE = "N/A"
  SAMPLE_FIRST_PIXEL = 1
  SAMPLE_LAST_PIXEL = 1530
  SAMPLE_PROJECTION_OFFSET = 638.625
  SECOND_STANDARD_PARALLEL = "N/A"
  WESTERNMOST_LONGITUDE = 84.4774
END_OBJECT = IMAGE_MAP_PROJECTION
END
