PDS_VERSION_ID = PDS3
/* FILE DATA ELEMENTS */
RECORD_TYPE = UNDEFINED
/* POINTERS TO DATA OBJECTS */
^IMAGE = ("HI788_0000_ND4.TIF")
/* IDENTIFICATION DATA ELEMENTS */
DATA_SET_ID = "MEX-M-HRSC-4-REFDR-MAPPROJECT-EXT6-V4.0"
DATA_SET_NAME = "MARS EXPRESS HRSC MAP PROJECTED REFDR EXTENSION6 V4.0"
DETECTOR_ID = MEX_HRSC_NADIR
EVENT_TYPE = "MARS-LOCAL-MAPPING-Im-Lc-La"
INSTRUMENT_HOST_ID = MEX
INSTRUMENT_HOST_NAME = "MARS EXPRESS"
INSTRUMENT_ID = HRSC
INSTRUMENT_NAME = "HIGH RESOLUTION STEREO CAMERA"
MISSION_NAME = "MARS EXPRESS"
MISSION_PHASE_NAME = ME_Phase_39
PROCESSING_LEVEL_ID = 4
PRODUCT_CREATION_TIME = 2023-01-29T14:35:52.000Z
PRODUCT_ID = "HI788_0000_ND4.TIF"
RELEASE_ID = 0005
REVISION_ID = 0000
/* QUALITY DATA ELEMENTS */
DATA_QUALITY_ID = 1
DATA_QUALITY_DESC = "Data calculated based on original SPICE kernels"
/* TIME DATA ELEMENTS */
SPACECRAFT_CLOCK_START_COUNT = "1/0489665771.25700"
SPACECRAFT_CLOCK_STOP_COUNT = "1/0489665956.25839"
START_TIME = 2018-11-07T10:17:11.338Z
STOP_TIME = 2018-11-07T10:19:15.349Z
/* ORBITAL DATA ELEMENTS */
ASCENDING_NODE_LONGITUDE = 221.69
MAXIMUM_RESOLUTION = 0.0138
FOOTPRINT_POINT_LATITUDE = (-11.8357,-11.8153,-11.7986,-11.7873, -11.7711,-11.7704,-11.7711,-11.4338, -11.2634,-11.0088,-10.7578,-10.4201, -10.0819,-9.91249,-9.74289,-9.57336, -9.40416,-9.15051,-8.98061,-8.72589, -8.55573,-8.30103,-8.13049,-7.95977, -7.78865,-7.61594,-7.27832,-7.1076, -6.93727,-6.76641,-6.59739,-6.42162, -6.16077,-5.98939,-5.81847,-5.64106, -5.43964,-5.23379,-5.02568,-4.82051, -4.6166,-4.41577,-4.21476,-3.91063, -3.70526,-3.50316,-3.29781,-2.89049, -2.78626,-2.77413,-2.78331,-2.79962, -2.81445,-2.82941,-2.84703,-2.8477, -2.84832,-3.15573,-3.46014,-3.66452, -3.867,-4.07093,-4.27872,-4.4815, -4.68067,-4.88137,-5.0852,-5.29213, -5.60009,-5.79606,-5.96711,-6.13842, -6.30991,-6.48371,-6.82603,-7.0808, -7.25093,-7.42136,-7.5917,-7.76244, -7.93312,-8.18834,-8.3584,-8.52849, -8.86416,-9.03349,-9.28737,-9.45701, -9.62628,-9.79591,-9.96585,-10.1362, -10.3074,-10.6454,-10.8987,-11.1518, -11.4893,-11.7424,-11.8268,-11.8357)
FOOTPRINT_POINT_LONGITUDE = (138.522,138.122,137.807,137.601, 137.311,137.298,137.294,137.293,137.291 ,137.289,137.29,137.289,137.287,137.286 ,137.285,137.284,137.283,137.281,137.28 ,137.278,137.276,137.274,137.272,137.27 ,137.268,137.265,137.264,137.262,137.26 ,137.258,137.257,137.253,137.248, 137.246,137.244,137.242,137.241,137.238 ,137.234,137.231,137.229,137.228, 137.227,137.224,137.221,137.219,137.216 ,137.212,137.21,137.21,137.425,137.722, 137.978,138.288,138.557,138.57,138.577, 138.574,138.572,138.57,138.569,138.568, 138.564,138.563,138.564,138.564,138.563 ,138.56,138.556,138.554,138.553,138.551 ,138.55,138.546,138.543,138.542,138.541 ,138.539,138.538,138.537,138.535, 138.533,138.532,138.531,138.532,138.532 ,138.531,138.53,138.529,138.528,138.527 ,138.526,138.523,138.522,138.522, 138.521,138.521,138.521,138.52,138.522)
ORBIT_NUMBER = 18788
ORBITAL_ECCENTRICITY = 0.578
ORBITAL_INCLINATION = 86.94
ORBITAL_SEMIMAJOR_AXIS = 8840.75
PERIAPSIS_ALTITUDE = 337.25
PERIAPSIS_ARGUMENT_ANGLE = 341.68
PERIAPSIS_TIME = 2018-11-07T10:15:42.000Z
SPACECRAFT_ORIENTATION = (0.0,1.0,0.0)
^MEX_ORIENTATION_DESC = "MEX_ORIENTATION_DESC.TXT"
SPACECRAFT_POINTING_MODE = INERT
^MEX_POINTING_DESC = "MEX_POINTING_DESC.TXT"
RIGHT_ASCENSION = 70.608
DECLINATION = 38.574
OFFSET_ANGLE = -1e+32
SPACECRAFT_SOLAR_DISTANCE = 2.09484e+08
TARGET_NAME = MARS
/* CAMERA DATA ELEMENTS */
DETECTOR_TEMPERATURE = 18.9822
FOCAL_PLANE_TEMPERATURE = 11.4379
INST_CMPRS_NAME = "DISCRETE COSINE TRANSFORMATION (DCT)"
INST_CMPRS_RATIO = 6.32901
INST_CMPRS_QUALITY = 0
INST_CMPRS_QUANTZ_TBL_ID = 0
INSTRUMENT_TEMPERATURE = 12.2535
LENS_TEMPERATURE = 11.8457
MACROPIXEL_SIZE = 1
MISSING_FRAMES = 0
PIXEL_SUBSAMPLING_FLAG = N
SIGNAL_CHAIN_ID = 0
/* RADIOMETRIC DATA ELEMENTS */
BANDWIDTH = 177.0
CENTER_FILTER_WAVELENGTH = 677.5
RADIANCE_OFFSET = 2.41977
RADIANCE_SCALING_FACTOR = 0.0119979
REFLECTANCE_SCALING_FACTOR = 0.000279699
MEX:REFLECTANCE_OFFSET = 0.0564102
/* IMAGE OBJECT DEFINITIONS */
OBJECT = IMAGE
  INTERCHANGE_FORMAT = BINARY
  LINES = 42968
  LINE_SAMPLES = 6471
  SAMPLE_TYPE = UNSIGNED_INTEGER
  SAMPLE_BITS = 8
  BANDS = 1
  BAND_STORAGE_TYPE = BAND_SEQUENTIAL
  MAXIMUM = 255
  MEAN = 96.6588
  MINIMUM = 1
  STANDARD_DEVIATION = 44.1367
END_OBJECT = IMAGE
/* MAP OBJECT DEFINITIONS */
OBJECT = IMAGE_MAP_PROJECTION
  ^DATA_SET_MAP_PROJECTION_CATALOG= "DSMAP.CAT"
  A_AXIS_RADIUS = 3396.0
  B_AXIS_RADIUS = 3396.0
  C_AXIS_RADIUS = 3396.0
  CENTER_LATITUDE = 0.0
  CENTER_LONGITUDE = 138.0
  COORDINATE_SYSTEM_NAME = PLANETOGRAPHIC
  COORDINATE_SYSTEM_TYPE = "BODY-FIXED ROTATING"
  EASTERNMOST_LONGITUDE = 138.577
  FIRST_STANDARD_PARALLEL = "N/A"
  LINE_FIRST_PIXEL = 1
  LINE_LAST_PIXEL = 42968
  LINE_PROJECTION_OFFSET = -13160.0
  MAP_PROJECTION_ROTATION = 0.0
  MAP_PROJECTION_TYPE = SINUSOIDAL
  MAP_RESOLUTION = 4741.71043093333
  MAP_SCALE = 0.0125
  MAXIMUM_LATITUDE = -2.77413
  MINIMUM_LATITUDE = -11.8357
  POSITIVE_LONGITUDE_DIRECTION = EAST
  REFERENCE_LATITUDE = "N/A"
  REFERENCE_LONGITUDE = "N/A"
  SAMPLE_FIRST_PIXEL = 1
  SAMPLE_LAST_PIXEL = 6471
  SAMPLE_PROJECTION_OFFSET = 3741.0
  SECOND_STANDARD_PARALLEL = "N/A"
  WESTERNMOST_LONGITUDE = 137.21
END_OBJECT = IMAGE_MAP_PROJECTION
END
