PDS_VERSION_ID = PDS3
/* FILE DATA ELEMENTS */
RECORD_TYPE = UNDEFINED
/* POINTERS TO DATA OBJECTS */
^IMAGE = ("HI789_0000_BL4.TIF")
/* IDENTIFICATION DATA ELEMENTS */
DATA_SET_ID = "MEX-M-HRSC-4-REFDR-MAPPROJECT-EXT6-V4.0"
DATA_SET_NAME = "MARS EXPRESS HRSC MAP PROJECTED REFDR EXTENSION6 V4.0"
DETECTOR_ID = MEX_HRSC_BLUE
EVENT_TYPE = "MARS-REGIONAL-MAPPING-Im-Gl-Eo"
INSTRUMENT_HOST_ID = MEX
INSTRUMENT_HOST_NAME = "MARS EXPRESS"
INSTRUMENT_ID = HRSC
INSTRUMENT_NAME = "HIGH RESOLUTION STEREO CAMERA"
MISSION_NAME = "MARS EXPRESS"
MISSION_PHASE_NAME = ME_Phase_39
PROCESSING_LEVEL_ID = 4
PRODUCT_CREATION_TIME = 2023-01-29T14:35:52.000Z
PRODUCT_ID = "HI789_0000_BL4.TIF"
RELEASE_ID = 0005
REVISION_ID = 0000
/* QUALITY DATA ELEMENTS */
DATA_QUALITY_ID = 1
DATA_QUALITY_DESC = "Data calculated based on original SPICE kernels"
/* TIME DATA ELEMENTS */
SPACECRAFT_CLOCK_START_COUNT = "1/0489690449.24898"
SPACECRAFT_CLOCK_STOP_COUNT = "1/0489690702.23912"
START_TIME = 2018-11-07T17:08:33.505Z
STOP_TIME = 2018-11-07T17:11:36.915Z
/* ORBITAL DATA ELEMENTS */
ASCENDING_NODE_LONGITUDE = 221.68
MAXIMUM_RESOLUTION = 0.0596
FOOTPRINT_POINT_LATITUDE = (-42.7434,-42.7466,-42.7474,-42.7473, -42.7463,-42.742,-42.7418,-42.7547, -42.4614,-42.1715,-41.8818,-41.5936, -41.3105,-40.8858,-40.6048,-40.3286, -40.0526,-39.7765,-39.504,-39.2348, -38.9655,-38.696,-38.429,-38.035, -37.7723,-37.3784,-37.122,-36.7382, -36.4822,-36.0983,-35.8486,-35.5993, -35.35,-35.1007,-34.8513,-34.3625, -33.8769,-33.3914,-32.906,-32.663, -32.4201,-32.0557,-31.6913,-31.4479, -31.0839,-30.7176,-30.4745,-29.9909, -29.8695,-29.8048,-29.8062,-29.8053, -29.8006,-29.8004,-29.8015,-30.1668, -30.4107,-30.7748,-31.0178,-31.261, -31.504,-31.8683,-32.1115,-32.3542, -32.5971,-32.9617,-33.2047,-33.4479, -33.6909,-34.0551,-34.298,-34.5405, -34.9097,-35.1591,-35.4085,-35.7827, -36.0322,-36.4148,-36.6708,-37.055, -37.3112,-37.7038,-37.9661,-38.229, -38.4919,-38.8953,-39.1647,-39.4339, -39.7047,-40.1189,-40.3952,-40.6717, -40.9543,-41.2373,-41.5206,-41.8072, -42.0971,-42.5318,-42.6785,-42.7434)
FOOTPRINT_POINT_LONGITUDE = (39.0757,38.4975,38.1499,37.8081, 37.4725,36.8168,36.7967,36.8145,36.8122 ,36.8097,36.8071,36.8046,36.8019, 36.7976,36.7951,36.7927,36.7905,36.7881 ,36.7856,36.7841,36.7819,36.7791, 36.7767,36.7734,36.7709,36.767,36.7649, 36.7629,36.7609,36.7576,36.7555,36.7526 ,36.7497,36.7485,36.7466,36.7438,36.74, 36.7361,36.7315,36.7301,36.7286,36.726, 36.7235,36.7228,36.7193,36.7199,36.7182 ,36.7105,36.7095,36.7091,37.2454, 37.5973,38.2684,38.284,38.2892,38.3026, 38.3101,38.3284,38.3401,38.3505,38.3619 ,38.3811,38.3918,38.4054,38.4181, 38.4358,38.4475,38.4583,38.47,38.4915, 38.5042,38.5238,38.5421,38.5584,38.5735 ,38.5937,38.6108,38.6373,38.6511, 38.6827,38.7009,38.7266,38.7373,38.7598 ,38.7803,38.8114,38.8321,38.85,38.8709, 38.9049,38.9289,38.9534,38.9771,39.0021 ,39.0286,39.0548,39.082,39.122,39.1353, 39.0757)
ORBIT_NUMBER = 18789
ORBITAL_ECCENTRICITY = 0.578
ORBITAL_INCLINATION = 86.94
ORBITAL_SEMIMAJOR_AXIS = 8843.12
PERIAPSIS_ALTITUDE = 336.88
PERIAPSIS_ARGUMENT_ANGLE = 341.5
PERIAPSIS_TIME = 2018-11-07T17:14:41.000Z
SPACECRAFT_ORIENTATION = (0.0,1.0,0.0)
^MEX_ORIENTATION_DESC = "MEX_ORIENTATION_DESC.TXT"
SPACECRAFT_POINTING_MODE = INERT
^MEX_POINTING_DESC = "MEX_POINTING_DESC.TXT"
RIGHT_ASCENSION = 70.468
DECLINATION = 38.693
OFFSET_ANGLE = -1e+32
SPACECRAFT_SOLAR_DISTANCE = 2.09514e+08
TARGET_NAME = MARS
/* CAMERA DATA ELEMENTS */
DETECTOR_TEMPERATURE = 18.5744
FOCAL_PLANE_TEMPERATURE = 11.234
INST_CMPRS_NAME = "DISCRETE COSINE TRANSFORMATION (DCT)"
INST_CMPRS_RATIO = 6.45276
INST_CMPRS_QUALITY = 0
INST_CMPRS_QUANTZ_TBL_ID = 0
INSTRUMENT_TEMPERATURE = 12.4574
LENS_TEMPERATURE = 11.234
MACROPIXEL_SIZE = 4
MISSING_FRAMES = 0
PIXEL_SUBSAMPLING_FLAG = N
SIGNAL_CHAIN_ID = 2
/* RADIOMETRIC DATA ELEMENTS */
BANDWIDTH = 76.0
CENTER_FILTER_WAVELENGTH = 444.0
RADIANCE_OFFSET = 0.548618
RADIANCE_SCALING_FACTOR = 0.00138603
REFLECTANCE_SCALING_FACTOR = 6.25105e-05
MEX:REFLECTANCE_OFFSET = 0.024743
/* IMAGE OBJECT DEFINITIONS */
OBJECT = IMAGE
  INTERCHANGE_FORMAT = BINARY
  LINES = 15377
  LINE_SAMPLES = 2344
  SAMPLE_TYPE = UNSIGNED_INTEGER
  SAMPLE_BITS = 8
  BANDS = 1
  BAND_STORAGE_TYPE = BAND_SEQUENTIAL
  MAXIMUM = 255
  MEAN = 163.561
  MINIMUM = 1
  STANDARD_DEVIATION = 21.5349
END_OBJECT = IMAGE
/* MAP OBJECT DEFINITIONS */
OBJECT = IMAGE_MAP_PROJECTION
  ^DATA_SET_MAP_PROJECTION_CATALOG= "DSMAP.CAT"
  A_AXIS_RADIUS = 3396.0
  B_AXIS_RADIUS = 3396.0
  C_AXIS_RADIUS = 3396.0
  CENTER_LATITUDE = 0.0
  CENTER_LONGITUDE = 38.0
  COORDINATE_SYSTEM_NAME = PLANETOGRAPHIC
  COORDINATE_SYSTEM_TYPE = "BODY-FIXED ROTATING"
  EASTERNMOST_LONGITUDE = 39.1353
  FIRST_STANDARD_PARALLEL = "N/A"
  LINE_FIRST_PIXEL = 1
  LINE_LAST_PIXEL = 15377
  LINE_PROJECTION_OFFSET = -35330.375
  MAP_PROJECTION_ROTATION = 0.0
  MAP_PROJECTION_TYPE = SINUSOIDAL
  MAP_RESOLUTION = 1185.42760773333
  MAP_SCALE = 0.05
  MAXIMUM_LATITUDE = -29.8004
  MINIMUM_LATITUDE = -42.7547
  POSITIVE_LONGITUDE_DIRECTION = EAST
  REFERENCE_LATITUDE = "N/A"
  REFERENCE_LONGITUDE = "N/A"
  SAMPLE_FIRST_PIXEL = 1
  SAMPLE_LAST_PIXEL = 2344
  SAMPLE_PROJECTION_OFFSET = 1351.375
  SECOND_STANDARD_PARALLEL = "N/A"
  WESTERNMOST_LONGITUDE = 36.7091
END_OBJECT = IMAGE_MAP_PROJECTION
END
