PDS_VERSION_ID = PDS3
/* FILE DATA ELEMENTS */
RECORD_TYPE = UNDEFINED
/* POINTERS TO DATA OBJECTS */
^IMAGE = ("HI789_0000_ND4.TIF")
/* IDENTIFICATION DATA ELEMENTS */
DATA_SET_ID = "MEX-M-HRSC-4-REFDR-MAPPROJECT-EXT6-V4.0"
DATA_SET_NAME = "MARS EXPRESS HRSC MAP PROJECTED REFDR EXTENSION6 V4.0"
DETECTOR_ID = MEX_HRSC_NADIR
EVENT_TYPE = "MARS-REGIONAL-MAPPING-Im-Gl-Eo"
INSTRUMENT_HOST_ID = MEX
INSTRUMENT_HOST_NAME = "MARS EXPRESS"
INSTRUMENT_ID = HRSC
INSTRUMENT_NAME = "HIGH RESOLUTION STEREO CAMERA"
MISSION_NAME = "MARS EXPRESS"
MISSION_PHASE_NAME = ME_Phase_39
PROCESSING_LEVEL_ID = 4
PRODUCT_CREATION_TIME = 2023-01-29T14:35:52.000Z
PRODUCT_ID = "HI789_0000_ND4.TIF"
RELEASE_ID = 0005
REVISION_ID = 0000
/* QUALITY DATA ELEMENTS */
DATA_QUALITY_ID = 1
DATA_QUALITY_DESC = "Data calculated based on original SPICE kernels"
/* TIME DATA ELEMENTS */
SPACECRAFT_CLOCK_START_COUNT = "1/0489690449.24898"
SPACECRAFT_CLOCK_STOP_COUNT = "1/0489690702.23912"
START_TIME = 2018-11-07T17:08:40.097Z
STOP_TIME = 2018-11-07T17:11:42.080Z
/* ORBITAL DATA ELEMENTS */
ASCENDING_NODE_LONGITUDE = 221.68
MAXIMUM_RESOLUTION = 0.0148
FOOTPRINT_POINT_LATITUDE = (-42.7526,-42.7503,-42.7473,-42.7435, -42.7388,-42.7333,-42.7271,-42.7266, -42.7473,-42.4543,-42.0162,-41.7295, -41.4431,-41.0155,-40.7359,-40.4563, -40.1771,-39.9022,-39.6297,-39.3572, -39.0854,-38.6831,-38.4176,-38.1522, -37.8867,-37.625,-37.3662,-37.1077, -36.8497,-36.5913,-36.3367,-36.085, -35.8332,-35.5813,-35.2037,-34.9568, -34.7119,-34.3448,-34.0999,-33.6103, -33.1207,-32.5088,-32.0193,-31.6522, -31.1628,-30.9176,-30.428,-29.9396, -29.8172,-29.8032,-29.8135,-29.8175, -29.8195,-29.8196,-29.8199,-30.1875, -30.4326,-30.6773,-31.0446,-31.2894, -31.5343,-31.9016,-32.1465,-32.3914, -32.7588,-33.0037,-33.2486,-33.4935, -33.8609,-34.2285,-34.4738,-34.719, -34.9638,-35.3367,-35.5885,-35.9661, -36.218,-36.4699,-36.7274,-36.9866, -37.2459,-37.5045,-37.7632,-38.1598, -38.4258,-38.6917,-38.9575,-39.2298, -39.6379,-39.9102,-40.1855,-40.4655, -40.8851,-41.1654,-41.4523,-41.8826, -42.1706,-42.6109,-42.7574,-42.7526)
FOOTPRINT_POINT_LONGITUDE = (39.0724,38.5971,38.2251,37.86,37.5019, 37.1499,36.8036,36.7822,36.7944,36.7923 ,36.7883,36.7856,36.783,36.7784,36.7758 ,36.7731,36.7708,36.7684,36.7659, 36.7635,36.7619,36.7578,36.7555,36.7532 ,36.7507,36.748,36.7455,36.7433,36.7422 ,36.7402,36.7376,36.7357,36.7335, 36.7305,36.7267,36.7253,36.7229,36.7214 ,36.7193,36.7156,36.7115,36.7065,36.703 ,36.7004,36.6969,36.6977,36.6942, 36.6868,36.6859,36.6858,37.4072,37.8652 ,38.2398,38.2563,38.2644,38.2776, 38.2856,38.2985,38.3154,38.3274,38.3393 ,38.3568,38.3702,38.3843,38.4016, 38.4158,38.4277,38.4393,38.4565,38.4806 ,38.5001,38.5151,38.5259,38.5507, 38.5657,38.5888,38.6049,38.6215,38.638, 38.6593,38.6808,38.6978,38.7157,38.7402 ,38.7619,38.7831,38.804,38.8251,38.8547 ,38.8755,38.9007,38.9261,38.9627, 38.9877,39.0149,39.0552,39.0832,39.1246 ,39.1376,39.0724)
ORBIT_NUMBER = 18789
ORBITAL_ECCENTRICITY = 0.578
ORBITAL_INCLINATION = 86.94
ORBITAL_SEMIMAJOR_AXIS = 8843.12
PERIAPSIS_ALTITUDE = 336.88
PERIAPSIS_ARGUMENT_ANGLE = 341.5
PERIAPSIS_TIME = 2018-11-07T17:14:41.000Z
SPACECRAFT_ORIENTATION = (0.0,1.0,0.0)
^MEX_ORIENTATION_DESC = "MEX_ORIENTATION_DESC.TXT"
SPACECRAFT_POINTING_MODE = INERT
^MEX_POINTING_DESC = "MEX_POINTING_DESC.TXT"
RIGHT_ASCENSION = 70.468
DECLINATION = 38.693
OFFSET_ANGLE = -1e+32
SPACECRAFT_SOLAR_DISTANCE = 2.09514e+08
TARGET_NAME = MARS
/* CAMERA DATA ELEMENTS */
DETECTOR_TEMPERATURE = 18.5744
FOCAL_PLANE_TEMPERATURE = 11.234
INST_CMPRS_NAME = "DISCRETE COSINE TRANSFORMATION (DCT)"
INST_CMPRS_RATIO = 6.49223
INST_CMPRS_QUALITY = 0
INST_CMPRS_QUANTZ_TBL_ID = 0
INSTRUMENT_TEMPERATURE = 12.4574
LENS_TEMPERATURE = 11.234
MACROPIXEL_SIZE = 1
MISSING_FRAMES = 0
PIXEL_SUBSAMPLING_FLAG = N
SIGNAL_CHAIN_ID = 0
/* RADIOMETRIC DATA ELEMENTS */
BANDWIDTH = 177.0
CENTER_FILTER_WAVELENGTH = 677.5
RADIANCE_OFFSET = 2.92098
RADIANCE_SCALING_FACTOR = 0.0152229
REFLECTANCE_SCALING_FACTOR = 0.000354983
MEX:REFLECTANCE_OFFSET = 0.0681145
/* IMAGE OBJECT DEFINITIONS */
OBJECT = IMAGE
  INTERCHANGE_FORMAT = BINARY
  LINES = 61505
  LINE_SAMPLES = 9374
  SAMPLE_TYPE = UNSIGNED_INTEGER
  SAMPLE_BITS = 8
  BANDS = 1
  BAND_STORAGE_TYPE = BAND_SEQUENTIAL
  MAXIMUM = 255
  MEAN = 141.662
  MINIMUM = 1
  STANDARD_DEVIATION = 36.9998
END_OBJECT = IMAGE
/* MAP OBJECT DEFINITIONS */
OBJECT = IMAGE_MAP_PROJECTION
  ^DATA_SET_MAP_PROJECTION_CATALOG= "DSMAP.CAT"
  A_AXIS_RADIUS = 3396.0
  B_AXIS_RADIUS = 3396.0
  C_AXIS_RADIUS = 3396.0
  CENTER_LATITUDE = 0.0
  CENTER_LONGITUDE = 38.0
  COORDINATE_SYSTEM_NAME = PLANETOGRAPHIC
  COORDINATE_SYSTEM_TYPE = "BODY-FIXED ROTATING"
  EASTERNMOST_LONGITUDE = 39.1376
  FIRST_STANDARD_PARALLEL = "N/A"
  LINE_FIRST_PIXEL = 1
  LINE_LAST_PIXEL = 61505
  LINE_PROJECTION_OFFSET = -141320.0
  MAP_PROJECTION_ROTATION = 0.0
  MAP_PROJECTION_TYPE = SINUSOIDAL
  MAP_RESOLUTION = 4741.71043093333
  MAP_SCALE = 0.0125
  MAXIMUM_LATITUDE = -29.8032
  MINIMUM_LATITUDE = -42.7574
  POSITIVE_LONGITUDE_DIRECTION = EAST
  REFERENCE_LATITUDE = "N/A"
  REFERENCE_LONGITUDE = "N/A"
  SAMPLE_FIRST_PIXEL = 1
  SAMPLE_LAST_PIXEL = 9374
  SAMPLE_PROJECTION_OFFSET = 5407.0
  SECOND_STANDARD_PARALLEL = "N/A"
  WESTERNMOST_LONGITUDE = 36.6858
END_OBJECT = IMAGE_MAP_PROJECTION
END
