PDS_VERSION_ID = PDS3
/* FILE DATA ELEMENTS */
RECORD_TYPE = UNDEFINED
/* POINTERS TO DATA OBJECTS */
^IMAGE = ("HI792_0000_S14.TIF")
/* IDENTIFICATION DATA ELEMENTS */
DATA_SET_ID = "MEX-M-HRSC-4-REFDR-MAPPROJECT-EXT6-V4.0"
DATA_SET_NAME = "MARS EXPRESS HRSC MAP PROJECTED REFDR EXTENSION6 V4.0"
DETECTOR_ID = MEX_HRSC_S1
EVENT_TYPE = "MARS-REGIONAL-MAPPING-Vo-Im-Fl"
INSTRUMENT_HOST_ID = MEX
INSTRUMENT_HOST_NAME = "MARS EXPRESS"
INSTRUMENT_ID = HRSC
INSTRUMENT_NAME = "HIGH RESOLUTION STEREO CAMERA"
MISSION_NAME = "MARS EXPRESS"
MISSION_PHASE_NAME = ME_Phase_39
PROCESSING_LEVEL_ID = 4
PRODUCT_CREATION_TIME = 2023-01-29T14:35:52.000Z
PRODUCT_ID = "HI792_0000_S14.TIF"
RELEASE_ID = 0005
REVISION_ID = 0000
/* QUALITY DATA ELEMENTS */
DATA_QUALITY_ID = 1
DATA_QUALITY_DESC = "Data calculated based on original SPICE kernels"
/* TIME DATA ELEMENTS */
SPACECRAFT_CLOCK_START_COUNT = "1/0489766415.25703"
SPACECRAFT_CLOCK_STOP_COUNT = "1/0489766624.25083"
START_TIME = 2018-11-08T14:15:06.509Z
STOP_TIME = 2018-11-08T14:17:33.880Z
/* ORBITAL DATA ELEMENTS */
ASCENDING_NODE_LONGITUDE = 221.62
MAXIMUM_RESOLUTION = 0.0303
FOOTPRINT_POINT_LATITUDE = (-6.85526,-6.85722,-6.85824,-6.85933, -6.86048,-6.86214,-6.86222,-6.85177, -6.65447,-6.45814,-6.16431,-5.86744, -5.6715,-5.47502,-5.27879,-4.88673, -4.59466,-4.39771,-4.10281,-3.90634, -3.71019,-3.41773,-3.02578,-2.73243, -2.34081,-2.13968,-1.93881,-1.73748, -1.43661,-1.23596,-1.03113,-0.824833, -0.51794,-0.311528,-0.104604,0.105903, 0.421648,0.632161,0.84294,1.05739, 1.27375,1.49082,1.70553,1.92227,2.1441, 2.47705,2.69688,2.92166,3.26087,3.37369 ,3.403,3.40513,3.40654,3.40791,3.40882, 3.40981,3.40987,3.40925,3.06952,2.73156 ,2.51202,2.29056,2.0678,1.84728,1.63169 ,1.41786,1.20129,0.876142,0.664795, 0.453845,0.243086,0.0325859,-0.177071, -0.381778,-0.691606,-0.89805,-1.10192, -1.30448,-1.60442,-1.80628,-2.00732, -2.3093,-2.50628,-2.89671,-3.19155, -3.38847,-3.77852,-4.2675,-4.46384, -4.66131,-4.95682,-5.34598,-5.73779, -5.93831,-6.13745,-6.3348,-6.53196, -6.72822,-6.82604,-6.85526)
FOOTPRINT_POINT_LONGITUDE = (88.9507,88.5585,88.3591,88.1576, 87.9538,87.6695,87.6565,87.6655,87.6627 ,87.6586,87.6514,87.6485,87.6437, 87.6397,87.6353,87.6259,87.6156,87.6123 ,87.6065,87.6025,87.5979,87.5879, 87.5779,87.5694,87.5579,87.5526,87.5466 ,87.5417,87.5319,87.5255,87.5196, 87.5139,87.4988,87.4934,87.4891,87.4802 ,87.4667,87.4576,87.4491,87.441,87.4334 ,87.4286,87.4144,87.4043,87.3972, 87.3881,87.3708,87.3644,87.3449,87.3363 ,87.3351,87.7122,87.9794,88.3437, 88.5887,88.8312,88.8454,88.8505,88.8552 ,88.8597,88.8643,88.8668,88.8681, 88.8706,88.8736,88.8779,88.88,88.8823, 88.8844,88.8868,88.8893,88.8919,88.8939 ,88.8967,88.8994,88.9013,88.9044, 88.9065,88.91,88.9115,88.9134,88.916, 88.9177,88.9218,88.924,88.9253,88.9295, 88.934,88.9355,88.9367,88.9386,88.9428, 88.9461,88.9462,88.9469,88.9481,88.9493 ,88.9508,88.9516,88.9507)
ORBIT_NUMBER = 18792
ORBITAL_ECCENTRICITY = 0.578
ORBITAL_INCLINATION = 86.95
ORBITAL_SEMIMAJOR_AXIS = 8843.53
PERIAPSIS_ALTITUDE = 335.84
PERIAPSIS_ARGUMENT_ANGLE = 340.95
PERIAPSIS_TIME = 2018-11-08T14:11:40.000Z
SPACECRAFT_ORIENTATION = (0.0,1.0,0.0)
^MEX_ORIENTATION_DESC = "MEX_ORIENTATION_DESC.TXT"
SPACECRAFT_POINTING_MODE = INERT
^MEX_POINTING_DESC = "MEX_POINTING_DESC.TXT"
RIGHT_ASCENSION = 69.954
DECLINATION = 39.1
OFFSET_ANGLE = -1e+32
SPACECRAFT_SOLAR_DISTANCE = 2.09607e+08
TARGET_NAME = MARS
/* CAMERA DATA ELEMENTS */
DETECTOR_TEMPERATURE = 17.5549
FOCAL_PLANE_TEMPERATURE = 10.6223
INST_CMPRS_NAME = "DISCRETE COSINE TRANSFORMATION (DCT)"
INST_CMPRS_RATIO = 7.8582
INST_CMPRS_QUALITY = 0
INST_CMPRS_QUANTZ_TBL_ID = 0
INSTRUMENT_TEMPERATURE = 12.0496
LENS_TEMPERATURE = 11.234
MACROPIXEL_SIZE = 2
MISSING_FRAMES = 0
PIXEL_SUBSAMPLING_FLAG = N
SIGNAL_CHAIN_ID = 1
/* RADIOMETRIC DATA ELEMENTS */
BANDWIDTH = 180.0
CENTER_FILTER_WAVELENGTH = 677.0
RADIANCE_OFFSET = 2.94431
RADIANCE_SCALING_FACTOR = 0.0120909
REFLECTANCE_SCALING_FACTOR = 0.000277151
MEX:REFLECTANCE_OFFSET = 0.0674901
/* IMAGE OBJECT DEFINITIONS */
OBJECT = IMAGE
  INTERCHANGE_FORMAT = BINARY
  LINES = 24604
  LINE_SAMPLES = 3976
  SAMPLE_TYPE = UNSIGNED_INTEGER
  SAMPLE_BITS = 8
  BANDS = 1
  BAND_STORAGE_TYPE = BAND_SEQUENTIAL
  MAXIMUM = 255
  MEAN = 128.61
  MINIMUM = 1
  STANDARD_DEVIATION = 29.7704
END_OBJECT = IMAGE
/* MAP OBJECT DEFINITIONS */
OBJECT = IMAGE_MAP_PROJECTION
  ^DATA_SET_MAP_PROJECTION_CATALOG= "DSMAP.CAT"
  A_AXIS_RADIUS = 3396.0
  B_AXIS_RADIUS = 3396.0
  C_AXIS_RADIUS = 3396.0
  CENTER_LATITUDE = 0.0
  CENTER_LONGITUDE = 88.0
  COORDINATE_SYSTEM_NAME = PLANETOGRAPHIC
  COORDINATE_SYSTEM_TYPE = "BODY-FIXED ROTATING"
  EASTERNMOST_LONGITUDE = 88.9516
  FIRST_STANDARD_PARALLEL = "N/A"
  LINE_FIRST_PIXEL = 1
  LINE_LAST_PIXEL = 24604
  LINE_PROJECTION_OFFSET = 8234.25
  MAP_PROJECTION_ROTATION = 0.0
  MAP_PROJECTION_TYPE = SINUSOIDAL
  MAP_RESOLUTION = 2370.85521546667
  MAP_SCALE = 0.025
  MAXIMUM_LATITUDE = 3.40987
  MINIMUM_LATITUDE = -6.86222
  POSITIVE_LONGITUDE_DIRECTION = EAST
  REFERENCE_LATITUDE = "N/A"
  REFERENCE_LONGITUDE = "N/A"
  SAMPLE_FIRST_PIXEL = 1
  SAMPLE_LAST_PIXEL = 3976
  SAMPLE_PROJECTION_OFFSET = 1499.25
  SECOND_STANDARD_PARALLEL = "N/A"
  WESTERNMOST_LONGITUDE = 87.3351
END_OBJECT = IMAGE_MAP_PROJECTION
END
