PDS_VERSION_ID = PDS3
/* FILE DATA ELEMENTS */
RECORD_TYPE = UNDEFINED
/* POINTERS TO DATA OBJECTS */
^IMAGE = ("HI802_0000_P24.TIF")
/* IDENTIFICATION DATA ELEMENTS */
DATA_SET_ID = "MEX-M-HRSC-4-REFDR-MAPPROJECT-EXT6-V4.0"
DATA_SET_NAME = "MARS EXPRESS HRSC MAP PROJECTED REFDR EXTENSION6 V4.0"
DETECTOR_ID = MEX_HRSC_P2
EVENT_TYPE = "MARS-REGIONAL-MAPPING-Vo-Im-Fl"
INSTRUMENT_HOST_ID = MEX
INSTRUMENT_HOST_NAME = "MARS EXPRESS"
INSTRUMENT_ID = HRSC
INSTRUMENT_NAME = "HIGH RESOLUTION STEREO CAMERA"
MISSION_NAME = "MARS EXPRESS"
MISSION_PHASE_NAME = ME_Phase_39
PROCESSING_LEVEL_ID = 4
PRODUCT_CREATION_TIME = 2023-01-29T14:35:52.000Z
PRODUCT_ID = "HI802_0000_P24.TIF"
RELEASE_ID = 0005
REVISION_ID = 0000
/* QUALITY DATA ELEMENTS */
DATA_QUALITY_ID = 1
DATA_QUALITY_DESC = "Data calculated based on original SPICE kernels"
/* TIME DATA ELEMENTS */
SPACECRAFT_CLOCK_START_COUNT = "1/0490017637.24930"
SPACECRAFT_CLOCK_STOP_COUNT = "1/0490017845.23300"
START_TIME = 2018-11-11T12:01:17.984Z
STOP_TIME = 2018-11-11T12:03:47.238Z
/* ORBITAL DATA ELEMENTS */
ASCENDING_NODE_LONGITUDE = 221.43
MAXIMUM_RESOLUTION = 0.0275
FOOTPRINT_POINT_LATITUDE = (-21.2798,-21.2621,-21.2345,-21.2144, -21.2137,-21.2094,-20.9992,-20.6839, -20.4739,-20.2633,-19.9475,-19.6294, -19.3127,-19.1016,-18.8903,-18.6776, -18.3598,-17.9417,-17.7299,-17.5133, -17.1929,-16.7728,-16.5601,-16.347, -16.0278,-15.8147,-15.6012,-15.3832, -15.1636,-14.8331,-14.5029,-14.2827, -14.0619,-13.8413,-13.5097,-13.1773, -12.8434,-12.5091,-12.1738,-11.8389, -11.6153,-11.3907,-11.1667,-10.9421, -10.7159,-10.4901,-10.3767,-10.3444, -10.3589,-10.376,-10.396,-10.4126, -10.4131,-10.4138,-10.6386,-10.8639, -11.1996,-11.4233,-11.6437,-11.8693, -12.0967,-12.3199,-12.5428,-12.877, -13.099,-13.3208,-13.5427,-13.764, -14.0954,-14.3159,-14.5361,-14.8658, -15.0856,-15.3065,-15.5283,-15.7422, -15.9569,-16.171,-16.3845,-16.8028, -17.0153,-17.2277,-17.4399,-17.6521, -17.865,-18.0795,-18.2933,-18.5041, -18.716,-18.9264,-19.1371,-19.5581, -19.771,-20.1927,-20.5074,-20.7183, -20.9287,-21.1392,-21.2445,-21.2798)
FOOTPRINT_POINT_LONGITUDE = (148.781,148.419,147.9,147.55,147.538, 147.532,147.534,147.537,147.539,147.54, 147.542,147.544,147.546,147.547,147.548 ,147.548,147.549,147.553,147.553, 147.552,147.552,147.554,147.555,147.555 ,147.555,147.555,147.555,147.554, 147.554,147.554,147.553,147.553,147.553 ,147.552,147.552,147.55,147.549,147.547 ,147.545,147.543,147.542,147.54,147.539 ,147.537,147.535,147.533,147.532, 147.532,147.783,148.084,148.486,148.813 ,148.826,148.83,148.828,148.826,148.823 ,148.822,148.821,148.819,148.816, 148.814,148.812,148.81,148.809,148.808, 148.806,148.805,148.804,148.803,148.802 ,148.801,148.801,148.8,148.798,148.797, 148.796,148.794,148.793,148.795,148.794 ,148.794,148.793,148.792,148.791, 148.789,148.788,148.788,148.787,148.787 ,148.787,148.787,148.786,148.785, 148.785,148.785,148.785,148.785,148.785 ,148.781)
ORBIT_NUMBER = 18802
ORBITAL_ECCENTRICITY = 0.578
ORBITAL_INCLINATION = 86.94
ORBITAL_SEMIMAJOR_AXIS = 8836.48
PERIAPSIS_ALTITUDE = 336.29
PERIAPSIS_ARGUMENT_ANGLE = 339.28
PERIAPSIS_TIME = 2018-11-11T12:01:44.000Z
SPACECRAFT_ORIENTATION = (0.0,1.0,0.0)
^MEX_ORIENTATION_DESC = "MEX_ORIENTATION_DESC.TXT"
SPACECRAFT_POINTING_MODE = INERT
^MEX_POINTING_DESC = "MEX_POINTING_DESC.TXT"
RIGHT_ASCENSION = 68.403
DECLINATION = 40.244
OFFSET_ANGLE = -1e+32
SPACECRAFT_SOLAR_DISTANCE = 2.09928e+08
TARGET_NAME = MARS
/* CAMERA DATA ELEMENTS */
DETECTOR_TEMPERATURE = 19.39
FOCAL_PLANE_TEMPERATURE = 10.2145
INST_CMPRS_NAME = "DISCRETE COSINE TRANSFORMATION (DCT)"
INST_CMPRS_RATIO = 6.41682
INST_CMPRS_QUALITY = 0
INST_CMPRS_QUANTZ_TBL_ID = 0
INSTRUMENT_TEMPERATURE = 11.8457
LENS_TEMPERATURE = 10.4184
MACROPIXEL_SIZE = 2
MISSING_FRAMES = 0
PIXEL_SUBSAMPLING_FLAG = N
SIGNAL_CHAIN_ID = 3
/* RADIOMETRIC DATA ELEMENTS */
BANDWIDTH = 177.0
CENTER_FILTER_WAVELENGTH = 676.5
RADIANCE_OFFSET = 2.76248
RADIANCE_SCALING_FACTOR = 0.0182124
REFLECTANCE_SCALING_FACTOR = 0.000425562
MEX:REFLECTANCE_OFFSET = 0.0645497
/* IMAGE OBJECT DEFINITIONS */
OBJECT = IMAGE
  INTERCHANGE_FORMAT = BINARY
  LINES = 25900
  LINE_SAMPLES = 2961
  SAMPLE_TYPE = UNSIGNED_INTEGER
  SAMPLE_BITS = 8
  BANDS = 1
  BAND_STORAGE_TYPE = BAND_SEQUENTIAL
  MAXIMUM = 255
  MEAN = 115.347
  MINIMUM = 1
  STANDARD_DEVIATION = 35.177
END_OBJECT = IMAGE
/* MAP OBJECT DEFINITIONS */
OBJECT = IMAGE_MAP_PROJECTION
  ^DATA_SET_MAP_PROJECTION_CATALOG= "DSMAP.CAT"
  A_AXIS_RADIUS = 3396.0
  B_AXIS_RADIUS = 3396.0
  C_AXIS_RADIUS = 3396.0
  CENTER_LATITUDE = 0.0
  CENTER_LONGITUDE = 148.0
  COORDINATE_SYSTEM_NAME = PLANETOGRAPHIC
  COORDINATE_SYSTEM_TYPE = "BODY-FIXED ROTATING"
  EASTERNMOST_LONGITUDE = 148.83
  FIRST_STANDARD_PARALLEL = "N/A"
  LINE_FIRST_PIXEL = 1
  LINE_LAST_PIXEL = 25900
  LINE_PROJECTION_OFFSET = -24530.25
  MAP_PROJECTION_ROTATION = 0.0
  MAP_PROJECTION_TYPE = SINUSOIDAL
  MAP_RESOLUTION = 2370.85521546667
  MAP_SCALE = 0.025
  MAXIMUM_LATITUDE = -10.3444
  MINIMUM_LATITUDE = -21.2798
  POSITIVE_LONGITUDE_DIRECTION = EAST
  REFERENCE_LATITUDE = "N/A"
  REFERENCE_LONGITUDE = "N/A"
  SAMPLE_FIRST_PIXEL = 1
  SAMPLE_LAST_PIXEL = 2961
  SAMPLE_PROJECTION_OFFSET = 1240.75
  SECOND_STANDARD_PARALLEL = "N/A"
  WESTERNMOST_LONGITUDE = 147.532
END_OBJECT = IMAGE_MAP_PROJECTION
END
