PDS_VERSION_ID = PDS3
/* FILE DATA ELEMENTS */
RECORD_TYPE = UNDEFINED
/* POINTERS TO DATA OBJECTS */
^IMAGE = ("HI802_0000_RE4.TIF")
/* IDENTIFICATION DATA ELEMENTS */
DATA_SET_ID = "MEX-M-HRSC-4-REFDR-MAPPROJECT-EXT6-V4.0"
DATA_SET_NAME = "MARS EXPRESS HRSC MAP PROJECTED REFDR EXTENSION6 V4.0"
DETECTOR_ID = MEX_HRSC_RED
EVENT_TYPE = "MARS-REGIONAL-MAPPING-Vo-Im-Fl"
INSTRUMENT_HOST_ID = MEX
INSTRUMENT_HOST_NAME = "MARS EXPRESS"
INSTRUMENT_ID = HRSC
INSTRUMENT_NAME = "HIGH RESOLUTION STEREO CAMERA"
MISSION_NAME = "MARS EXPRESS"
MISSION_PHASE_NAME = ME_Phase_39
PROCESSING_LEVEL_ID = 4
PRODUCT_CREATION_TIME = 2023-01-29T14:35:52.000Z
PRODUCT_ID = "HI802_0000_RE4.TIF"
RELEASE_ID = 0005
REVISION_ID = 0000
/* QUALITY DATA ELEMENTS */
DATA_QUALITY_ID = 1
DATA_QUALITY_DESC = "Data calculated based on original SPICE kernels"
/* TIME DATA ELEMENTS */
SPACECRAFT_CLOCK_START_COUNT = "1/0490017637.24930"
SPACECRAFT_CLOCK_STOP_COUNT = "1/0490017845.23300"
START_TIME = 2018-11-11T12:01:13.219Z
STOP_TIME = 2018-11-11T12:03:42.149Z
/* ORBITAL DATA ELEMENTS */
ASCENDING_NODE_LONGITUDE = 221.43
MAXIMUM_RESOLUTION = 0.0557
FOOTPRINT_POINT_LATITUDE = (-21.2947,-21.2794,-21.257,-21.2292, -21.2285,-21.2228,-21.0133,-20.6989, -20.2803,-20.0692,-19.8594,-19.6473, -19.4367,-19.1207,-18.9098,-18.6978, -18.3798,-17.9637,-17.7525,-17.4294, -17.2147,-16.7964,-16.5839,-16.3706, -16.0514,-15.8385,-15.6248,-15.4095, -15.1976,-14.9794,-14.7588,-14.5391, -14.3187,-13.9878,-13.7672,-13.5459, -13.3246,-12.9905,-12.7675,-12.4326, -12.2083,-11.9843,-11.6476,-11.4226, -11.0856,-10.8586,-10.5184,-10.4052, -10.3356,-10.3577,-10.3862,-10.4046, -10.4052,-10.4064,-10.6322,-10.9704, -11.1943,-11.4197,-11.6397,-11.8635, -12.0949,-12.4302,-12.6538,-12.8767, -13.0992,-13.3211,-13.5433,-13.7647, -13.986,-14.2067,-14.4269,-14.7563, -14.976,-15.304,-15.5184,-15.7318, -15.9467,-16.1611,-16.3745,-16.791, -17.0033,-17.2155,-17.4274,-17.6394, -17.8525,-18.0669,-18.2805,-18.5969, -18.8076,-19.0176,-19.2286,-19.5423, -19.7551,-20.1756,-20.4891,-20.6995, -20.9091,-21.1189,-21.2239,-21.2947)
FOOTPRINT_POINT_LONGITUDE = (148.798,148.485,148.057,147.571, 147.559,147.554,147.556,147.559,147.562 ,147.563,147.565,147.566,147.567, 147.568,147.569,147.57,147.571,147.574, 147.575,147.574,147.574,147.576,147.576 ,147.576,147.576,147.576,147.576, 147.575,147.575,147.575,147.575,147.574 ,147.574,147.574,147.573,147.573, 147.572,147.57,147.569,147.568,147.566, 147.565,147.563,147.561,147.559,147.557 ,147.554,147.553,147.552,147.928, 148.449,148.837,148.85,148.854,148.851, 148.848,148.846,148.844,148.843,148.842 ,148.837,148.835,148.833,148.831,148.83 ,148.829,148.827,148.826,148.825, 148.824,148.823,148.822,148.821,148.819 ,148.818,148.817,148.815,148.813, 148.812,148.814,148.813,148.812,148.812 ,148.811,148.809,148.808,148.806, 148.805,148.805,148.805,148.804,148.804 ,148.803,148.802,148.802,148.802, 148.802,148.801,148.801,148.798)
ORBIT_NUMBER = 18802
ORBITAL_ECCENTRICITY = 0.578
ORBITAL_INCLINATION = 86.94
ORBITAL_SEMIMAJOR_AXIS = 8836.48
PERIAPSIS_ALTITUDE = 336.29
PERIAPSIS_ARGUMENT_ANGLE = 339.28
PERIAPSIS_TIME = 2018-11-11T12:01:44.000Z
SPACECRAFT_ORIENTATION = (0.0,1.0,0.0)
^MEX_ORIENTATION_DESC = "MEX_ORIENTATION_DESC.TXT"
SPACECRAFT_POINTING_MODE = INERT
^MEX_POINTING_DESC = "MEX_POINTING_DESC.TXT"
RIGHT_ASCENSION = 68.403
DECLINATION = 40.244
OFFSET_ANGLE = -1e+32
SPACECRAFT_SOLAR_DISTANCE = 2.09928e+08
TARGET_NAME = MARS
/* CAMERA DATA ELEMENTS */
DETECTOR_TEMPERATURE = 19.39
FOCAL_PLANE_TEMPERATURE = 10.2145
INST_CMPRS_NAME = "DISCRETE COSINE TRANSFORMATION (DCT)"
INST_CMPRS_RATIO = 9.73684
INST_CMPRS_QUALITY = 0
INST_CMPRS_QUANTZ_TBL_ID = 0
INSTRUMENT_TEMPERATURE = 11.8457
LENS_TEMPERATURE = 10.4184
MACROPIXEL_SIZE = 4
MISSING_FRAMES = 0
PIXEL_SUBSAMPLING_FLAG = N
SIGNAL_CHAIN_ID = 2
/* RADIOMETRIC DATA ELEMENTS */
BANDWIDTH = 48.0
CENTER_FILTER_WAVELENGTH = 748.0
RADIANCE_OFFSET = 0.760071
RADIANCE_SCALING_FACTOR = 0.00548231
REFLECTANCE_SCALING_FACTOR = 0.000551349
MEX:REFLECTANCE_OFFSET = 0.0764394
/* IMAGE OBJECT DEFINITIONS */
OBJECT = IMAGE
  INTERCHANGE_FORMAT = BINARY
  LINES = 12950
  LINE_SAMPLES = 1481
  SAMPLE_TYPE = UNSIGNED_INTEGER
  SAMPLE_BITS = 8
  BANDS = 1
  BAND_STORAGE_TYPE = BAND_SEQUENTIAL
  MAXIMUM = 255
  MEAN = 116.257
  MINIMUM = 1
  STANDARD_DEVIATION = 38.6324
END_OBJECT = IMAGE
/* MAP OBJECT DEFINITIONS */
OBJECT = IMAGE_MAP_PROJECTION
  ^DATA_SET_MAP_PROJECTION_CATALOG= "DSMAP.CAT"
  A_AXIS_RADIUS = 3396.0
  B_AXIS_RADIUS = 3396.0
  C_AXIS_RADIUS = 3396.0
  CENTER_LATITUDE = 0.0
  CENTER_LONGITUDE = 148.0
  COORDINATE_SYSTEM_NAME = PLANETOGRAPHIC
  COORDINATE_SYSTEM_TYPE = "BODY-FIXED ROTATING"
  EASTERNMOST_LONGITUDE = 148.854
  FIRST_STANDARD_PARALLEL = "N/A"
  LINE_FIRST_PIXEL = 1
  LINE_LAST_PIXEL = 12950
  LINE_PROJECTION_OFFSET = -12265.375
  MAP_PROJECTION_ROTATION = 0.0
  MAP_PROJECTION_TYPE = SINUSOIDAL
  MAP_RESOLUTION = 1185.42760773333
  MAP_SCALE = 0.05
  MAXIMUM_LATITUDE = -10.3356
  MINIMUM_LATITUDE = -21.2947
  POSITIVE_LONGITUDE_DIRECTION = EAST
  REFERENCE_LATITUDE = "N/A"
  REFERENCE_LONGITUDE = "N/A"
  SAMPLE_FIRST_PIXEL = 1
  SAMPLE_LAST_PIXEL = 1481
  SAMPLE_PROJECTION_OFFSET = 620.125
  SECOND_STANDARD_PARALLEL = "N/A"
  WESTERNMOST_LONGITUDE = 147.552
END_OBJECT = IMAGE_MAP_PROJECTION
END
