PDS_VERSION_ID = PDS3
/* FILE DATA ELEMENTS */
RECORD_TYPE = UNDEFINED
/* POINTERS TO DATA OBJECTS */
^IMAGE = ("HI810_0000_RE4.TIF")
/* IDENTIFICATION DATA ELEMENTS */
DATA_SET_ID = "MEX-M-HRSC-4-REFDR-MAPPROJECT-EXT6-V4.0"
DATA_SET_NAME = "MARS EXPRESS HRSC MAP PROJECTED REFDR EXTENSION6 V4.0"
DETECTOR_ID = MEX_HRSC_RED
EVENT_TYPE = "MARS-REGIONAL-MAPPING-Im-Fl-Gl"
INSTRUMENT_HOST_ID = MEX
INSTRUMENT_HOST_NAME = "MARS EXPRESS"
INSTRUMENT_ID = HRSC
INSTRUMENT_NAME = "HIGH RESOLUTION STEREO CAMERA"
MISSION_NAME = "MARS EXPRESS"
MISSION_PHASE_NAME = ME_Phase_39
PROCESSING_LEVEL_ID = 4
PRODUCT_CREATION_TIME = 2023-01-29T14:35:52.000Z
PRODUCT_ID = "HI810_0000_RE4.TIF"
RELEASE_ID = 0005
REVISION_ID = 0000
/* QUALITY DATA ELEMENTS */
DATA_QUALITY_ID = 1
DATA_QUALITY_DESC = "Data calculated based on original SPICE kernels"
/* TIME DATA ELEMENTS */
SPACECRAFT_CLOCK_START_COUNT = "1/0490218621.24926"
SPACECRAFT_CLOCK_STOP_COUNT = "1/0490218873.32569"
START_TIME = 2018-11-13T19:50:57.655Z
STOP_TIME = 2018-11-13T19:54:13.098Z
/* ORBITAL DATA ELEMENTS */
ASCENDING_NODE_LONGITUDE = 221.28
MAXIMUM_RESOLUTION = 0.0554
FOOTPRINT_POINT_LATITUDE = (-31.8381,-31.8196,-31.8029,-31.7686, -31.7678,-31.7531,-31.4744,-31.0583, -30.7793,-30.3615,-29.9426,-29.6631, -29.3846,-29.1018,-28.679,-28.3988, -28.1186,-27.8428,-27.4229,-27.0015, -26.7198,-26.4396,-26.1612,-25.8785, -25.5906,-25.3073,-25.0249,-24.743, -24.4611,-24.1785,-23.755,-23.4825, -23.2168,-22.9415,-22.6663,-22.3931, -22.117,-21.8424,-21.4302,-21.155, -20.8805,-20.6062,-20.3265,-20.0509, -19.7794,-19.3563,-18.9414,-18.6638, -18.2481,-17.98,-17.8432,-17.766, -17.7932,-17.8087,-17.8211,-17.8216, -17.8227,-18.1031,-18.3798,-18.6568, -18.9339,-19.3464,-19.7609,-20.0388, -20.3146,-20.7278,-21.1409,-21.5533, -21.9654,-22.3772,-22.6516,-22.9264, -23.2016,-23.4764,-23.8922,-24.3165, -24.7399,-25.022,-25.3034,-25.5846, -25.8622,-26.1435,-26.5661,-26.8488, -27.1243,-27.4047,-27.8255,-28.2504, -28.6714,-28.9521,-29.3708,-29.6501, -29.9308,-30.214,-30.4932,-30.9123, -31.3311,-31.6101,-31.7481,-31.8381)
FOOTPRINT_POINT_LONGITUDE = (51.8578,51.4507,51.1098,50.4687, 50.4556,50.4408,50.4496,50.4638,50.4718 ,50.4839,50.4948,50.5019,50.5093,50.514 ,50.5219,50.5279,50.5339,50.5419, 50.5504,50.558,50.5626,50.5677,50.5735, 50.5773,50.5789,50.5825,50.5862,50.5901 ,50.5939,50.5973,50.6024,50.6065,50.612 ,50.6143,50.6165,50.6194,50.6212, 50.6234,50.6266,50.6285,50.6305,50.6325 ,50.6329,50.6344,50.637,50.6366,50.6382 ,50.6389,50.6401,50.6428,50.6436, 50.6435,51.2093,51.5342,51.8723,51.8839 ,51.8878,51.8855,51.8847,51.8838, 51.8827,51.8824,51.8811,51.8794,51.8787 ,51.8777,51.8767,51.8758,51.875,51.8742 ,51.8737,51.8729,51.8718,51.8708, 51.8694,51.8685,51.868,51.8677,51.8678, 51.8679,51.8703,51.8704,51.8698,51.8686 ,51.8727,51.8731,51.8736,51.8704, 51.8702,51.87,51.8716,51.8726,51.8721, 51.8688,51.8697,51.8704,51.8715,51.8724 ,51.8749,51.8578)
ORBIT_NUMBER = 18810
ORBITAL_ECCENTRICITY = 0.578
ORBITAL_INCLINATION = 86.96
ORBITAL_SEMIMAJOR_AXIS = 8838.93
PERIAPSIS_ALTITUDE = 335.15
PERIAPSIS_ARGUMENT_ANGLE = 337.9
PERIAPSIS_TIME = 2018-11-13T19:53:38.000Z
SPACECRAFT_ORIENTATION = (0.0,1.0,0.0)
^MEX_ORIENTATION_DESC = "MEX_ORIENTATION_DESC.TXT"
SPACECRAFT_POINTING_MODE = INERT
^MEX_POINTING_DESC = "MEX_POINTING_DESC.TXT"
RIGHT_ASCENSION = 67.088
DECLINATION = 41.204
OFFSET_ANGLE = -1e+32
SPACECRAFT_SOLAR_DISTANCE = 2.10194e+08
TARGET_NAME = MARS
/* CAMERA DATA ELEMENTS */
DETECTOR_TEMPERATURE = 19.39
FOCAL_PLANE_TEMPERATURE = 11.8457
INST_CMPRS_NAME = "DISCRETE COSINE TRANSFORMATION (DCT)"
INST_CMPRS_RATIO = 12.3299
INST_CMPRS_QUALITY = 0
INST_CMPRS_QUANTZ_TBL_ID = 0
INSTRUMENT_TEMPERATURE = 12.8652
LENS_TEMPERATURE = 12.0496
MACROPIXEL_SIZE = 4
MISSING_FRAMES = 0
PIXEL_SUBSAMPLING_FLAG = N
SIGNAL_CHAIN_ID = 2
/* RADIOMETRIC DATA ELEMENTS */
BANDWIDTH = 48.0
CENTER_FILTER_WAVELENGTH = 748.0
RADIANCE_OFFSET = 0.827935
RADIANCE_SCALING_FACTOR = 0.00468391
REFLECTANCE_SCALING_FACTOR = 0.000472253
MEX:REFLECTANCE_OFFSET = 0.0834761
/* IMAGE OBJECT DEFINITIONS */
OBJECT = IMAGE
  INTERCHANGE_FORMAT = BINARY
  LINES = 16705
  LINE_SAMPLES = 1570
  SAMPLE_TYPE = UNSIGNED_INTEGER
  SAMPLE_BITS = 8
  BANDS = 1
  BAND_STORAGE_TYPE = BAND_SEQUENTIAL
  MAXIMUM = 255
  MEAN = 114.206
  MINIMUM = 1
  STANDARD_DEVIATION = 40.3569
END_OBJECT = IMAGE
/* MAP OBJECT DEFINITIONS */
OBJECT = IMAGE_MAP_PROJECTION
  ^DATA_SET_MAP_PROJECTION_CATALOG= "DSMAP.CAT"
  A_AXIS_RADIUS = 3396.0
  B_AXIS_RADIUS = 3396.0
  C_AXIS_RADIUS = 3396.0
  CENTER_LATITUDE = 0.0
  CENTER_LONGITUDE = 51.0
  COORDINATE_SYSTEM_NAME = PLANETOGRAPHIC
  COORDINATE_SYSTEM_TYPE = "BODY-FIXED ROTATING"
  EASTERNMOST_LONGITUDE = 51.8878
  FIRST_STANDARD_PARALLEL = "N/A"
  LINE_FIRST_PIXEL = 1
  LINE_LAST_PIXEL = 16705
  LINE_PROJECTION_OFFSET = -21039.125
  MAP_PROJECTION_ROTATION = 0.0
  MAP_PROJECTION_TYPE = SINUSOIDAL
  MAP_RESOLUTION = 1185.42760773333
  MAP_SCALE = 0.05
  MAXIMUM_LATITUDE = -17.766
  MINIMUM_LATITUDE = -31.8381
  POSITIVE_LONGITUDE_DIRECTION = EAST
  REFERENCE_LATITUDE = "N/A"
  REFERENCE_LONGITUDE = "N/A"
  SAMPLE_FIRST_PIXEL = 1
  SAMPLE_LAST_PIXEL = 1570
  SAMPLE_PROJECTION_OFFSET = 680.125
  SECOND_STANDARD_PARALLEL = "N/A"
  WESTERNMOST_LONGITUDE = 50.4408
END_OBJECT = IMAGE_MAP_PROJECTION
END
