PDS_VERSION_ID = PDS3
/* FILE DATA ELEMENTS */
RECORD_TYPE = UNDEFINED
/* POINTERS TO DATA OBJECTS */
^IMAGE = ("HI810_0000_S14.TIF")
/* IDENTIFICATION DATA ELEMENTS */
DATA_SET_ID = "MEX-M-HRSC-4-REFDR-MAPPROJECT-EXT6-V4.0"
DATA_SET_NAME = "MARS EXPRESS HRSC MAP PROJECTED REFDR EXTENSION6 V4.0"
DETECTOR_ID = MEX_HRSC_S1
EVENT_TYPE = "MARS-REGIONAL-MAPPING-Im-Fl-Gl"
INSTRUMENT_HOST_ID = MEX
INSTRUMENT_HOST_NAME = "MARS EXPRESS"
INSTRUMENT_ID = HRSC
INSTRUMENT_NAME = "HIGH RESOLUTION STEREO CAMERA"
MISSION_NAME = "MARS EXPRESS"
MISSION_PHASE_NAME = ME_Phase_39
PROCESSING_LEVEL_ID = 4
PRODUCT_CREATION_TIME = 2023-01-29T14:35:52.000Z
PRODUCT_ID = "HI810_0000_S14.TIF"
RELEASE_ID = 0005
REVISION_ID = 0000
/* QUALITY DATA ELEMENTS */
DATA_QUALITY_ID = 1
DATA_QUALITY_DESC = "Data calculated based on original SPICE kernels"
/* TIME DATA ELEMENTS */
SPACECRAFT_CLOCK_START_COUNT = "1/0490218621.24926"
SPACECRAFT_CLOCK_STOP_COUNT = "1/0490218873.32569"
START_TIME = 2018-11-13T19:51:51.256Z
STOP_TIME = 2018-11-13T19:55:03.014Z
/* ORBITAL DATA ELEMENTS */
ASCENDING_NODE_LONGITUDE = 221.28
MAXIMUM_RESOLUTION = 0.0278
FOOTPRINT_POINT_LATITUDE = (-31.7671,-31.7409,-31.6847,-31.6839, -31.7367,-31.4412,-30.9993,-30.7031, -30.4051,-30.1135,-29.6767,-29.2412, -28.9648,-28.6766,-28.245,-27.8103, -27.5128,-27.2282,-26.9525,-26.6764, -26.3976,-26.1164,-25.5771,-25.3032, -25.0288,-24.7532,-24.4781,-24.0667, -23.6535,-23.3743,-23.092,-22.8211, -22.548,-22.1382,-21.7303,-21.4578, -21.1858,-20.9131,-20.6401,-20.3725, -19.9637,-19.4255,-19.1467,-18.7274, -18.448,-18.1674,-17.8833,-17.7437, -17.7238,-17.7554,-17.7728,-17.7923, -17.793,-17.7937,-18.073,-18.352, -18.6315,-19.0505,-19.4723,-19.8782, -20.15,-20.4215,-20.6937,-20.9656, -21.2379,-21.5109,-21.7835,-22.0568, -22.3301,-22.6029,-23.0116,-23.2839, -23.5558,-23.8293,-24.106,-24.5149, -24.7904,-25.0685,-25.345,-25.7663, -26.0435,-26.3203,-26.591,-26.8727, -27.1549,-27.5783,-27.8692,-28.2936, -28.5824,-29.0187,-29.3147,-29.6023, -29.8943,-30.3251,-30.6115,-30.9118, -31.3496,-31.6432,-31.795,-31.7671)
FOOTPRINT_POINT_LONGITUDE = (51.6897,51.2151,50.2257,50.2113, 50.1891,50.201,50.2182,50.23,50.2422, 50.2522,50.2667,50.2804,50.2846,50.2927 ,50.3043,50.3168,50.3276,50.3346, 50.3406,50.3466,50.3535,50.3612,50.3679 ,50.3726,50.3774,50.3825,50.3874, 50.3941,50.4013,50.4074,50.4147,50.4175 ,50.4211,50.4264,50.4308,50.4338, 50.4366,50.4396,50.4427,50.4434,50.4475 ,50.4497,50.4515,50.4539,50.4554, 50.4574,50.4611,50.4618,50.4619,51.0077 ,51.2991,51.6493,51.661,51.6652,51.6656 ,51.6658,51.6661,51.6665,51.6679, 51.6682,51.6687,51.6691,51.6697,51.6701 ,51.6706,51.6713,51.6718,51.6725, 51.6731,51.6735,51.6739,51.6739,51.6739 ,51.6742,51.6755,51.6755,51.6762, 51.6777,51.6786,51.6817,51.6826,51.6833 ,51.6823,51.6842,51.6861,51.6872, 51.6888,51.688,51.6888,51.6907,51.6931, 51.6933,51.6946,51.6945,51.6941,51.697, 51.6981,51.6992,51.7008,51.6897)
ORBIT_NUMBER = 18810
ORBITAL_ECCENTRICITY = 0.578
ORBITAL_INCLINATION = 86.96
ORBITAL_SEMIMAJOR_AXIS = 8838.93
PERIAPSIS_ALTITUDE = 335.15
PERIAPSIS_ARGUMENT_ANGLE = 337.9
PERIAPSIS_TIME = 2018-11-13T19:53:38.000Z
SPACECRAFT_ORIENTATION = (0.0,1.0,0.0)
^MEX_ORIENTATION_DESC = "MEX_ORIENTATION_DESC.TXT"
SPACECRAFT_POINTING_MODE = INERT
^MEX_POINTING_DESC = "MEX_POINTING_DESC.TXT"
RIGHT_ASCENSION = 67.088
DECLINATION = 41.204
OFFSET_ANGLE = -1e+32
SPACECRAFT_SOLAR_DISTANCE = 2.10194e+08
TARGET_NAME = MARS
/* CAMERA DATA ELEMENTS */
DETECTOR_TEMPERATURE = 18.3705
FOCAL_PLANE_TEMPERATURE = 11.8457
INST_CMPRS_NAME = "DISCRETE COSINE TRANSFORMATION (DCT)"
INST_CMPRS_RATIO = 9.49969
INST_CMPRS_QUALITY = 0
INST_CMPRS_QUANTZ_TBL_ID = 0
INSTRUMENT_TEMPERATURE = 12.8652
LENS_TEMPERATURE = 12.0496
MACROPIXEL_SIZE = 2
MISSING_FRAMES = 0
PIXEL_SUBSAMPLING_FLAG = N
SIGNAL_CHAIN_ID = 1
/* RADIOMETRIC DATA ELEMENTS */
BANDWIDTH = 180.0
CENTER_FILTER_WAVELENGTH = 677.0
RADIANCE_OFFSET = 3.29866
RADIANCE_SCALING_FACTOR = 0.0179255
REFLECTANCE_SCALING_FACTOR = 0.000413193
MEX:REFLECTANCE_OFFSET = 0.0760361
/* IMAGE OBJECT DEFINITIONS */
OBJECT = IMAGE
  INTERCHANGE_FORMAT = BINARY
  LINES = 33409
  LINE_SAMPLES = 3140
  SAMPLE_TYPE = UNSIGNED_INTEGER
  SAMPLE_BITS = 8
  BANDS = 1
  BAND_STORAGE_TYPE = BAND_SEQUENTIAL
  MAXIMUM = 255
  MEAN = 117.861
  MINIMUM = 1
  STANDARD_DEVIATION = 42.0498
END_OBJECT = IMAGE
/* MAP OBJECT DEFINITIONS */
OBJECT = IMAGE_MAP_PROJECTION
  ^DATA_SET_MAP_PROJECTION_CATALOG= "DSMAP.CAT"
  A_AXIS_RADIUS = 3396.0
  B_AXIS_RADIUS = 3396.0
  C_AXIS_RADIUS = 3396.0
  CENTER_LATITUDE = 0.0
  CENTER_LONGITUDE = 51.0
  COORDINATE_SYSTEM_NAME = PLANETOGRAPHIC
  COORDINATE_SYSTEM_TYPE = "BODY-FIXED ROTATING"
  EASTERNMOST_LONGITUDE = 51.7008
  FIRST_STANDARD_PARALLEL = "N/A"
  LINE_FIRST_PIXEL = 1
  LINE_LAST_PIXEL = 33409
  LINE_PROJECTION_OFFSET = -42077.75
  MAP_PROJECTION_ROTATION = 0.0
  MAP_PROJECTION_TYPE = SINUSOIDAL
  MAP_RESOLUTION = 2370.85521546667
  MAP_SCALE = 0.025
  MAXIMUM_LATITUDE = -17.7238
  MINIMUM_LATITUDE = -31.795
  POSITIVE_LONGITUDE_DIRECTION = EAST
  REFERENCE_LATITUDE = "N/A"
  REFERENCE_LONGITUDE = "N/A"
  SAMPLE_FIRST_PIXEL = 1
  SAMPLE_LAST_PIXEL = 3140
  SAMPLE_PROJECTION_OFFSET = 1360.75
  SECOND_STANDARD_PARALLEL = "N/A"
  WESTERNMOST_LONGITUDE = 50.1891
END_OBJECT = IMAGE_MAP_PROJECTION
END
