PDS_VERSION_ID = PDS3
/* FILE DATA ELEMENTS */
RECORD_TYPE = UNDEFINED
/* POINTERS TO DATA OBJECTS */
^IMAGE = ("HI812_0000_P24.TIF")
/* IDENTIFICATION DATA ELEMENTS */
DATA_SET_ID = "MEX-M-HRSC-4-REFDR-MAPPROJECT-EXT6-V4.0"
DATA_SET_NAME = "MARS EXPRESS HRSC MAP PROJECTED REFDR EXTENSION6 V4.0"
DETECTOR_ID = MEX_HRSC_P2
EVENT_TYPE = "MARS-REGIONAL-MAPPING-Te-Im"
INSTRUMENT_HOST_ID = MEX
INSTRUMENT_HOST_NAME = "MARS EXPRESS"
INSTRUMENT_ID = HRSC
INSTRUMENT_NAME = "HIGH RESOLUTION STEREO CAMERA"
MISSION_NAME = "MARS EXPRESS"
MISSION_PHASE_NAME = ME_Phase_39
PROCESSING_LEVEL_ID = 4
PRODUCT_CREATION_TIME = 2023-01-29T14:35:52.000Z
PRODUCT_ID = "HI812_0000_P24.TIF"
RELEASE_ID = 0005
REVISION_ID = 0000
/* QUALITY DATA ELEMENTS */
DATA_QUALITY_ID = 1
DATA_QUALITY_DESC = "Data calculated based on original SPICE kernels"
/* TIME DATA ELEMENTS */
SPACECRAFT_CLOCK_START_COUNT = "1/0490268851.25685"
SPACECRAFT_CLOCK_STOP_COUNT = "1/0490269068.33385"
START_TIME = 2018-11-14T09:48:12.524Z
STOP_TIME = 2018-11-14T09:50:52.765Z
/* ORBITAL DATA ELEMENTS */
ASCENDING_NODE_LONGITUDE = 221.25
MAXIMUM_RESOLUTION = 0.0273
FOOTPRINT_POINT_LATITUDE = (-35.4455,-35.4224,-35.3941,-35.3539, -35.3529,-35.3535,-35.0928,-34.702, -34.4414,-34.1809,-33.7901,-33.5295, -33.2689,-33.0084,-32.6175,-32.3825, -32.1642,-31.9459,-31.7275,-31.3999, -31.1815,-30.8541,-30.6356,-30.417, -30.1984,-29.8706,-29.6521,-29.4336, -29.2149,-28.9961,-28.7774,-28.5588, -28.3394,-28.0122,-27.7934,-27.3567, -26.9199,-26.7003,-26.3714,-26.1517, -25.9313,-25.7117,-25.4925,-25.2724, -25.0531,-24.8334,-24.6135,-24.3928, -24.0602,-23.9517,-23.9269,-23.9529, -23.9717,-24.0079,-24.0086,-24.0093, -24.5558,-24.7757,-25.1055,-25.3254, -25.5452,-25.765,-25.9848,-26.3144, -26.6433,-26.972,-27.1909,-27.5203, -27.7399,-27.9591,-28.1783,-28.3974, -28.616,-28.8345,-29.053,-29.2719, -29.6003,-29.8193,-30.0382,-30.3666, -30.5855,-30.8043,-31.0232,-31.3515, -31.5704,-31.7891,-32.0081,-32.2267, -32.5547,-32.8067,-33.1982,-33.4593, -33.7205,-33.9816,-34.2427,-34.5039, -34.8956,-35.2873,-35.4179,-35.4455)
FOOTPRINT_POINT_LONGITUDE = (207.275,206.861,206.388,205.763, 205.748,205.727,205.741,205.76,205.772, 205.784,205.801,205.813,205.824,205.835 ,205.85,205.86,205.868,205.877,205.885, 205.897,205.904,205.916,205.923,205.93, 205.937,205.947,205.954,205.96,205.966, 205.972,205.978,205.984,205.989,205.999 ,206.004,206.016,206.027,206.031, 206.038,206.042,206.045,206.048,206.052 ,206.056,206.06,206.063,206.067,206.069 ,206.071,206.073,206.073,206.469, 206.741,207.328,207.34,207.344,207.343, 207.342,207.341,207.34,207.339,207.338, 207.337,207.336,207.335,207.334,207.333 ,207.331,207.33,207.329,207.328,207.327 ,207.326,207.326,207.325,207.324, 207.323,207.322,207.32,207.319,207.317, 207.316,207.315,207.313,207.311,207.31, 207.308,207.307,207.305,207.303,207.3, 207.299,207.297,207.295,207.293,207.291 ,207.287,207.284,207.282,207.275)
ORBIT_NUMBER = 18812
ORBITAL_ECCENTRICITY = 0.578
ORBITAL_INCLINATION = 86.96
ORBITAL_SEMIMAJOR_AXIS = 8832.72
PERIAPSIS_ALTITUDE = 335.11
PERIAPSIS_ARGUMENT_ANGLE = 337.53
PERIAPSIS_TIME = 2018-11-14T09:51:30.000Z
SPACECRAFT_ORIENTATION = (0.0,1.0,0.0)
^MEX_ORIENTATION_DESC = "MEX_ORIENTATION_DESC.TXT"
SPACECRAFT_POINTING_MODE = INERT
^MEX_POINTING_DESC = "MEX_POINTING_DESC.TXT"
RIGHT_ASCENSION = 66.715
DECLINATION = 41.475
OFFSET_ANGLE = -1e+32
SPACECRAFT_SOLAR_DISTANCE = 2.10262e+08
TARGET_NAME = MARS
/* CAMERA DATA ELEMENTS */
DETECTOR_TEMPERATURE = 19.1861
FOCAL_PLANE_TEMPERATURE = 10.6223
INST_CMPRS_NAME = "DISCRETE COSINE TRANSFORMATION (DCT)"
INST_CMPRS_RATIO = 7.23267
INST_CMPRS_QUALITY = 0
INST_CMPRS_QUANTZ_TBL_ID = 0
INSTRUMENT_TEMPERATURE = 12.2535
LENS_TEMPERATURE = 11.4379
MACROPIXEL_SIZE = 2
MISSING_FRAMES = 0
PIXEL_SUBSAMPLING_FLAG = N
SIGNAL_CHAIN_ID = 3
/* RADIOMETRIC DATA ELEMENTS */
BANDWIDTH = 177.0
CENTER_FILTER_WAVELENGTH = 676.5
RADIANCE_OFFSET = 3.20287
RADIANCE_SCALING_FACTOR = 0.0193114
REFLECTANCE_SCALING_FACTOR = 0.000452681
MEX:REFLECTANCE_OFFSET = 0.0750788
/* IMAGE OBJECT DEFINITIONS */
OBJECT = IMAGE
  INTERCHANGE_FORMAT = BINARY
  LINES = 27239
  LINE_SAMPLES = 3291
  SAMPLE_TYPE = UNSIGNED_INTEGER
  SAMPLE_BITS = 8
  BANDS = 1
  BAND_STORAGE_TYPE = BAND_SEQUENTIAL
  MAXIMUM = 255
  MEAN = 96.908
  MINIMUM = 1
  STANDARD_DEVIATION = 27.1814
END_OBJECT = IMAGE
/* MAP OBJECT DEFINITIONS */
OBJECT = IMAGE_MAP_PROJECTION
  ^DATA_SET_MAP_PROJECTION_CATALOG= "DSMAP.CAT"
  A_AXIS_RADIUS = 3396.0
  B_AXIS_RADIUS = 3396.0
  C_AXIS_RADIUS = 3396.0
  CENTER_LATITUDE = 0.0
  CENTER_LONGITUDE = 207.0
  COORDINATE_SYSTEM_NAME = PLANETOGRAPHIC
  COORDINATE_SYSTEM_TYPE = "BODY-FIXED ROTATING"
  EASTERNMOST_LONGITUDE = 207.344
  FIRST_STANDARD_PARALLEL = "N/A"
  LINE_FIRST_PIXEL = 1
  LINE_LAST_PIXEL = 27239
  LINE_PROJECTION_OFFSET = -56736.75
  MAP_PROJECTION_ROTATION = 0.0
  MAP_PROJECTION_TYPE = SINUSOIDAL
  MAP_RESOLUTION = 2370.85521546667
  MAP_SCALE = 0.025
  MAXIMUM_LATITUDE = -23.9269
  MINIMUM_LATITUDE = -35.4455
  POSITIVE_LONGITUDE_DIRECTION = EAST
  REFERENCE_LATITUDE = "N/A"
  REFERENCE_LONGITUDE = "N/A"
  SAMPLE_FIRST_PIXEL = 1
  SAMPLE_LAST_PIXEL = 3291
  SAMPLE_PROJECTION_OFFSET = 2686.25
  SECOND_STANDARD_PARALLEL = "N/A"
  WESTERNMOST_LONGITUDE = 205.727
END_OBJECT = IMAGE_MAP_PROJECTION
END
