PDS_VERSION_ID = PDS3
/* FILE DATA ELEMENTS */
RECORD_TYPE = UNDEFINED
/* POINTERS TO DATA OBJECTS */
^IMAGE = ("HI812_0000_S14.TIF")
/* IDENTIFICATION DATA ELEMENTS */
DATA_SET_ID = "MEX-M-HRSC-4-REFDR-MAPPROJECT-EXT6-V4.0"
DATA_SET_NAME = "MARS EXPRESS HRSC MAP PROJECTED REFDR EXTENSION6 V4.0"
DETECTOR_ID = MEX_HRSC_S1
EVENT_TYPE = "MARS-REGIONAL-MAPPING-Te-Im"
INSTRUMENT_HOST_ID = MEX
INSTRUMENT_HOST_NAME = "MARS EXPRESS"
INSTRUMENT_ID = HRSC
INSTRUMENT_NAME = "HIGH RESOLUTION STEREO CAMERA"
MISSION_NAME = "MARS EXPRESS"
MISSION_PHASE_NAME = ME_Phase_39
PROCESSING_LEVEL_ID = 4
PRODUCT_CREATION_TIME = 2023-01-29T14:35:52.000Z
PRODUCT_ID = "HI812_0000_S14.TIF"
RELEASE_ID = 0005
REVISION_ID = 0000
/* QUALITY DATA ELEMENTS */
DATA_QUALITY_ID = 1
DATA_QUALITY_DESC = "Data calculated based on original SPICE kernels"
/* TIME DATA ELEMENTS */
SPACECRAFT_CLOCK_START_COUNT = "1/0490268851.25685"
SPACECRAFT_CLOCK_STOP_COUNT = "1/0490269068.33385"
START_TIME = 2018-11-14T09:49:05.397Z
STOP_TIME = 2018-11-14T09:51:38.029Z
/* ORBITAL DATA ELEMENTS */
ASCENDING_NODE_LONGITUDE = 221.25
MAXIMUM_RESOLUTION = 0.0287
FOOTPRINT_POINT_LATITUDE = (-35.3147,-35.2932,-35.2713,-35.2447, -35.244,-35.3005,-35.0609,-34.7079, -34.4705,-34.1161,-33.7653,-33.5317, -33.2975,-32.9476,-32.7144,-32.4811, -32.2478,-32.0156,-31.6664,-31.4347, -31.2064,-30.9732,-30.6274,-30.3963, -30.1664,-29.8219,-29.5917,-29.3622, -29.0178,-28.7883,-28.5593,-28.2172, -27.8735,-27.6445,-27.3049,-27.0834, -26.8628,-26.6438,-26.4237,-26.2061, -25.8817,-25.5557,-25.338,-24.7961, -24.3639,-24.0437,-23.9353,-23.9306, -23.9457,-23.9635,-23.977,-23.9775, -23.9782,-24.415,-24.7406,-24.9578, -25.1757,-25.3929,-25.6105,-25.8279, -26.0469,-26.3737,-26.5935,-26.9241, -27.1453,-27.3642,-27.5888,-27.8161, -28.0422,-28.2696,-28.4992,-28.8464, -29.0781,-29.3083,-29.5377,-29.7675, -30.1129,-30.3431,-30.5714,-30.8033, -31.1496,-31.3819,-31.6137,-31.8459, -32.074,-32.3062,-32.5482,-32.7748, -33.01,-33.2445,-33.5962,-33.8313, -34.0656,-34.3019,-34.5371,-34.7734, -35.0103,-35.2448,-35.3627,-35.3147)
FOOTPRINT_POINT_LONGITUDE = (207.117,206.605,206.09,205.474,205.457 ,205.428,205.444,205.466,205.48,205.502 ,205.521,205.534,205.547,205.565, 205.577,205.589,205.601,205.612,205.629 ,205.64,205.649,205.66,205.675,205.685, 205.694,205.708,205.717,205.726,205.739 ,205.747,205.756,205.767,205.779, 205.787,205.797,205.805,205.812,205.818 ,205.824,205.83,205.837,205.844,205.849 ,205.861,205.869,205.873,205.875, 205.875,206.217,206.745,207.157,207.169 ,207.174,207.173,207.173,207.172, 207.172,207.171,207.171,207.17,207.169, 207.168,207.168,207.167,207.167,207.166 ,207.165,207.164,207.163,207.162, 207.162,207.161,207.16,207.16,207.159, 207.158,207.156,207.155,207.154,207.153 ,207.151,207.15,207.149,207.147,207.145 ,207.144,207.144,207.141,207.14,207.138 ,207.136,207.134,207.133,207.131, 207.129,207.127,207.125,207.123,207.122 ,207.117)
ORBIT_NUMBER = 18812
ORBITAL_ECCENTRICITY = 0.578
ORBITAL_INCLINATION = 86.96
ORBITAL_SEMIMAJOR_AXIS = 8832.72
PERIAPSIS_ALTITUDE = 335.11
PERIAPSIS_ARGUMENT_ANGLE = 337.53
PERIAPSIS_TIME = 2018-11-14T09:51:30.000Z
SPACECRAFT_ORIENTATION = (0.0,1.0,0.0)
^MEX_ORIENTATION_DESC = "MEX_ORIENTATION_DESC.TXT"
SPACECRAFT_POINTING_MODE = INERT
^MEX_POINTING_DESC = "MEX_POINTING_DESC.TXT"
RIGHT_ASCENSION = 66.715
DECLINATION = 41.475
OFFSET_ANGLE = -1e+32
SPACECRAFT_SOLAR_DISTANCE = 2.10262e+08
TARGET_NAME = MARS
/* CAMERA DATA ELEMENTS */
DETECTOR_TEMPERATURE = 18.5744
FOCAL_PLANE_TEMPERATURE = 10.6223
INST_CMPRS_NAME = "DISCRETE COSINE TRANSFORMATION (DCT)"
INST_CMPRS_RATIO = 9.86005
INST_CMPRS_QUALITY = 0
INST_CMPRS_QUANTZ_TBL_ID = 0
INSTRUMENT_TEMPERATURE = 12.2535
LENS_TEMPERATURE = 11.4379
MACROPIXEL_SIZE = 2
MISSING_FRAMES = 0
PIXEL_SUBSAMPLING_FLAG = N
SIGNAL_CHAIN_ID = 1
/* RADIOMETRIC DATA ELEMENTS */
BANDWIDTH = 180.0
CENTER_FILTER_WAVELENGTH = 677.0
RADIANCE_OFFSET = 3.91127
RADIANCE_SCALING_FACTOR = 0.0188495
REFLECTANCE_SCALING_FACTOR = 0.000434772
MEX:REFLECTANCE_OFFSET = 0.0902152
/* IMAGE OBJECT DEFINITIONS */
OBJECT = IMAGE
  INTERCHANGE_FORMAT = BINARY
  LINES = 27239
  LINE_SAMPLES = 3291
  SAMPLE_TYPE = UNSIGNED_INTEGER
  SAMPLE_BITS = 8
  BANDS = 1
  BAND_STORAGE_TYPE = BAND_SEQUENTIAL
  MAXIMUM = 255
  MEAN = 100.453
  MINIMUM = 1
  STANDARD_DEVIATION = 26.3146
END_OBJECT = IMAGE
/* MAP OBJECT DEFINITIONS */
OBJECT = IMAGE_MAP_PROJECTION
  ^DATA_SET_MAP_PROJECTION_CATALOG= "DSMAP.CAT"
  A_AXIS_RADIUS = 3396.0
  B_AXIS_RADIUS = 3396.0
  C_AXIS_RADIUS = 3396.0
  CENTER_LATITUDE = 0.0
  CENTER_LONGITUDE = 207.0
  COORDINATE_SYSTEM_NAME = PLANETOGRAPHIC
  COORDINATE_SYSTEM_TYPE = "BODY-FIXED ROTATING"
  EASTERNMOST_LONGITUDE = 207.174
  FIRST_STANDARD_PARALLEL = "N/A"
  LINE_FIRST_PIXEL = 1
  LINE_LAST_PIXEL = 27239
  LINE_PROJECTION_OFFSET = -56736.75
  MAP_PROJECTION_ROTATION = 0.0
  MAP_PROJECTION_TYPE = SINUSOIDAL
  MAP_RESOLUTION = 2370.85521546667
  MAP_SCALE = 0.025
  MAXIMUM_LATITUDE = -23.9306
  MINIMUM_LATITUDE = -35.3627
  POSITIVE_LONGITUDE_DIRECTION = EAST
  REFERENCE_LATITUDE = "N/A"
  REFERENCE_LONGITUDE = "N/A"
  SAMPLE_FIRST_PIXEL = 1
  SAMPLE_LAST_PIXEL = 3291
  SAMPLE_PROJECTION_OFFSET = 2686.25
  SECOND_STANDARD_PARALLEL = "N/A"
  WESTERNMOST_LONGITUDE = 205.428
END_OBJECT = IMAGE_MAP_PROJECTION
END
