PDS_VERSION_ID = PDS3
/* FILE DATA ELEMENTS */
RECORD_TYPE = UNDEFINED
/* POINTERS TO DATA OBJECTS */
^IMAGE = ("HI815_0000_ND4.TIF")
/* IDENTIFICATION DATA ELEMENTS */
DATA_SET_ID = "MEX-M-HRSC-4-REFDR-MAPPROJECT-EXT6-V4.0"
DATA_SET_NAME = "MARS EXPRESS HRSC MAP PROJECTED REFDR EXTENSION6 V4.0"
DETECTOR_ID = MEX_HRSC_NADIR
EVENT_TYPE = "MARS-REGIONAL-STEREO-Vo-Te"
INSTRUMENT_HOST_ID = MEX
INSTRUMENT_HOST_NAME = "MARS EXPRESS"
INSTRUMENT_ID = HRSC
INSTRUMENT_NAME = "HIGH RESOLUTION STEREO CAMERA"
MISSION_NAME = "MARS EXPRESS"
MISSION_PHASE_NAME = ME_Phase_39
PROCESSING_LEVEL_ID = 4
PRODUCT_CREATION_TIME = 2023-01-29T14:35:52.000Z
PRODUCT_ID = "HI815_0000_ND4.TIF"
RELEASE_ID = 0005
REVISION_ID = 0000
/* QUALITY DATA ELEMENTS */
DATA_QUALITY_ID = 1
DATA_QUALITY_DESC = "Data calculated based on original SPICE kernels"
/* TIME DATA ELEMENTS */
SPACECRAFT_CLOCK_START_COUNT = "1/0490344411.25692"
SPACECRAFT_CLOCK_STOP_COUNT = "1/0490344559.26693"
START_TIME = 2018-11-15T06:47:49.651Z
STOP_TIME = 2018-11-15T06:49:21.640Z
/* ORBITAL DATA ELEMENTS */
ASCENDING_NODE_LONGITUDE = 221.19
MAXIMUM_RESOLUTION = 0.0131
FOOTPRINT_POINT_LATITUDE = (-26.172,-26.1623,-26.1516,-26.1407, -26.1295,-26.1158,-26.1025,-26.1018, -26.0975,-25.9618,-25.7582,-25.5589, -25.3619,-25.2306,-25.0993,-24.9023, -24.7711,-24.5742,-24.443,-24.2461, -24.1149,-23.9181,-23.7869,-23.6557, -23.5245,-23.3934,-23.1966,-23.0655, -22.9343,-22.8032,-22.6721,-22.4754, -22.3443,-22.2132,-22.0821,-21.8854, -21.6232,-21.2955,-20.9677,-20.7055, -20.5089,-20.1812,-19.788,-19.5914, -19.5259,-19.5062,-19.5172,-19.534, -19.5515,-19.5627,-19.5712,-19.5718, -19.5724,-19.9001,-20.0313,-20.1624, -20.2935,-20.4246,-20.5558,-20.6869, -20.8181,-20.9492,-21.0804,-21.2115, -21.4083,-21.5394,-21.6706,-21.8017, -21.9329,-22.0641,-22.1953,-22.3265, -22.5233,-22.6545,-22.7857,-22.9169, -23.0482,-23.245,-23.3762,-23.5075, -23.7044,-23.8357,-23.967,-24.0983, -24.2296,-24.361,-24.4923,-24.6237, -24.8207,-24.9522,-25.0836,-25.2807, -25.4122,-25.5437,-25.6751,-25.8083, -25.9442,-26.0801,-26.148,-26.172)
FOOTPRINT_POINT_LONGITUDE = (260.744,260.553,260.349,260.144, 259.938,259.693,259.459,259.446,259.449 ,259.452,259.456,259.461,259.465, 259.468,259.471,259.475,259.477,259.481 ,259.484,259.487,259.49,259.493,259.495 ,259.497,259.5,259.502,259.505,259.507, 259.509,259.511,259.512,259.515,259.517 ,259.518,259.52,259.522,259.525,259.529 ,259.532,259.534,259.536,259.539, 259.542,259.543,259.544,259.544,259.739 ,260.041,260.366,260.581,260.748,260.76 ,260.766,260.766,260.765,260.765, 260.765,260.764,260.764,260.764,260.763 ,260.763,260.762,260.762,260.762, 260.761,260.761,260.76,260.76,260.759, 260.759,260.759,260.758,260.757,260.757 ,260.757,260.756,260.755,260.755, 260.754,260.754,260.753,260.752,260.752 ,260.751,260.751,260.75,260.75,260.749, 260.748,260.748,260.747,260.746,260.746 ,260.745,260.744,260.744,260.743, 260.742,260.744)
ORBIT_NUMBER = 18815
ORBITAL_ECCENTRICITY = 0.578
ORBITAL_INCLINATION = 86.95
ORBITAL_SEMIMAJOR_AXIS = 8843.49
PERIAPSIS_ALTITUDE = 334.62
PERIAPSIS_ARGUMENT_ANGLE = 337.02
PERIAPSIS_TIME = 2018-11-15T06:48:31.000Z
SPACECRAFT_ORIENTATION = (0.0,1.0,0.0)
^MEX_ORIENTATION_DESC = "MEX_ORIENTATION_DESC.TXT"
SPACECRAFT_POINTING_MODE = INERT
^MEX_POINTING_DESC = "MEX_POINTING_DESC.TXT"
RIGHT_ASCENSION = 66.204
DECLINATION = 41.816
OFFSET_ANGLE = -1e+32
SPACECRAFT_SOLAR_DISTANCE = 2.10365e+08
TARGET_NAME = MARS
/* CAMERA DATA ELEMENTS */
DETECTOR_TEMPERATURE = 18.9822
FOCAL_PLANE_TEMPERATURE = 11.0301
INST_CMPRS_NAME = "DISCRETE COSINE TRANSFORMATION (DCT)"
INST_CMPRS_RATIO = 4.6787
INST_CMPRS_QUALITY = 0
INST_CMPRS_QUANTZ_TBL_ID = 0
INSTRUMENT_TEMPERATURE = 12.2535
LENS_TEMPERATURE = 10.8262
MACROPIXEL_SIZE = 1
MISSING_FRAMES = 0
PIXEL_SUBSAMPLING_FLAG = N
SIGNAL_CHAIN_ID = 0
/* RADIOMETRIC DATA ELEMENTS */
BANDWIDTH = 177.0
CENTER_FILTER_WAVELENGTH = 677.5
RADIANCE_OFFSET = 2.56262
RADIANCE_SCALING_FACTOR = 0.0208574
REFLECTANCE_SCALING_FACTOR = 0.000490333
MEX:REFLECTANCE_OFFSET = 0.060244
/* IMAGE OBJECT DEFINITIONS */
OBJECT = IMAGE
  INTERCHANGE_FORMAT = BINARY
  LINES = 31591
  LINE_SAMPLES = 5773
  SAMPLE_TYPE = UNSIGNED_INTEGER
  SAMPLE_BITS = 8
  BANDS = 1
  BAND_STORAGE_TYPE = BAND_SEQUENTIAL
  MAXIMUM = 255
  MEAN = 129.91
  MINIMUM = 1
  STANDARD_DEVIATION = 22.2599
END_OBJECT = IMAGE
/* MAP OBJECT DEFINITIONS */
OBJECT = IMAGE_MAP_PROJECTION
  ^DATA_SET_MAP_PROJECTION_CATALOG= "DSMAP.CAT"
  A_AXIS_RADIUS = 3396.0
  B_AXIS_RADIUS = 3396.0
  C_AXIS_RADIUS = 3396.0
  CENTER_LATITUDE = 0.0
  CENTER_LONGITUDE = 260.0
  COORDINATE_SYSTEM_NAME = PLANETOGRAPHIC
  COORDINATE_SYSTEM_TYPE = "BODY-FIXED ROTATING"
  EASTERNMOST_LONGITUDE = 260.766
  FIRST_STANDARD_PARALLEL = "N/A"
  LINE_FIRST_PIXEL = 1
  LINE_LAST_PIXEL = 31591
  LINE_PROJECTION_OFFSET = -92494.0
  MAP_PROJECTION_ROTATION = 0.0
  MAP_PROJECTION_TYPE = SINUSOIDAL
  MAP_RESOLUTION = 4741.71043093333
  MAP_SCALE = 0.0125
  MAXIMUM_LATITUDE = -19.5062
  MINIMUM_LATITUDE = -26.172
  POSITIVE_LONGITUDE_DIRECTION = EAST
  REFERENCE_LATITUDE = "N/A"
  REFERENCE_LONGITUDE = "N/A"
  SAMPLE_FIRST_PIXEL = 1
  SAMPLE_LAST_PIXEL = 5773
  SAMPLE_PROJECTION_OFFSET = 2347.0
  SECOND_STANDARD_PARALLEL = "N/A"
  WESTERNMOST_LONGITUDE = 259.446
END_OBJECT = IMAGE_MAP_PROJECTION
END
