PDS_VERSION_ID = PDS3
/* FILE DATA ELEMENTS */
RECORD_TYPE = UNDEFINED
/* POINTERS TO DATA OBJECTS */
^IMAGE = ("HI815_0000_S24.TIF")
/* IDENTIFICATION DATA ELEMENTS */
DATA_SET_ID = "MEX-M-HRSC-4-REFDR-MAPPROJECT-EXT6-V4.0"
DATA_SET_NAME = "MARS EXPRESS HRSC MAP PROJECTED REFDR EXTENSION6 V4.0"
DETECTOR_ID = MEX_HRSC_S2
EVENT_TYPE = "MARS-REGIONAL-STEREO-Vo-Te"
INSTRUMENT_HOST_ID = MEX
INSTRUMENT_HOST_NAME = "MARS EXPRESS"
INSTRUMENT_ID = HRSC
INSTRUMENT_NAME = "HIGH RESOLUTION STEREO CAMERA"
MISSION_NAME = "MARS EXPRESS"
MISSION_PHASE_NAME = ME_Phase_39
PROCESSING_LEVEL_ID = 4
PRODUCT_CREATION_TIME = 2023-01-29T14:35:52.000Z
PRODUCT_ID = "HI815_0000_S24.TIF"
RELEASE_ID = 0005
REVISION_ID = 0000
/* QUALITY DATA ELEMENTS */
DATA_QUALITY_ID = 1
DATA_QUALITY_DESC = "Data calculated based on original SPICE kernels"
/* TIME DATA ELEMENTS */
SPACECRAFT_CLOCK_START_COUNT = "1/0490344411.25692"
SPACECRAFT_CLOCK_STOP_COUNT = "1/0490344559.26693"
START_TIME = 2018-11-15T06:47:22.905Z
STOP_TIME = 2018-11-15T06:48:54.503Z
/* ORBITAL DATA ELEMENTS */
ASCENDING_NODE_LONGITUDE = 221.19
MAXIMUM_RESOLUTION = 0.0137
FOOTPRINT_POINT_LATITUDE = (-26.2074,-26.1943,-26.1807,-26.1667, -26.1522,-26.1372,-26.1178,-26.1168, -26.1271,-25.9274,-25.7941,-25.6607, -25.5275,-25.3942,-25.1944,-24.9944, -24.861,-24.7274,-24.594,-24.4603, -24.3267,-24.1262,-23.926,-23.7925, -23.5338,-23.2098,-22.8855,-22.6909, -22.431,-22.1711,-22.0409,-21.8457, -21.7156,-21.5853,-21.4551,-21.3248, -21.1942,-21.0639,-20.8685,-20.738, -20.6074,-20.4771,-20.2816,-20.151, -19.955,-19.7589,-19.6287,-19.5631, -19.5415,-19.5629,-19.5784,-19.5923, -19.6045,-19.6165,-19.6274,-19.6282, -19.6288,-19.7591,-19.8899,-20.0209, -20.1515,-20.2821,-20.4127,-20.5432, -20.7388,-20.8691,-20.9995,-21.1949, -21.3252,-21.5204,-21.7158,-21.8459, -21.9761,-22.1711,-22.3013,-22.4313, -22.5611,-22.691,-22.8858,-23.0156, -23.3402,-23.5995,-23.8585,-24.0581, -24.1919,-24.3255,-24.4593,-24.5929, -24.7933,-24.9935,-25.127,-25.2602, -25.3937,-25.5269,-25.6603,-25.8603, -25.9936,-26.1268,-26.1935,-26.2074)
FOOTPRINT_POINT_LONGITUDE = (260.838,260.64,260.441,260.241,260.041 ,259.84,259.587,259.575,259.576,259.58, 259.583,259.585,259.587,259.59,259.593, 259.597,259.599,259.601,259.603,259.605 ,259.607,259.61,259.613,259.615,259.618 ,259.622,259.626,259.628,259.631, 259.634,259.635,259.636,259.638,259.639 ,259.64,259.641,259.641,259.642,259.644 ,259.645,259.645,259.646,259.648, 259.648,259.649,259.65,259.651,259.651, 259.651,259.93,260.134,260.326,260.505, 260.684,260.85,260.862,260.868,260.868, 260.867,260.867,260.866,260.865,260.865 ,260.864,260.864,260.863,260.863, 260.862,260.861,260.86,260.859,260.859, 260.858,260.857,260.857,260.856,260.855 ,260.855,260.854,260.853,260.852,260.85 ,260.849,260.848,260.847,260.846, 260.846,260.845,260.844,260.843,260.842 ,260.841,260.841,260.84,260.839,260.838 ,260.837,260.836,260.836,260.838)
ORBIT_NUMBER = 18815
ORBITAL_ECCENTRICITY = 0.578
ORBITAL_INCLINATION = 86.95
ORBITAL_SEMIMAJOR_AXIS = 8843.49
PERIAPSIS_ALTITUDE = 334.62
PERIAPSIS_ARGUMENT_ANGLE = 337.02
PERIAPSIS_TIME = 2018-11-15T06:48:31.000Z
SPACECRAFT_ORIENTATION = (0.0,1.0,0.0)
^MEX_ORIENTATION_DESC = "MEX_ORIENTATION_DESC.TXT"
SPACECRAFT_POINTING_MODE = INERT
^MEX_POINTING_DESC = "MEX_POINTING_DESC.TXT"
RIGHT_ASCENSION = 66.204
DECLINATION = 41.816
OFFSET_ANGLE = -1e+32
SPACECRAFT_SOLAR_DISTANCE = 2.10365e+08
TARGET_NAME = MARS
/* CAMERA DATA ELEMENTS */
DETECTOR_TEMPERATURE = 19.39
FOCAL_PLANE_TEMPERATURE = 11.0301
INST_CMPRS_NAME = "DISCRETE COSINE TRANSFORMATION (DCT)"
INST_CMPRS_RATIO = 5.30266
INST_CMPRS_QUALITY = 0
INST_CMPRS_QUANTZ_TBL_ID = 0
INSTRUMENT_TEMPERATURE = 12.2535
LENS_TEMPERATURE = 10.8262
MACROPIXEL_SIZE = 1
MISSING_FRAMES = 0
PIXEL_SUBSAMPLING_FLAG = N
SIGNAL_CHAIN_ID = 1
/* RADIOMETRIC DATA ELEMENTS */
BANDWIDTH = 178.0
CENTER_FILTER_WAVELENGTH = 679.0
RADIANCE_OFFSET = 2.97068
RADIANCE_SCALING_FACTOR = 0.0208568
REFLECTANCE_SCALING_FACTOR = 0.000488792
MEX:REFLECTANCE_OFFSET = 0.0696198
/* IMAGE OBJECT DEFINITIONS */
OBJECT = IMAGE
  INTERCHANGE_FORMAT = BINARY
  LINES = 31591
  LINE_SAMPLES = 5773
  SAMPLE_TYPE = UNSIGNED_INTEGER
  SAMPLE_BITS = 8
  BANDS = 1
  BAND_STORAGE_TYPE = BAND_SEQUENTIAL
  MAXIMUM = 255
  MEAN = 142.373
  MINIMUM = 1
  STANDARD_DEVIATION = 22.5777
END_OBJECT = IMAGE
/* MAP OBJECT DEFINITIONS */
OBJECT = IMAGE_MAP_PROJECTION
  ^DATA_SET_MAP_PROJECTION_CATALOG= "DSMAP.CAT"
  A_AXIS_RADIUS = 3396.0
  B_AXIS_RADIUS = 3396.0
  C_AXIS_RADIUS = 3396.0
  CENTER_LATITUDE = 0.0
  CENTER_LONGITUDE = 260.0
  COORDINATE_SYSTEM_NAME = PLANETOGRAPHIC
  COORDINATE_SYSTEM_TYPE = "BODY-FIXED ROTATING"
  EASTERNMOST_LONGITUDE = 260.868
  FIRST_STANDARD_PARALLEL = "N/A"
  LINE_FIRST_PIXEL = 1
  LINE_LAST_PIXEL = 31591
  LINE_PROJECTION_OFFSET = -92494.0
  MAP_PROJECTION_ROTATION = 0.0
  MAP_PROJECTION_TYPE = SINUSOIDAL
  MAP_RESOLUTION = 4741.71043093333
  MAP_SCALE = 0.0125
  MAXIMUM_LATITUDE = -19.5415
  MINIMUM_LATITUDE = -26.2074
  POSITIVE_LONGITUDE_DIRECTION = EAST
  REFERENCE_LATITUDE = "N/A"
  REFERENCE_LONGITUDE = "N/A"
  SAMPLE_FIRST_PIXEL = 1
  SAMPLE_LAST_PIXEL = 5773
  SAMPLE_PROJECTION_OFFSET = 2347.0
  SECOND_STANDARD_PARALLEL = "N/A"
  WESTERNMOST_LONGITUDE = 259.575
END_OBJECT = IMAGE_MAP_PROJECTION
END
