PDS_VERSION_ID = PDS3
/* FILE DATA ELEMENTS */
RECORD_TYPE = UNDEFINED
/* POINTERS TO DATA OBJECTS */
^IMAGE = ("HI820_0000_GR4.TIF")
/* IDENTIFICATION DATA ELEMENTS */
DATA_SET_ID = "MEX-M-HRSC-4-REFDR-MAPPROJECT-EXT6-V4.0"
DATA_SET_NAME = "MARS EXPRESS HRSC MAP PROJECTED REFDR EXTENSION6 V4.0"
DETECTOR_ID = MEX_HRSC_GREEN
EVENT_TYPE = "MARS-REGIONAL-MAPPING-Vo-Im-Pf"
INSTRUMENT_HOST_ID = MEX
INSTRUMENT_HOST_NAME = "MARS EXPRESS"
INSTRUMENT_ID = HRSC
INSTRUMENT_NAME = "HIGH RESOLUTION STEREO CAMERA"
MISSION_NAME = "MARS EXPRESS"
MISSION_PHASE_NAME = ME_Phase_39
PROCESSING_LEVEL_ID = 4
PRODUCT_CREATION_TIME = 2023-01-29T14:35:52.000Z
PRODUCT_ID = "HI820_0000_GR4.TIF"
RELEASE_ID = 0005
REVISION_ID = 0000
/* QUALITY DATA ELEMENTS */
DATA_QUALITY_ID = 1
DATA_QUALITY_DESC = "Data calculated based on original SPICE kernels"
/* TIME DATA ELEMENTS */
SPACECRAFT_CLOCK_START_COUNT = "1/0490469982.23988"
SPACECRAFT_CLOCK_STOP_COUNT = "1/0490470192.05290"
START_TIME = 2018-11-16T17:40:48.405Z
STOP_TIME = 2018-11-16T17:43:20.042Z
/* ORBITAL DATA ELEMENTS */
ASCENDING_NODE_LONGITUDE = 221.09
MAXIMUM_RESOLUTION = 0.0533
FOOTPRINT_POINT_LATITUDE = (-33.9304,-33.9283,-33.9262,-33.9212, -33.9166,-33.9164,-33.9217,-33.7033, -33.4848,-33.1572,-32.8298,-32.6115, -32.3932,-32.0658,-31.8473,-31.6306, -31.4126,-31.0773,-30.8586,-30.6409, -30.3139,-30.096,-29.878,-29.66, -29.4421,-29.1151,-28.8972,-28.6792, -28.4613,-28.2434,-28.0254,-27.8075, -27.5895,-27.3716,-27.1537,-26.8268, -26.6088,-26.1816,-25.8652,-25.4433, -25.2323,-25.0213,-24.8102,-24.4935, -24.177,-23.9659,-23.6493,-23.2267, -23.1209,-23.0529,-23.0556,-23.0581, -23.0588,-23.0588,-23.0598,-23.3763, -23.694,-24.0109,-24.2221,-24.4333, -24.6446,-24.9615,-25.2782,-25.4893, -25.8059,-26.0171,-26.2281,-26.4392, -26.6569,-26.984,-27.3111,-27.6383, -27.8563,-28.0744,-28.2926,-28.6197, -28.8378,-29.0559,-29.274,-29.4921, -29.7102,-29.9283,-30.1465,-30.3646, -30.5828,-30.8009,-31.0191,-31.2449, -31.5724,-31.7914,-32.0088,-32.2273, -32.4458,-32.6643,-32.8828,-33.2106, -33.4292,-33.7571,-33.8665,-33.9304)
FOOTPRINT_POINT_LONGITUDE = (110.53,110.16,109.885,109.419,109.076, 109.062,109.048,109.057,109.065,109.077 ,109.089,109.097,109.104,109.115, 109.123,109.126,109.133,109.144,109.153 ,109.158,109.167,109.173,109.179, 109.184,109.19,109.198,109.203,109.208, 109.213,109.218,109.222,109.227,109.231 ,109.236,109.24,109.246,109.25,109.258, 109.263,109.27,109.273,109.276,109.279, 109.283,109.288,109.291,109.294,109.299 ,109.3,109.301,109.628,110.097,110.544, 110.555,110.559,110.559,110.558,110.557 ,110.557,110.556,110.556,110.555, 110.555,110.554,110.554,110.554,110.553 ,110.553,110.553,110.552,110.552, 110.551,110.551,110.551,110.55,110.55, 110.549,110.549,110.548,110.548,110.547 ,110.547,110.547,110.546,110.546, 110.545,110.545,110.544,110.544,110.545 ,110.543,110.543,110.542,110.542, 110.542,110.541,110.541,110.54,110.54, 110.53)
ORBIT_NUMBER = 18820
ORBITAL_ECCENTRICITY = 0.578
ORBITAL_INCLINATION = 86.95
ORBITAL_SEMIMAJOR_AXIS = 8836.96
PERIAPSIS_ALTITUDE = 334.28
PERIAPSIS_ARGUMENT_ANGLE = 336.15
PERIAPSIS_TIME = 2018-11-16T17:43:16.000Z
SPACECRAFT_ORIENTATION = (0.0,1.0,0.0)
^MEX_ORIENTATION_DESC = "MEX_ORIENTATION_DESC.TXT"
SPACECRAFT_POINTING_MODE = INERT
^MEX_POINTING_DESC = "MEX_POINTING_DESC.TXT"
RIGHT_ASCENSION = 65.333
DECLINATION = 42.409
OFFSET_ANGLE = -1e+32
SPACECRAFT_SOLAR_DISTANCE = 2.1054e+08
TARGET_NAME = MARS
/* CAMERA DATA ELEMENTS */
DETECTOR_TEMPERATURE = 18.9822
FOCAL_PLANE_TEMPERATURE = 11.4379
INST_CMPRS_NAME = "DISCRETE COSINE TRANSFORMATION (DCT)"
INST_CMPRS_RATIO = 7.92313
INST_CMPRS_QUALITY = 0
INST_CMPRS_QUANTZ_TBL_ID = 0
INSTRUMENT_TEMPERATURE = 12.4574
LENS_TEMPERATURE = 11.0301
MACROPIXEL_SIZE = 4
MISSING_FRAMES = 1
PIXEL_SUBSAMPLING_FLAG = N
SIGNAL_CHAIN_ID = 2
/* RADIOMETRIC DATA ELEMENTS */
BANDWIDTH = 88.0
CENTER_FILTER_WAVELENGTH = 538.0
RADIANCE_OFFSET = 1.26074
RADIANCE_SCALING_FACTOR = 0.00506466
REFLECTANCE_SCALING_FACTOR = 0.000193288
MEX:REFLECTANCE_OFFSET = 0.048115
/* IMAGE OBJECT DEFINITIONS */
OBJECT = IMAGE
  INTERCHANGE_FORMAT = BINARY
  LINES = 12907
  LINE_SAMPLES = 1565
  SAMPLE_TYPE = UNSIGNED_INTEGER
  SAMPLE_BITS = 8
  BANDS = 1
  BAND_STORAGE_TYPE = BAND_SEQUENTIAL
  MAXIMUM = 255
  MEAN = 125.746
  MINIMUM = 1
  STANDARD_DEVIATION = 21.8341
END_OBJECT = IMAGE
/* MAP OBJECT DEFINITIONS */
OBJECT = IMAGE_MAP_PROJECTION
  ^DATA_SET_MAP_PROJECTION_CATALOG= "DSMAP.CAT"
  A_AXIS_RADIUS = 3396.0
  B_AXIS_RADIUS = 3396.0
  C_AXIS_RADIUS = 3396.0
  CENTER_LATITUDE = 0.0
  CENTER_LONGITUDE = 110.0
  COORDINATE_SYSTEM_NAME = PLANETOGRAPHIC
  COORDINATE_SYSTEM_TYPE = "BODY-FIXED ROTATING"
  EASTERNMOST_LONGITUDE = 110.559
  FIRST_STANDARD_PARALLEL = "N/A"
  LINE_FIRST_PIXEL = 1
  LINE_LAST_PIXEL = 12907
  LINE_PROJECTION_OFFSET = -27332.625
  MAP_PROJECTION_ROTATION = 0.0
  MAP_PROJECTION_TYPE = SINUSOIDAL
  MAP_RESOLUTION = 1185.42760773333
  MAP_SCALE = 0.05
  MAXIMUM_LATITUDE = -23.0529
  MINIMUM_LATITUDE = -33.9304
  POSITIVE_LONGITUDE_DIRECTION = EAST
  REFERENCE_LATITUDE = "N/A"
  REFERENCE_LONGITUDE = "N/A"
  SAMPLE_FIRST_PIXEL = 1
  SAMPLE_LAST_PIXEL = 1565
  SAMPLE_PROJECTION_OFFSET = 947.875
  SECOND_STANDARD_PARALLEL = "N/A"
  WESTERNMOST_LONGITUDE = 109.048
END_OBJECT = IMAGE_MAP_PROJECTION
END
