PDS_VERSION_ID = PDS3
/* FILE DATA ELEMENTS */
RECORD_TYPE = UNDEFINED
/* POINTERS TO DATA OBJECTS */
^IMAGE = ("HI820_0000_P24.TIF")
/* IDENTIFICATION DATA ELEMENTS */
DATA_SET_ID = "MEX-M-HRSC-4-REFDR-MAPPROJECT-EXT6-V4.0"
DATA_SET_NAME = "MARS EXPRESS HRSC MAP PROJECTED REFDR EXTENSION6 V4.0"
DETECTOR_ID = MEX_HRSC_P2
EVENT_TYPE = "MARS-REGIONAL-MAPPING-Vo-Im-Pf"
INSTRUMENT_HOST_ID = MEX
INSTRUMENT_HOST_NAME = "MARS EXPRESS"
INSTRUMENT_ID = HRSC
INSTRUMENT_NAME = "HIGH RESOLUTION STEREO CAMERA"
MISSION_NAME = "MARS EXPRESS"
MISSION_PHASE_NAME = ME_Phase_39
PROCESSING_LEVEL_ID = 4
PRODUCT_CREATION_TIME = 2023-01-29T14:35:52.000Z
PRODUCT_ID = "HI820_0000_P24.TIF"
RELEASE_ID = 0005
REVISION_ID = 0000
/* QUALITY DATA ELEMENTS */
DATA_QUALITY_ID = 1
DATA_QUALITY_DESC = "Data calculated based on original SPICE kernels"
/* TIME DATA ELEMENTS */
SPACECRAFT_CLOCK_START_COUNT = "1/0490469982.23988"
SPACECRAFT_CLOCK_STOP_COUNT = "1/0490470192.05290"
START_TIME = 2018-11-16T17:40:24.017Z
STOP_TIME = 2018-11-16T17:42:56.652Z
/* ORBITAL DATA ELEMENTS */
ASCENDING_NODE_LONGITUDE = 221.09
MAXIMUM_RESOLUTION = 0.0283
FOOTPRINT_POINT_LATITUDE = (-33.9714,-33.9694,-33.9635,-33.9565, -33.9562,-33.9416,-33.7253,-33.509, -33.1846,-32.968,-32.7514,-32.535, -32.3181,-32.1023,-31.7724,-31.553, -31.3354,-30.9082,-30.5799,-30.2529, -30.035,-29.8173,-29.4899,-29.1622, -28.9435,-28.7252,-28.5065,-28.2885, -28.0691,-27.7409,-27.5221,-27.1937, -26.8648,-26.6447,-26.4253,-26.2056, -25.8763,-25.6564,-25.436,-25.216, -24.9957,-24.668,-24.454,-24.2406, -24.0266,-23.7063,-23.4897,-23.2768, -23.1693,-23.0623,-23.0644,-23.0666, -23.0666,-23.0655,-23.0654,-23.0658, -23.3859,-23.6033,-23.8177,-24.0323, -24.3533,-24.5674,-24.7815,-25.0026, -25.2233,-25.5542,-25.8842,-26.1045, -26.3245,-26.5439,-26.7633,-27.0925, -27.4217,-27.7505,-28.0793,-28.2987, -28.5176,-28.7365,-28.9553,-29.1739, -29.3926,-29.6113,-29.8297,-30.157, -30.484,-30.7022,-30.92,-31.138, -31.3556,-31.6795,-31.8974,-32.1166, -32.4416,-32.6582,-32.8752,-33.0919, -33.417,-33.7419,-33.8503,-33.9714)
FOOTPRINT_POINT_LONGITUDE = (110.522,110.089,109.497,109.048, 109.034,109.019,109.028,109.036,109.048 ,109.055,109.063,109.071,109.078, 109.085,109.093,109.099,109.105,109.122 ,109.13,109.139,109.144,109.15,109.158, 109.166,109.171,109.176,109.181,109.186 ,109.19,109.197,109.201,109.208,109.214 ,109.217,109.221,109.225,109.23,109.234 ,109.237,109.24,109.243,109.248,109.25, 109.253,109.256,109.259,109.261,109.264 ,109.265,109.265,109.558,109.927, 110.208,110.566,110.578,110.583,110.582 ,110.58,110.579,110.578,110.577,110.576 ,110.575,110.574,110.573,110.571,110.57 ,110.569,110.568,110.567,110.566, 110.565,110.564,110.562,110.561,110.56, 110.559,110.558,110.557,110.556,110.555 ,110.553,110.552,110.551,110.549, 110.548,110.547,110.546,110.545,110.544 ,110.543,110.541,110.539,110.539, 110.538,110.536,110.535,110.533,110.532 ,110.522)
ORBIT_NUMBER = 18820
ORBITAL_ECCENTRICITY = 0.578
ORBITAL_INCLINATION = 86.95
ORBITAL_SEMIMAJOR_AXIS = 8836.96
PERIAPSIS_ALTITUDE = 334.28
PERIAPSIS_ARGUMENT_ANGLE = 336.15
PERIAPSIS_TIME = 2018-11-16T17:43:16.000Z
SPACECRAFT_ORIENTATION = (0.0,1.0,0.0)
^MEX_ORIENTATION_DESC = "MEX_ORIENTATION_DESC.TXT"
SPACECRAFT_POINTING_MODE = INERT
^MEX_POINTING_DESC = "MEX_POINTING_DESC.TXT"
RIGHT_ASCENSION = 65.333
DECLINATION = 42.409
OFFSET_ANGLE = -1e+32
SPACECRAFT_SOLAR_DISTANCE = 2.1054e+08
TARGET_NAME = MARS
/* CAMERA DATA ELEMENTS */
DETECTOR_TEMPERATURE = 19.5939
FOCAL_PLANE_TEMPERATURE = 11.4379
INST_CMPRS_NAME = "DISCRETE COSINE TRANSFORMATION (DCT)"
INST_CMPRS_RATIO = 6.08012
INST_CMPRS_QUALITY = 0
INST_CMPRS_QUANTZ_TBL_ID = 0
INSTRUMENT_TEMPERATURE = 12.4574
LENS_TEMPERATURE = 11.0301
MACROPIXEL_SIZE = 2
MISSING_FRAMES = 0
PIXEL_SUBSAMPLING_FLAG = N
SIGNAL_CHAIN_ID = 3
/* RADIOMETRIC DATA ELEMENTS */
BANDWIDTH = 177.0
CENTER_FILTER_WAVELENGTH = 676.5
RADIANCE_OFFSET = 3.23535
RADIANCE_SCALING_FACTOR = 0.0200796
REFLECTANCE_SCALING_FACTOR = 0.000471932
MEX:REFLECTANCE_OFFSET = 0.0760408
/* IMAGE OBJECT DEFINITIONS */
OBJECT = IMAGE
  INTERCHANGE_FORMAT = BINARY
  LINES = 25814
  LINE_SAMPLES = 3130
  SAMPLE_TYPE = UNSIGNED_INTEGER
  SAMPLE_BITS = 8
  BANDS = 1
  BAND_STORAGE_TYPE = BAND_SEQUENTIAL
  MAXIMUM = 255
  MEAN = 102.147
  MINIMUM = 1
  STANDARD_DEVIATION = 30.7953
END_OBJECT = IMAGE
/* MAP OBJECT DEFINITIONS */
OBJECT = IMAGE_MAP_PROJECTION
  ^DATA_SET_MAP_PROJECTION_CATALOG= "DSMAP.CAT"
  A_AXIS_RADIUS = 3396.0
  B_AXIS_RADIUS = 3396.0
  C_AXIS_RADIUS = 3396.0
  CENTER_LATITUDE = 0.0
  CENTER_LONGITUDE = 110.0
  COORDINATE_SYSTEM_NAME = PLANETOGRAPHIC
  COORDINATE_SYSTEM_TYPE = "BODY-FIXED ROTATING"
  EASTERNMOST_LONGITUDE = 110.583
  FIRST_STANDARD_PARALLEL = "N/A"
  LINE_FIRST_PIXEL = 1
  LINE_LAST_PIXEL = 25814
  LINE_PROJECTION_OFFSET = -54664.75
  MAP_PROJECTION_ROTATION = 0.0
  MAP_PROJECTION_TYPE = SINUSOIDAL
  MAP_RESOLUTION = 2370.85521546667
  MAP_SCALE = 0.025
  MAXIMUM_LATITUDE = -23.0623
  MINIMUM_LATITUDE = -33.9714
  POSITIVE_LONGITUDE_DIRECTION = EAST
  REFERENCE_LATITUDE = "N/A"
  REFERENCE_LONGITUDE = "N/A"
  SAMPLE_FIRST_PIXEL = 1
  SAMPLE_LAST_PIXEL = 3130
  SAMPLE_PROJECTION_OFFSET = 1896.25
  SECOND_STANDARD_PARALLEL = "N/A"
  WESTERNMOST_LONGITUDE = 109.019
END_OBJECT = IMAGE_MAP_PROJECTION
END
