PDS_VERSION_ID = PDS3
/* FILE DATA ELEMENTS */
RECORD_TYPE = UNDEFINED
/* POINTERS TO DATA OBJECTS */
^IMAGE = ("HI823_0000_BL4.TIF")
/* IDENTIFICATION DATA ELEMENTS */
DATA_SET_ID = "MEX-M-HRSC-4-REFDR-MAPPROJECT-EXT6-V4.0"
DATA_SET_NAME = "MARS EXPRESS HRSC MAP PROJECTED REFDR EXTENSION6 V4.0"
DETECTOR_ID = MEX_HRSC_BLUE
EVENT_TYPE = "MARS-REGIONAL-MAPPING-Im-Fl"
INSTRUMENT_HOST_ID = MEX
INSTRUMENT_HOST_NAME = "MARS EXPRESS"
INSTRUMENT_ID = HRSC
INSTRUMENT_NAME = "HIGH RESOLUTION STEREO CAMERA"
MISSION_NAME = "MARS EXPRESS"
MISSION_PHASE_NAME = ME_Phase_39
PROCESSING_LEVEL_ID = 4
PRODUCT_CREATION_TIME = 2023-01-29T14:35:52.000Z
PRODUCT_ID = "HI823_0000_BL4.TIF"
RELEASE_ID = 0005
REVISION_ID = 0000
/* QUALITY DATA ELEMENTS */
DATA_QUALITY_ID = 1
DATA_QUALITY_DESC = "Data calculated based on original SPICE kernels"
/* TIME DATA ELEMENTS */
SPACECRAFT_CLOCK_START_COUNT = "1/0490545465.24943"
SPACECRAFT_CLOCK_STOP_COUNT = "1/0490545666.31951"
START_TIME = 2018-11-17T14:39:50.967Z
STOP_TIME = 2018-11-17T14:41:04.687Z
/* ORBITAL DATA ELEMENTS */
ASCENDING_NODE_LONGITUDE = 221.04
MAXIMUM_RESOLUTION = 0.0533
FOOTPRINT_POINT_LATITUDE = (-25.571,-25.5604,-25.5519,-25.5445, -25.5325,-25.5234,-25.5141,-25.504, -25.5033,-25.5003,-25.2387,-25.0294, -24.9248,-24.8201,-24.6108,-24.5062, -24.3492,-24.2445,-24.0352,-23.8263, -23.7216,-23.616,-23.5096,-23.4046, -23.2998,-23.195,-23.0902,-22.933, -22.8282,-22.7234,-22.5157,-22.3063, -22.2009,-22.0433,-21.886,-21.7811, -21.6239,-21.4146,-21.2562,-21.1503, -20.9417,-20.8365,-20.6785,-20.5732, -20.4679,-20.3627,-20.2577,-20.2051, -20.2042,-20.2165,-20.225,-20.2386, -20.2484,-20.2569,-20.2709,-20.2715, -20.2726,-20.3775,-20.4827,-20.5879, -20.693,-20.798,-20.9032,-21.1131, -21.2705,-21.4285,-21.5339,-21.6387, -21.7436,-21.8485,-21.9534,-22.0582, -22.1631,-22.268,-22.3729,-22.4777, -22.5825,-22.6873,-22.8446,-23.0018, -23.1069,-23.2117,-23.3169,-23.5255, -23.6303,-23.7875,-23.8924,-23.9981, -24.1034,-24.3129,-24.4693,-24.6269, -24.8884,-25.0455,-25.2025,-25.3071, -25.4118,-25.5165,-25.5688,-25.571)
FOOTPRINT_POINT_LONGITUDE = (164.157,163.943,163.777,163.634, 163.408,163.242,163.076,162.897,162.885 ,162.878,162.882,162.885,162.886, 162.887,162.89,162.892,162.894,162.895, 162.898,162.901,162.902,162.902,162.901 ,162.901,162.902,162.904,162.905, 162.906,162.907,162.908,162.912,162.914 ,162.915,162.916,162.917,162.918, 162.919,162.921,162.921,162.921,162.923 ,162.924,162.924,162.924,162.925, 162.925,162.926,162.926,162.926,163.147 ,163.299,163.544,163.731,163.894, 164.163,164.174,164.178,164.178,164.178 ,164.177,164.177,164.176,164.176, 164.175,164.175,164.174,164.173,164.173 ,164.172,164.172,164.172,164.172, 164.171,164.171,164.171,164.171,164.17, 164.17,164.17,164.169,164.169,164.168, 164.167,164.169,164.168,164.168,164.167 ,164.165,164.164,164.163,164.164, 164.163,164.163,164.162,164.162,164.162 ,164.162,164.162,164.162,164.157)
ORBIT_NUMBER = 18823
ORBITAL_ECCENTRICITY = 0.578
ORBITAL_INCLINATION = 86.96
ORBITAL_SEMIMAJOR_AXIS = 8829.29
PERIAPSIS_ALTITUDE = 335.01
PERIAPSIS_ARGUMENT_ANGLE = 335.67
PERIAPSIS_TIME = 2018-11-17T14:40:13.000Z
SPACECRAFT_ORIENTATION = (0.0,1.0,0.0)
^MEX_ORIENTATION_DESC = "MEX_ORIENTATION_DESC.TXT"
SPACECRAFT_POINTING_MODE = INERT
^MEX_POINTING_DESC = "MEX_POINTING_DESC.TXT"
RIGHT_ASCENSION = 64.818
DECLINATION = 42.75
OFFSET_ANGLE = -1e+32
SPACECRAFT_SOLAR_DISTANCE = 2.10646e+08
TARGET_NAME = MARS
/* CAMERA DATA ELEMENTS */
DETECTOR_TEMPERATURE = 18.7783
FOCAL_PLANE_TEMPERATURE = 11.0301
INST_CMPRS_NAME = "DISCRETE COSINE TRANSFORMATION (DCT)"
INST_CMPRS_RATIO = 5.1714
INST_CMPRS_QUALITY = 0
INST_CMPRS_QUANTZ_TBL_ID = 0
INSTRUMENT_TEMPERATURE = 12.4574
LENS_TEMPERATURE = 11.0301
MACROPIXEL_SIZE = 4
MISSING_FRAMES = 0
PIXEL_SUBSAMPLING_FLAG = N
SIGNAL_CHAIN_ID = 2
/* RADIOMETRIC DATA ELEMENTS */
BANDWIDTH = 76.0
CENTER_FILTER_WAVELENGTH = 444.0
RADIANCE_OFFSET = 0.486883
RADIANCE_SCALING_FACTOR = 0.00199002
REFLECTANCE_SCALING_FACTOR = 9.07237e-05
MEX:REFLECTANCE_OFFSET = 0.0221967
/* IMAGE OBJECT DEFINITIONS */
OBJECT = IMAGE
  INTERCHANGE_FORMAT = BINARY
  LINES = 6698
  LINE_SAMPLES = 1409
  SAMPLE_TYPE = UNSIGNED_INTEGER
  SAMPLE_BITS = 8
  BANDS = 1
  BAND_STORAGE_TYPE = BAND_SEQUENTIAL
  MAXIMUM = 254
  MEAN = 151.646
  MINIMUM = 1
  STANDARD_DEVIATION = 18.0865
END_OBJECT = IMAGE
/* MAP OBJECT DEFINITIONS */
OBJECT = IMAGE_MAP_PROJECTION
  ^DATA_SET_MAP_PROJECTION_CATALOG= "DSMAP.CAT"
  A_AXIS_RADIUS = 3396.0
  B_AXIS_RADIUS = 3396.0
  C_AXIS_RADIUS = 3396.0
  CENTER_LATITUDE = 0.0
  CENTER_LONGITUDE = 164.0
  COORDINATE_SYSTEM_NAME = PLANETOGRAPHIC
  COORDINATE_SYSTEM_TYPE = "BODY-FIXED ROTATING"
  EASTERNMOST_LONGITUDE = 164.178
  FIRST_STANDARD_PARALLEL = "N/A"
  LINE_FIRST_PIXEL = 1
  LINE_LAST_PIXEL = 6698
  LINE_PROJECTION_OFFSET = -23958.125
  MAP_PROJECTION_ROTATION = 0.0
  MAP_PROJECTION_TYPE = SINUSOIDAL
  MAP_RESOLUTION = 1185.42760773333
  MAP_SCALE = 0.05
  MAXIMUM_LATITUDE = -20.2042
  MINIMUM_LATITUDE = -25.571
  POSITIVE_LONGITUDE_DIRECTION = EAST
  REFERENCE_LATITUDE = "N/A"
  REFERENCE_LONGITUDE = "N/A"
  SAMPLE_FIRST_PIXEL = 1
  SAMPLE_LAST_PIXEL = 1409
  SAMPLE_PROJECTION_OFFSET = 1232.125
  SECOND_STANDARD_PARALLEL = "N/A"
  WESTERNMOST_LONGITUDE = 162.878
END_OBJECT = IMAGE_MAP_PROJECTION
END
