PDS_VERSION_ID = PDS3
/* FILE DATA ELEMENTS */
RECORD_TYPE = UNDEFINED
/* POINTERS TO DATA OBJECTS */
^IMAGE = ("HI824_0000_ND4.TIF")
/* IDENTIFICATION DATA ELEMENTS */
DATA_SET_ID = "MEX-M-HRSC-4-REFDR-MAPPROJECT-EXT6-V4.0"
DATA_SET_NAME = "MARS EXPRESS HRSC MAP PROJECTED REFDR EXTENSION6 V4.0"
DETECTOR_ID = MEX_HRSC_NADIR
EVENT_TYPE = "MARS-REGIONAL-MAPPING-Im-Fl"
INSTRUMENT_HOST_ID = MEX
INSTRUMENT_HOST_NAME = "MARS EXPRESS"
INSTRUMENT_ID = HRSC
INSTRUMENT_NAME = "HIGH RESOLUTION STEREO CAMERA"
MISSION_NAME = "MARS EXPRESS"
MISSION_PHASE_NAME = ME_Phase_39
PROCESSING_LEVEL_ID = 4
PRODUCT_CREATION_TIME = 2023-01-29T14:35:52.000Z
PRODUCT_ID = "HI824_0000_ND4.TIF"
RELEASE_ID = 0005
REVISION_ID = 0000
/* QUALITY DATA ELEMENTS */
DATA_QUALITY_ID = 1
DATA_QUALITY_DESC = "Data calculated based on original SPICE kernels"
/* TIME DATA ELEMENTS */
SPACECRAFT_CLOCK_START_COUNT = "1/0490570767.25670"
SPACECRAFT_CLOCK_STOP_COUNT = "1/0490570990.23744"
START_TIME = 2018-11-17T21:40:30.662Z
STOP_TIME = 2018-11-17T21:43:06.670Z
/* ORBITAL DATA ELEMENTS */
ASCENDING_NODE_LONGITUDE = 221.02
MAXIMUM_RESOLUTION = 0.014
FOOTPRINT_POINT_LATITUDE = (-17.6001,-17.5868,-17.5735,-17.5589, -17.5585,-17.5544,-17.0563,-16.8558, -16.5554,-16.1531,-15.7503,-15.5472, -15.3448,-15.1424,-14.9404,-14.6371, -14.434,-14.1318,-13.9187,-13.556, -13.3138,-13.0711,-12.8287,-12.5865, -12.3433,-11.9784,-11.7345,-11.4916, -11.2499,-11.0056,-10.7632,-10.396, -10.1512,-9.78395,-9.5393,-9.28392, -8.92813,-8.6806,-8.43303,-8.18681, -7.93376,-7.68205,-7.42946,-7.17926, -6.79256,-6.53375,-6.14131,-6.00997, -6.00681,-6.02132,-6.03389,-6.04074, -6.05232,-6.0519,-6.05237,-6.31286, -6.57535,-6.83613,-7.08935,-7.3448, -7.59841,-7.97795,-8.22347,-8.47026, -8.83964,-9.08462,-9.45754,-9.82084, -10.066,-10.3101,-10.5541,-10.7989, -11.1647,-11.4085,-11.652,-12.0163, -12.2605,-12.5038,-12.7476,-12.9837, -13.2256,-13.4685,-13.8381,-14.0694, -14.3728,-14.5752,-14.7774,-15.0803, -15.3837,-15.5861,-15.7891,-16.184, -16.3865,-16.5932,-16.7952,-16.9967, -17.2946,-17.4951,-17.5951,-17.6001)
FOOTPRINT_POINT_LONGITUDE = (63.029,62.553,62.1401,61.7357,61.7232, 61.718,61.7189,61.7195,61.7203,61.7216, 61.7228,61.7238,61.7245,61.7253,61.7259 ,61.7269,61.7277,61.7284,61.7293, 61.7304,61.7312,61.732,61.7328,61.7335, 61.7343,61.7356,61.7364,61.7372,61.7376 ,61.7385,61.7391,61.7405,61.7413, 61.7426,61.7434,61.7459,61.7453,61.7465 ,61.7477,61.7486,61.7506,61.7517, 61.7526,61.7531,61.7555,61.7567,61.7585 ,61.7591,61.7591,62.1524,62.568,62.8248 ,63.2536,63.2696,63.2772,63.2693, 63.2601,63.2501,63.2428,63.234,63.2264, 63.214,63.2076,63.2002,63.1897,63.1836, 63.1704,63.1643,63.158,63.1525,63.147, 63.1409,63.1328,63.1274,63.1223,63.1152 ,63.1094,63.1043,63.0987,63.0997, 63.0958,63.091,63.0789,63.0756,63.0709, 63.0677,63.0646,63.0603,63.0555,63.052, 63.048,63.0511,63.0475,63.0396,63.0363, 63.0336,63.0341,63.0324,63.0319,63.029)
ORBIT_NUMBER = 18824
ORBITAL_ECCENTRICITY = 0.578
ORBITAL_INCLINATION = 86.97
ORBITAL_SEMIMAJOR_AXIS = 8835.18
PERIAPSIS_ALTITUDE = 334.0
PERIAPSIS_ARGUMENT_ANGLE = 335.48
PERIAPSIS_TIME = 2018-11-17T21:39:07.000Z
SPACECRAFT_ORIENTATION = (0.0,1.0,0.0)
^MEX_ORIENTATION_DESC = "MEX_ORIENTATION_DESC.TXT"
SPACECRAFT_POINTING_MODE = INERT
^MEX_POINTING_DESC = "MEX_POINTING_DESC.TXT"
RIGHT_ASCENSION = 64.614
DECLINATION = 42.9
OFFSET_ANGLE = -1e+32
SPACECRAFT_SOLAR_DISTANCE = 2.10682e+08
TARGET_NAME = MARS
/* CAMERA DATA ELEMENTS */
DETECTOR_TEMPERATURE = 18.5744
FOCAL_PLANE_TEMPERATURE = 12.0496
INST_CMPRS_NAME = "DISCRETE COSINE TRANSFORMATION (DCT)"
INST_CMPRS_RATIO = 6.13478
INST_CMPRS_QUALITY = 0
INST_CMPRS_QUANTZ_TBL_ID = 0
INSTRUMENT_TEMPERATURE = 13.4769
LENS_TEMPERATURE = 12.4574
MACROPIXEL_SIZE = 1
MISSING_FRAMES = 0
PIXEL_SUBSAMPLING_FLAG = N
SIGNAL_CHAIN_ID = 0
/* RADIOMETRIC DATA ELEMENTS */
BANDWIDTH = 177.0
CENTER_FILTER_WAVELENGTH = 677.5
RADIANCE_OFFSET = 2.67375
RADIANCE_SCALING_FACTOR = 0.0160457
REFLECTANCE_SCALING_FACTOR = 0.000378353
MEX:REFLECTANCE_OFFSET = 0.0630464
/* IMAGE OBJECT DEFINITIONS */
OBJECT = IMAGE
  INTERCHANGE_FORMAT = BINARY
  LINES = 54965
  LINE_SAMPLES = 7303
  SAMPLE_TYPE = UNSIGNED_INTEGER
  SAMPLE_BITS = 8
  BANDS = 1
  BAND_STORAGE_TYPE = BAND_SEQUENTIAL
  MAXIMUM = 255
  MEAN = 110.095
  MINIMUM = 1
  STANDARD_DEVIATION = 28.7382
END_OBJECT = IMAGE
/* MAP OBJECT DEFINITIONS */
OBJECT = IMAGE_MAP_PROJECTION
  ^DATA_SET_MAP_PROJECTION_CATALOG= "DSMAP.CAT"
  A_AXIS_RADIUS = 3396.0
  B_AXIS_RADIUS = 3396.0
  C_AXIS_RADIUS = 3396.0
  CENTER_LATITUDE = 0.0
  CENTER_LONGITUDE = 62.0
  COORDINATE_SYSTEM_NAME = PLANETOGRAPHIC
  COORDINATE_SYSTEM_TYPE = "BODY-FIXED ROTATING"
  EASTERNMOST_LONGITUDE = 63.2772
  FIRST_STANDARD_PARALLEL = "N/A"
  LINE_FIRST_PIXEL = 1
  LINE_LAST_PIXEL = 54965
  LINE_PROJECTION_OFFSET = -28477.0
  MAP_PROJECTION_ROTATION = 0.0
  MAP_PROJECTION_TYPE = SINUSOIDAL
  MAP_RESOLUTION = 4741.71043093333
  MAP_SCALE = 0.0125
  MAXIMUM_LATITUDE = -6.00681
  MINIMUM_LATITUDE = -17.6001
  POSITIVE_LONGITUDE_DIRECTION = EAST
  REFERENCE_LATITUDE = "N/A"
  REFERENCE_LONGITUDE = "N/A"
  SAMPLE_FIRST_PIXEL = 1
  SAMPLE_LAST_PIXEL = 7303
  SAMPLE_PROJECTION_OFFSET = 1274.0
  SECOND_STANDARD_PARALLEL = "N/A"
  WESTERNMOST_LONGITUDE = 61.718
END_OBJECT = IMAGE_MAP_PROJECTION
END
