PDS_VERSION_ID = PDS3
/* FILE DATA ELEMENTS */
RECORD_TYPE = UNDEFINED
/* POINTERS TO DATA OBJECTS */
^IMAGE = ("HI829_0000_GR4.TIF")
/* IDENTIFICATION DATA ELEMENTS */
DATA_SET_ID = "MEX-M-HRSC-4-REFDR-MAPPROJECT-EXT6-V4.0"
DATA_SET_NAME = "MARS EXPRESS HRSC MAP PROJECTED REFDR EXTENSION6 V4.0"
DETECTOR_ID = MEX_HRSC_GREEN
EVENT_TYPE = "MARS-REGIONAL-MAPPING-Te-Im"
INSTRUMENT_HOST_ID = MEX
INSTRUMENT_HOST_NAME = "MARS EXPRESS"
INSTRUMENT_ID = HRSC
INSTRUMENT_NAME = "HIGH RESOLUTION STEREO CAMERA"
MISSION_NAME = "MARS EXPRESS"
MISSION_PHASE_NAME = ME_Phase_39
PROCESSING_LEVEL_ID = 4
PRODUCT_CREATION_TIME = 2023-01-29T14:35:52.000Z
PRODUCT_ID = "HI829_0000_GR4.TIF"
RELEASE_ID = 0005
REVISION_ID = 0000
/* QUALITY DATA ELEMENTS */
DATA_QUALITY_ID = 1
DATA_QUALITY_DESC = "Data calculated based on original SPICE kernels"
/* TIME DATA ELEMENTS */
SPACECRAFT_CLOCK_START_COUNT = "1/0490696291.25675"
SPACECRAFT_CLOCK_STOP_COUNT = "1/0490696550.00151"
START_TIME = 2018-11-19T08:32:35.223Z
STOP_TIME = 2018-11-19T08:35:56.953Z
/* ORBITAL DATA ELEMENTS */
ASCENDING_NODE_LONGITUDE = 220.93
MAXIMUM_RESOLUTION = 0.0528
FOOTPRINT_POINT_LATITUDE = (-31.6299,-31.598,-31.5754,-31.5563, -31.5555,-31.5578,-31.2617,-30.8178, -30.5219,-30.2261,-29.9308,-29.488, -29.2023,-28.774,-28.3458,-28.0603, -27.7751,-27.4899,-27.2048,-26.9198, -26.4923,-26.065,-25.7801,-25.4953, -25.2107,-24.7837,-24.4991,-24.2146, -23.9301,-23.6456,-23.3612,-23.0769, -22.6503,-22.366,-22.0817,-21.7975, -21.5132,-21.229,-20.9447,-20.6605, -20.3763,-19.9394,-19.4988,-19.2051, -18.9114,-18.6177,-18.3239,-18.0301, -17.7363,-17.2955,-17.1485,-17.0784, -17.1066,-17.1434,-17.144,-17.1451, -17.7328,-18.0266,-18.3199,-18.6142, -18.9079,-19.2017,-19.6423,-19.936, -20.3753,-20.6596,-20.9439,-21.2282, -21.5125,-21.7968,-22.0812,-22.5078, -22.7922,-23.0767,-23.3612,-23.6457, -24.0727,-24.3574,-24.6421,-24.9269, -25.2118,-25.6392,-25.9241,-26.3516, -26.6369,-26.9222,-27.3502,-27.7784, -28.2066,-28.4945,-29.064,-29.35, -29.7862,-30.082,-30.3781,-30.6741, -30.9703,-31.415,-31.5634,-31.6299)
FOOTPRINT_POINT_LONGITUDE = (271.246,270.626,270.212,269.874, 269.861,269.854,269.864,269.879,269.888 ,269.897,269.906,269.918,269.926, 269.937,269.948,269.955,269.961,269.968 ,269.974,269.98,269.988,269.996,270.001 ,270.006,270.011,270.018,270.022, 270.026,270.03,270.033,270.037,270.04, 270.045,270.047,270.05,270.052,270.055, 270.057,270.059,270.061,270.062,270.064 ,270.066,270.067,270.068,270.069, 270.069,270.07,270.07,270.07,270.07, 270.07,270.576,271.288,271.299,271.303, 271.301,271.3,271.3,271.298,271.298, 271.297,271.295,271.294,271.293,271.292 ,271.291,271.291,271.29,271.289,271.288 ,271.287,271.286,271.285,271.284, 271.283,271.282,271.281,271.28,271.279, 271.278,271.276,271.275,271.274,271.273 ,271.272,271.27,271.268,271.266,271.266 ,271.262,271.261,271.259,271.257, 271.255,271.254,271.252,271.25,271.249, 271.246)
ORBIT_NUMBER = 18829
ORBITAL_ECCENTRICITY = 0.578
ORBITAL_INCLINATION = 86.95
ORBITAL_SEMIMAJOR_AXIS = 8837.99
PERIAPSIS_ALTITUDE = 333.88
PERIAPSIS_ARGUMENT_ANGLE = 334.61
PERIAPSIS_TIME = 2018-11-19T08:33:56.000Z
SPACECRAFT_ORIENTATION = (0.0,1.0,0.0)
^MEX_ORIENTATION_DESC = "MEX_ORIENTATION_DESC.TXT"
SPACECRAFT_POINTING_MODE = INERT
^MEX_POINTING_DESC = "MEX_POINTING_DESC.TXT"
RIGHT_ASCENSION = 63.726
DECLINATION = 43.457
OFFSET_ANGLE = -1e+32
SPACECRAFT_SOLAR_DISTANCE = 2.10863e+08
TARGET_NAME = MARS
/* CAMERA DATA ELEMENTS */
DETECTOR_TEMPERATURE = 18.9822
FOCAL_PLANE_TEMPERATURE = 11.8457
INST_CMPRS_NAME = "DISCRETE COSINE TRANSFORMATION (DCT)"
INST_CMPRS_RATIO = 9.05108
INST_CMPRS_QUALITY = 0
INST_CMPRS_QUANTZ_TBL_ID = 0
INSTRUMENT_TEMPERATURE = 13.0691
LENS_TEMPERATURE = 12.2535
MACROPIXEL_SIZE = 4
MISSING_FRAMES = 0
PIXEL_SUBSAMPLING_FLAG = N
SIGNAL_CHAIN_ID = 2
/* RADIOMETRIC DATA ELEMENTS */
BANDWIDTH = 88.0
CENTER_FILTER_WAVELENGTH = 538.0
RADIANCE_OFFSET = 1.0802
RADIANCE_SCALING_FACTOR = 0.00549545
REFLECTANCE_SCALING_FACTOR = 0.000210374
MEX:REFLECTANCE_OFFSET = 0.0413516
/* IMAGE OBJECT DEFINITIONS */
OBJECT = IMAGE
  INTERCHANGE_FORMAT = BINARY
  LINES = 17275
  LINE_SAMPLES = 1510
  SAMPLE_TYPE = UNSIGNED_INTEGER
  SAMPLE_BITS = 8
  BANDS = 1
  BAND_STORAGE_TYPE = BAND_SEQUENTIAL
  MAXIMUM = 255
  MEAN = 145.817
  MINIMUM = 1
  STANDARD_DEVIATION = 15.8375
END_OBJECT = IMAGE
/* MAP OBJECT DEFINITIONS */
OBJECT = IMAGE_MAP_PROJECTION
  ^DATA_SET_MAP_PROJECTION_CATALOG= "DSMAP.CAT"
  A_AXIS_RADIUS = 3396.0
  B_AXIS_RADIUS = 3396.0
  C_AXIS_RADIUS = 3396.0
  CENTER_LATITUDE = 0.0
  CENTER_LONGITUDE = 271.0
  COORDINATE_SYSTEM_NAME = PLANETOGRAPHIC
  COORDINATE_SYSTEM_TYPE = "BODY-FIXED ROTATING"
  EASTERNMOST_LONGITUDE = 271.303
  FIRST_STANDARD_PARALLEL = "N/A"
  LINE_FIRST_PIXEL = 1
  LINE_LAST_PIXEL = 17275
  LINE_PROJECTION_OFFSET = -20243.625
  MAP_PROJECTION_ROTATION = 0.0
  MAP_PROJECTION_TYPE = SINUSOIDAL
  MAP_RESOLUTION = 1185.42760773333
  MAP_SCALE = 0.05
  MAXIMUM_LATITUDE = -17.0784
  MINIMUM_LATITUDE = -31.6299
  POSITIVE_LONGITUDE_DIRECTION = EAST
  REFERENCE_LATITUDE = "N/A"
  REFERENCE_LONGITUDE = "N/A"
  SAMPLE_FIRST_PIXEL = 1
  SAMPLE_LAST_PIXEL = 1510
  SAMPLE_PROJECTION_OFFSET = 1141.625
  SECOND_STANDARD_PARALLEL = "N/A"
  WESTERNMOST_LONGITUDE = 269.854
END_OBJECT = IMAGE_MAP_PROJECTION
END
