PDS_VERSION_ID = PDS3
/* FILE DATA ELEMENTS */
RECORD_TYPE = UNDEFINED
/* POINTERS TO DATA OBJECTS */
^IMAGE = ("HI829_0000_P14.TIF")
/* IDENTIFICATION DATA ELEMENTS */
DATA_SET_ID = "MEX-M-HRSC-4-REFDR-MAPPROJECT-EXT6-V4.0"
DATA_SET_NAME = "MARS EXPRESS HRSC MAP PROJECTED REFDR EXTENSION6 V4.0"
DETECTOR_ID = MEX_HRSC_P1
EVENT_TYPE = "MARS-REGIONAL-MAPPING-Te-Im"
INSTRUMENT_HOST_ID = MEX
INSTRUMENT_HOST_NAME = "MARS EXPRESS"
INSTRUMENT_ID = HRSC
INSTRUMENT_NAME = "HIGH RESOLUTION STEREO CAMERA"
MISSION_NAME = "MARS EXPRESS"
MISSION_PHASE_NAME = ME_Phase_39
PROCESSING_LEVEL_ID = 4
PRODUCT_CREATION_TIME = 2023-01-29T14:35:52.000Z
PRODUCT_ID = "HI829_0000_P14.TIF"
RELEASE_ID = 0005
REVISION_ID = 0000
/* QUALITY DATA ELEMENTS */
DATA_QUALITY_ID = 1
DATA_QUALITY_DESC = "Data calculated based on original SPICE kernels"
/* TIME DATA ELEMENTS */
SPACECRAFT_CLOCK_START_COUNT = "1/0490696291.25675"
SPACECRAFT_CLOCK_STOP_COUNT = "1/0490696550.00151"
START_TIME = 2018-11-19T08:32:49.191Z
STOP_TIME = 2018-11-19T08:36:10.604Z
/* ORBITAL DATA ELEMENTS */
ASCENDING_NODE_LONGITUDE = 220.93
MAXIMUM_RESOLUTION = 0.054
FOOTPRINT_POINT_LATITUDE = (-31.6082,-31.5946,-31.5735,-31.5543, -31.5394,-31.5387,-31.5444,-31.0945, -30.795,-30.3502,-29.917,-29.6282, -29.1956,-28.9075,-28.6196,-28.332, -28.044,-27.6132,-27.1826,-26.7525, -26.323,-26.0367,-25.6075,-25.1787, -24.8929,-24.6076,-24.3222,-24.0371, -23.7521,-23.3249,-23.0403,-22.6136, -22.3294,-21.9033,-21.6194,-21.3356, -20.9002,-20.6072,-20.3142,-20.0215, -19.7288,-19.4363,-19.1439,-18.8516, -18.5594,-18.2674,-17.9753,-17.6834, -17.2456,-17.0998,-17.0527,-17.0822, -17.0994,-17.1125,-17.1131,-17.1142, -17.5519,-17.8437,-18.1356,-18.4287, -18.72,-19.0124,-19.3046,-19.7434, -20.0361,-20.3291,-20.6218,-20.9148, -21.3518,-21.7777,-22.0618,-22.4882, -22.7726,-23.1997,-23.4844,-23.9119, -24.34,-24.7684,-25.1972,-25.4831, -25.7694,-26.0556,-26.3418,-26.6289, -26.9158,-27.3464,-27.6339,-27.9213, -28.3553,-28.7848,-29.0734,-29.362, -29.7954,-30.0845,-30.3744,-30.6678, -31.1175,-31.4176,-31.568,-31.6082)
FOOTPRINT_POINT_LONGITUDE = (271.198,270.911,270.478,270.098, 269.808,269.795,269.788,269.804,269.814 ,269.829,269.843,269.852,269.865, 269.873,269.88,269.888,269.896,269.906, 269.916,269.926,269.935,269.941,269.949 ,269.957,269.962,269.966,269.971, 269.975,269.979,269.985,269.989,269.994 ,269.997,270.001,270.004,270.006,270.01 ,270.012,270.014,270.016,270.017, 270.019,270.02,270.021,270.022,270.023, 270.023,270.024,270.024,270.024,270.024 ,270.604,270.956,271.229,271.24,271.244 ,271.243,271.242,271.242,271.242, 271.241,271.24,271.239,271.239,271.238, 271.238,271.237,271.236,271.235,271.235 ,271.234,271.233,271.232,271.231, 271.231,271.23,271.229,271.227,271.226, 271.225,271.225,271.224,271.223,271.222 ,271.221,271.219,271.218,271.217, 271.216,271.214,271.213,271.211,271.209 ,271.208,271.207,271.205,271.203, 271.201,271.2,271.198)
ORBIT_NUMBER = 18829
ORBITAL_ECCENTRICITY = 0.578
ORBITAL_INCLINATION = 86.95
ORBITAL_SEMIMAJOR_AXIS = 8837.99
PERIAPSIS_ALTITUDE = 333.88
PERIAPSIS_ARGUMENT_ANGLE = 334.61
PERIAPSIS_TIME = 2018-11-19T08:33:56.000Z
SPACECRAFT_ORIENTATION = (0.0,1.0,0.0)
^MEX_ORIENTATION_DESC = "MEX_ORIENTATION_DESC.TXT"
SPACECRAFT_POINTING_MODE = INERT
^MEX_POINTING_DESC = "MEX_POINTING_DESC.TXT"
RIGHT_ASCENSION = 63.726
DECLINATION = 43.457
OFFSET_ANGLE = -1e+32
SPACECRAFT_SOLAR_DISTANCE = 2.10863e+08
TARGET_NAME = MARS
/* CAMERA DATA ELEMENTS */
DETECTOR_TEMPERATURE = 17.7588
FOCAL_PLANE_TEMPERATURE = 11.8457
INST_CMPRS_NAME = "DISCRETE COSINE TRANSFORMATION (DCT)"
INST_CMPRS_RATIO = 7.92201
INST_CMPRS_QUALITY = 0
INST_CMPRS_QUANTZ_TBL_ID = 0
INSTRUMENT_TEMPERATURE = 13.0691
LENS_TEMPERATURE = 12.2535
MACROPIXEL_SIZE = 4
MISSING_FRAMES = 0
PIXEL_SUBSAMPLING_FLAG = N
SIGNAL_CHAIN_ID = 3
/* RADIOMETRIC DATA ELEMENTS */
BANDWIDTH = 174.0
CENTER_FILTER_WAVELENGTH = 675.0
RADIANCE_OFFSET = 3.04703
RADIANCE_SCALING_FACTOR = 0.0205073
REFLECTANCE_SCALING_FACTOR = 0.00049045
MEX:REFLECTANCE_OFFSET = 0.0728723
/* IMAGE OBJECT DEFINITIONS */
OBJECT = IMAGE
  INTERCHANGE_FORMAT = BINARY
  LINES = 17275
  LINE_SAMPLES = 1510
  SAMPLE_TYPE = UNSIGNED_INTEGER
  SAMPLE_BITS = 8
  BANDS = 1
  BAND_STORAGE_TYPE = BAND_SEQUENTIAL
  MAXIMUM = 255
  MEAN = 129.529
  MINIMUM = 1
  STANDARD_DEVIATION = 21.6533
END_OBJECT = IMAGE
/* MAP OBJECT DEFINITIONS */
OBJECT = IMAGE_MAP_PROJECTION
  ^DATA_SET_MAP_PROJECTION_CATALOG= "DSMAP.CAT"
  A_AXIS_RADIUS = 3396.0
  B_AXIS_RADIUS = 3396.0
  C_AXIS_RADIUS = 3396.0
  CENTER_LATITUDE = 0.0
  CENTER_LONGITUDE = 271.0
  COORDINATE_SYSTEM_NAME = PLANETOGRAPHIC
  COORDINATE_SYSTEM_TYPE = "BODY-FIXED ROTATING"
  EASTERNMOST_LONGITUDE = 271.244
  FIRST_STANDARD_PARALLEL = "N/A"
  LINE_FIRST_PIXEL = 1
  LINE_LAST_PIXEL = 17275
  LINE_PROJECTION_OFFSET = -20243.625
  MAP_PROJECTION_ROTATION = 0.0
  MAP_PROJECTION_TYPE = SINUSOIDAL
  MAP_RESOLUTION = 1185.42760773333
  MAP_SCALE = 0.05
  MAXIMUM_LATITUDE = -17.0527
  MINIMUM_LATITUDE = -31.6082
  POSITIVE_LONGITUDE_DIRECTION = EAST
  REFERENCE_LATITUDE = "N/A"
  REFERENCE_LONGITUDE = "N/A"
  SAMPLE_FIRST_PIXEL = 1
  SAMPLE_LAST_PIXEL = 1510
  SAMPLE_PROJECTION_OFFSET = 1141.625
  SECOND_STANDARD_PARALLEL = "N/A"
  WESTERNMOST_LONGITUDE = 269.788
END_OBJECT = IMAGE_MAP_PROJECTION
END
