PDS_VERSION_ID = PDS3
/* FILE DATA ELEMENTS */
RECORD_TYPE = UNDEFINED
/* POINTERS TO DATA OBJECTS */
^IMAGE = ("HI829_0000_P24.TIF")
/* IDENTIFICATION DATA ELEMENTS */
DATA_SET_ID = "MEX-M-HRSC-4-REFDR-MAPPROJECT-EXT6-V4.0"
DATA_SET_NAME = "MARS EXPRESS HRSC MAP PROJECTED REFDR EXTENSION6 V4.0"
DETECTOR_ID = MEX_HRSC_P2
EVENT_TYPE = "MARS-REGIONAL-MAPPING-Te-Im"
INSTRUMENT_HOST_ID = MEX
INSTRUMENT_HOST_NAME = "MARS EXPRESS"
INSTRUMENT_ID = HRSC
INSTRUMENT_NAME = "HIGH RESOLUTION STEREO CAMERA"
MISSION_NAME = "MARS EXPRESS"
MISSION_PHASE_NAME = ME_Phase_39
PROCESSING_LEVEL_ID = 4
PRODUCT_CREATION_TIME = 2023-01-29T14:35:52.000Z
PRODUCT_ID = "HI829_0000_P24.TIF"
RELEASE_ID = 0005
REVISION_ID = 0000
/* QUALITY DATA ELEMENTS */
DATA_QUALITY_ID = 1
DATA_QUALITY_DESC = "Data calculated based on original SPICE kernels"
/* TIME DATA ELEMENTS */
SPACECRAFT_CLOCK_START_COUNT = "1/0490696291.25675"
SPACECRAFT_CLOCK_STOP_COUNT = "1/0490696550.00151"
START_TIME = 2018-11-19T08:32:12.049Z
STOP_TIME = 2018-11-19T08:35:33.462Z
/* ORBITAL DATA ELEMENTS */
ASCENDING_NODE_LONGITUDE = 220.93
MAXIMUM_RESOLUTION = 0.054
FOOTPRINT_POINT_LATITUDE = (-31.6812,-31.6458,-31.6031,-31.6023, -31.599,-31.1608,-30.8685,-30.5763, -30.2842,-29.9914,-29.553,-29.2603, -28.9667,-28.6738,-28.3807,-28.0877, -27.7979,-27.2301,-26.5195,-26.2352, -25.8085,-25.5239,-25.2389,-24.8116, -24.3837,-23.9556,-23.6701,-23.3843, -22.9554,-22.5261,-22.2396,-21.9529, -21.6661,-21.3791,-21.092,-20.6612, -20.374,-20.086,-19.6539,-19.3659, -19.077,-18.7882,-18.4947,-18.1958, -17.8965,-17.5971,-17.2975,-17.1476, -17.0992,-17.1345,-17.1519,-17.1708, -17.1714,-17.1726,-17.4723,-17.7717, -18.071,-18.5196,-18.8139,-19.103, -19.3917,-19.6803,-19.9682,-20.3999, -20.6875,-20.9753,-21.2622,-21.5494, -21.8364,-22.1231,-22.5528,-22.8393, -23.1255,-23.5545,-23.8402,-24.1257, -24.4107,-24.6968,-25.1244,-25.4094, -25.8367,-26.1216,-26.4065,-26.8329, -27.2595,-27.6858,-28.1165,-28.4075, -28.7034,-28.9965,-29.2897,-29.5827, -29.8757,-30.1686,-30.4613,-30.9005, -31.1931,-31.4856,-31.6319,-31.6812)
FOOTPRINT_POINT_LONGITUDE = (271.323,270.677,269.979,269.966,269.96 ,269.973,269.982,269.99,269.999,270.006 ,270.018,270.025,270.031,270.038, 270.044,270.051,270.057,270.068,270.08, 270.085,270.092,270.096,270.1,270.106, 270.112,270.117,270.12,270.123,270.127, 270.13,270.133,270.135,270.137,270.138, 270.14,270.142,270.144,270.144,270.146, 270.147,270.147,270.147,270.148,270.148 ,270.148,270.147,270.147,270.147, 270.147,270.721,271.026,271.389,271.401 ,271.404,271.403,271.401,271.399, 271.397,271.395,271.394,271.392,271.391 ,271.389,271.387,271.386,271.384, 271.383,271.381,271.38,271.378,271.376, 271.375,271.373,271.371,271.37,271.369, 271.367,271.366,271.364,271.362,271.36, 271.359,271.357,271.355,271.353,271.35, 271.348,271.348,271.344,271.343,271.341 ,271.339,271.337,271.335,271.333,271.33 ,271.329,271.327,271.326,271.323)
ORBIT_NUMBER = 18829
ORBITAL_ECCENTRICITY = 0.578
ORBITAL_INCLINATION = 86.95
ORBITAL_SEMIMAJOR_AXIS = 8837.99
PERIAPSIS_ALTITUDE = 333.88
PERIAPSIS_ARGUMENT_ANGLE = 334.61
PERIAPSIS_TIME = 2018-11-19T08:33:56.000Z
SPACECRAFT_ORIENTATION = (0.0,1.0,0.0)
^MEX_ORIENTATION_DESC = "MEX_ORIENTATION_DESC.TXT"
SPACECRAFT_POINTING_MODE = INERT
^MEX_POINTING_DESC = "MEX_POINTING_DESC.TXT"
RIGHT_ASCENSION = 63.726
DECLINATION = 43.457
OFFSET_ANGLE = -1e+32
SPACECRAFT_SOLAR_DISTANCE = 2.10863e+08
TARGET_NAME = MARS
/* CAMERA DATA ELEMENTS */
DETECTOR_TEMPERATURE = 19.1861
FOCAL_PLANE_TEMPERATURE = 11.8457
INST_CMPRS_NAME = "DISCRETE COSINE TRANSFORMATION (DCT)"
INST_CMPRS_RATIO = 7.0026
INST_CMPRS_QUALITY = 0
INST_CMPRS_QUANTZ_TBL_ID = 0
INSTRUMENT_TEMPERATURE = 13.0691
LENS_TEMPERATURE = 12.2535
MACROPIXEL_SIZE = 4
MISSING_FRAMES = 0
PIXEL_SUBSAMPLING_FLAG = N
SIGNAL_CHAIN_ID = 3
/* RADIOMETRIC DATA ELEMENTS */
BANDWIDTH = 177.0
CENTER_FILTER_WAVELENGTH = 676.5
RADIANCE_OFFSET = 2.98931
RADIANCE_SCALING_FACTOR = 0.0209109
REFLECTANCE_SCALING_FACTOR = 0.000492981
MEX:REFLECTANCE_OFFSET = 0.0704739
/* IMAGE OBJECT DEFINITIONS */
OBJECT = IMAGE
  INTERCHANGE_FORMAT = BINARY
  LINES = 17275
  LINE_SAMPLES = 1510
  SAMPLE_TYPE = UNSIGNED_INTEGER
  SAMPLE_BITS = 8
  BANDS = 1
  BAND_STORAGE_TYPE = BAND_SEQUENTIAL
  MAXIMUM = 255
  MEAN = 127.731
  MINIMUM = 1
  STANDARD_DEVIATION = 24.0006
END_OBJECT = IMAGE
/* MAP OBJECT DEFINITIONS */
OBJECT = IMAGE_MAP_PROJECTION
  ^DATA_SET_MAP_PROJECTION_CATALOG= "DSMAP.CAT"
  A_AXIS_RADIUS = 3396.0
  B_AXIS_RADIUS = 3396.0
  C_AXIS_RADIUS = 3396.0
  CENTER_LATITUDE = 0.0
  CENTER_LONGITUDE = 271.0
  COORDINATE_SYSTEM_NAME = PLANETOGRAPHIC
  COORDINATE_SYSTEM_TYPE = "BODY-FIXED ROTATING"
  EASTERNMOST_LONGITUDE = 271.404
  FIRST_STANDARD_PARALLEL = "N/A"
  LINE_FIRST_PIXEL = 1
  LINE_LAST_PIXEL = 17275
  LINE_PROJECTION_OFFSET = -20243.625
  MAP_PROJECTION_ROTATION = 0.0
  MAP_PROJECTION_TYPE = SINUSOIDAL
  MAP_RESOLUTION = 1185.42760773333
  MAP_SCALE = 0.05
  MAXIMUM_LATITUDE = -17.0992
  MINIMUM_LATITUDE = -31.6812
  POSITIVE_LONGITUDE_DIRECTION = EAST
  REFERENCE_LATITUDE = "N/A"
  REFERENCE_LONGITUDE = "N/A"
  SAMPLE_FIRST_PIXEL = 1
  SAMPLE_LAST_PIXEL = 1510
  SAMPLE_PROJECTION_OFFSET = 1141.625
  SECOND_STANDARD_PARALLEL = "N/A"
  WESTERNMOST_LONGITUDE = 269.96
END_OBJECT = IMAGE_MAP_PROJECTION
END
