PDS_VERSION_ID = PDS3
/* FILE DATA ELEMENTS */
RECORD_TYPE = UNDEFINED
/* POINTERS TO DATA OBJECTS */
^IMAGE = ("HI833_0000_S24.TIF")
/* IDENTIFICATION DATA ELEMENTS */
DATA_SET_ID = "MEX-M-HRSC-4-REFDR-MAPPROJECT-EXT6-V4.0"
DATA_SET_NAME = "MARS EXPRESS HRSC MAP PROJECTED REFDR EXTENSION6 V4.0"
DETECTOR_ID = MEX_HRSC_S2
EVENT_TYPE = "MARS-LOCAL-STEREO-Vo-Te-Fl"
INSTRUMENT_HOST_ID = MEX
INSTRUMENT_HOST_NAME = "MARS EXPRESS"
INSTRUMENT_ID = HRSC
INSTRUMENT_NAME = "HIGH RESOLUTION STEREO CAMERA"
MISSION_NAME = "MARS EXPRESS"
MISSION_PHASE_NAME = ME_Phase_39
PROCESSING_LEVEL_ID = 4
PRODUCT_CREATION_TIME = 2023-01-29T14:35:52.000Z
PRODUCT_ID = "HI833_0000_S24.TIF"
RELEASE_ID = 0005
REVISION_ID = 0000
/* QUALITY DATA ELEMENTS */
DATA_QUALITY_ID = 1
DATA_QUALITY_DESC = "Data calculated based on original SPICE kernels"
/* TIME DATA ELEMENTS */
SPACECRAFT_CLOCK_START_COUNT = "1/0490796775.25687"
SPACECRAFT_CLOCK_STOP_COUNT = "1/0490796955.27143"
START_TIME = 2018-11-20T12:26:46.935Z
STOP_TIME = 2018-11-20T12:28:50.802Z
/* ORBITAL DATA ELEMENTS */
ASCENDING_NODE_LONGITUDE = 220.86
MAXIMUM_RESOLUTION = 0.0137
FOOTPRINT_POINT_LATITUDE = (-36.4642,-36.4486,-36.4325,-36.4158, -36.3985,-36.3805,-36.3572,-36.3561, -36.346,-36.0368,-35.8306,-35.5271, -35.1814,-34.8355,-34.4895,-34.3165, -34.1433,-33.97,-33.7104,-33.3646, -33.0213,-32.8477,-32.6728,-32.4114, -32.1508,-31.8904,-31.7168,-31.4563, -31.2826,-31.1087,-30.7623,-30.5004, -30.3263,-30.1526,-29.978,-29.7164, -29.5422,-29.1085,-28.8459,-28.671, -28.4088,-28.1468,-27.8846,-27.6223, -27.5348,-27.5325,-27.5595,-27.5754, -27.6002,-27.6148,-27.629,-27.6298, -27.6305,-27.8056,-27.9808,-28.1562, -28.3311,-28.5933,-28.7672,-28.9419, -29.1169,-29.2912,-29.4657,-29.7274, -29.9017,-30.076,-30.3375,-30.5986, -30.7726,-30.9469,-31.1209,-31.2955, -31.5539,-31.9007,-32.0776,-32.2511, -32.4249,-32.5986,-32.7724,-32.9461, -33.1198,-33.2932,-33.4667,-33.6402, -33.8136,-33.987,-34.1604,-34.3338, -34.5072,-34.7672,-34.9406,-35.1139, -35.2871,-35.5469,-35.7306,-35.9373, -36.144,-36.3506,-36.4539,-36.4642)
FOOTPRINT_POINT_LONGITUDE = (222.549,222.32,222.091,221.861,221.63, 221.398,221.106,221.091,221.066,221.083 ,221.094,221.109,221.126,221.143, 221.159,221.167,221.174,221.181,221.193 ,221.208,221.226,221.232,221.237, 221.246,221.255,221.264,221.27,221.279, 221.285,221.291,221.303,221.31,221.315, 221.321,221.325,221.332,221.337,221.35, 221.356,221.36,221.366,221.372,221.378, 221.384,221.385,221.385,221.718,221.921 ,222.249,222.45,222.65,222.662,222.668, 222.667,222.665,222.663,222.662,222.659 ,222.658,222.656,222.654,222.653, 222.651,222.648,222.646,222.644,222.641 ,222.639,222.637,222.635,222.633,222.63 ,222.628,222.624,222.621,222.619, 222.616,222.614,222.612,222.609,222.607 ,222.604,222.602,222.6,222.597,222.594, 222.592,222.589,222.586,222.582,222.579 ,222.577,222.574,222.569,222.566, 222.562,222.559,222.555,222.553, 222.549)
ORBIT_NUMBER = 18833
ORBITAL_ECCENTRICITY = 0.578
ORBITAL_INCLINATION = 86.97
ORBITAL_SEMIMAJOR_AXIS = 8831.1
PERIAPSIS_ALTITUDE = 333.45
PERIAPSIS_ARGUMENT_ANGLE = 333.89
PERIAPSIS_TIME = 2018-11-20T12:29:34.000Z
SPACECRAFT_ORIENTATION = (0.0,1.0,0.0)
^MEX_ORIENTATION_DESC = "MEX_ORIENTATION_DESC.TXT"
SPACECRAFT_POINTING_MODE = INERT
^MEX_POINTING_DESC = "MEX_POINTING_DESC.TXT"
RIGHT_ASCENSION = 62.972
DECLINATION = 43.954
OFFSET_ANGLE = -1e+32
SPACECRAFT_SOLAR_DISTANCE = 2.1101e+08
TARGET_NAME = MARS
/* CAMERA DATA ELEMENTS */
DETECTOR_TEMPERATURE = 19.39
FOCAL_PLANE_TEMPERATURE = 11.6418
INST_CMPRS_NAME = "DISCRETE COSINE TRANSFORMATION (DCT)"
INST_CMPRS_RATIO = 8.21525
INST_CMPRS_QUALITY = 0
INST_CMPRS_QUANTZ_TBL_ID = 0
INSTRUMENT_TEMPERATURE = 12.8652
LENS_TEMPERATURE = 11.8457
MACROPIXEL_SIZE = 1
MISSING_FRAMES = 0
PIXEL_SUBSAMPLING_FLAG = N
SIGNAL_CHAIN_ID = 1
/* RADIOMETRIC DATA ELEMENTS */
BANDWIDTH = 178.0
CENTER_FILTER_WAVELENGTH = 679.0
RADIANCE_OFFSET = 3.20542
RADIANCE_SCALING_FACTOR = 0.021998
REFLECTANCE_SCALING_FACTOR = 0.000518701
MEX:REFLECTANCE_OFFSET = 0.0755821
/* IMAGE OBJECT DEFINITIONS */
OBJECT = IMAGE
  INTERCHANGE_FORMAT = BINARY
  LINES = 42159
  LINE_SAMPLES = 6656
  SAMPLE_TYPE = UNSIGNED_INTEGER
  SAMPLE_BITS = 8
  BANDS = 1
  BAND_STORAGE_TYPE = BAND_SEQUENTIAL
  MAXIMUM = 255
  MEAN = 92.1705
  MINIMUM = 1
  STANDARD_DEVIATION = 30.3954
END_OBJECT = IMAGE
/* MAP OBJECT DEFINITIONS */
OBJECT = IMAGE_MAP_PROJECTION
  ^DATA_SET_MAP_PROJECTION_CATALOG= "DSMAP.CAT"
  A_AXIS_RADIUS = 3396.0
  B_AXIS_RADIUS = 3396.0
  C_AXIS_RADIUS = 3396.0
  CENTER_LATITUDE = 0.0
  CENTER_LONGITUDE = 222.0
  COORDINATE_SYSTEM_NAME = PLANETOGRAPHIC
  COORDINATE_SYSTEM_TYPE = "BODY-FIXED ROTATING"
  EASTERNMOST_LONGITUDE = 222.668
  FIRST_STANDARD_PARALLEL = "N/A"
  LINE_FIRST_PIXEL = 1
  LINE_LAST_PIXEL = 42159
  LINE_PROJECTION_OFFSET = -130541.0
  MAP_PROJECTION_ROTATION = 0.0
  MAP_PROJECTION_TYPE = SINUSOIDAL
  MAP_RESOLUTION = 4741.71043093333
  MAP_SCALE = 0.0125
  MAXIMUM_LATITUDE = -27.5325
  MINIMUM_LATITUDE = -36.4642
  POSITIVE_LONGITUDE_DIRECTION = EAST
  REFERENCE_LATITUDE = "N/A"
  REFERENCE_LONGITUDE = "N/A"
  SAMPLE_FIRST_PIXEL = 1
  SAMPLE_LAST_PIXEL = 6656
  SAMPLE_PROJECTION_OFFSET = 4246.0
  SECOND_STANDARD_PARALLEL = "N/A"
  WESTERNMOST_LONGITUDE = 221.066
END_OBJECT = IMAGE_MAP_PROJECTION
END
