PDS_VERSION_ID = PDS3
/* FILE DATA ELEMENTS */
RECORD_TYPE = UNDEFINED
/* POINTERS TO DATA OBJECTS */
^IMAGE = ("HI838_0000_S24.TIF")
/* IDENTIFICATION DATA ELEMENTS */
DATA_SET_ID = "MEX-M-HRSC-4-REFDR-MAPPROJECT-EXT6-V4.0"
DATA_SET_NAME = "MARS EXPRESS HRSC MAP PROJECTED REFDR EXTENSION6 V4.0"
DETECTOR_ID = MEX_HRSC_S2
EVENT_TYPE = "MARS-REGIONAL-MAPPING-Vo-Im-Fl"
INSTRUMENT_HOST_ID = MEX
INSTRUMENT_HOST_NAME = "MARS EXPRESS"
INSTRUMENT_ID = HRSC
INSTRUMENT_NAME = "HIGH RESOLUTION STEREO CAMERA"
MISSION_NAME = "MARS EXPRESS"
MISSION_PHASE_NAME = ME_Phase_39
PROCESSING_LEVEL_ID = 4
PRODUCT_CREATION_TIME = 2023-01-29T14:35:52.000Z
PRODUCT_ID = "HI838_0000_S24.TIF"
RELEASE_ID = 0005
REVISION_ID = 0000
/* QUALITY DATA ELEMENTS */
DATA_QUALITY_ID = 1
DATA_QUALITY_DESC = "Data calculated based on original SPICE kernels"
/* TIME DATA ELEMENTS */
SPACECRAFT_CLOCK_START_COUNT = "1/0490922705.24937"
SPACECRAFT_CLOCK_STOP_COUNT = "1/0490922910.48897"
START_TIME = 2018-11-21T23:25:36.945Z
STOP_TIME = 2018-11-21T23:27:54.705Z
/* ORBITAL DATA ELEMENTS */
ASCENDING_NODE_LONGITUDE = 220.76
MAXIMUM_RESOLUTION = 0.0295
FOOTPRINT_POINT_LATITUDE = (-19.9112,-19.888,-19.8693,-19.8437, -19.8429,-19.8289,-19.5436,-19.155, -18.759,-18.5591,-18.2603,-18.0598, -17.8594,-17.6579,-17.4571,-17.2568, -17.0551,-16.7529,-16.5511,-16.349, -16.1475,-15.9446,-15.6411,-15.3364, -15.0318,-14.8285,-14.6262,-14.425, -14.1188,-13.8112,-13.6033,-13.4008, -13.1944,-12.8861,-12.5773,-12.3714, -12.0636,-11.7535,-11.5424,-11.3322, -11.1242,-10.7781,-10.5293,-10.2919, -10.0432,-9.79154,-9.54039,-9.41338, -9.36267,-9.39945,-9.42273,-9.42953, -9.43989,-9.44049,-9.44132,-9.82222, -10.0709,-10.4411,-10.6899,-11.0567, -11.2642,-11.4711,-11.6787,-11.8858, -12.0918,-12.2992,-12.5062,-12.7122, -12.9175,-13.1241,-13.433,-13.6372, -13.9457,-14.151,-14.4568,-14.6603, -14.8602,-15.0629,-15.3671,-15.5692, -15.7722,-15.9759,-16.1772,-16.3792, -16.5819,-16.7833,-16.9847,-17.1854, -17.3871,-17.6898,-17.8915,-18.1927, -18.3944,-18.5947,-18.7943,-19.0923, -19.4778,-19.7707,-19.8667,-19.9112)
FOOTPRINT_POINT_LONGITUDE = (72.558,72.0714,71.7224,71.2858,71.2734 ,71.2668,71.2677,71.2673,71.2674, 71.2673,71.2672,71.2669,71.2666,71.2661 ,71.2657,71.2653,71.2647,71.2637,71.263 ,71.2623,71.2616,71.2606,71.2593, 71.2577,71.2561,71.255,71.254,71.2532, 71.2512,71.2489,71.247,71.2459,71.2441, 71.2417,71.2391,71.2374,71.2349,71.2321 ,71.2296,71.2272,71.2251,71.2205, 71.2179,71.2167,71.2141,71.211,71.208, 71.2063,71.2057,71.7795,72.1665,72.4691 ,72.67,72.6844,72.6895,72.682,72.6782, 72.6732,72.6693,72.6634,72.6603,72.6574 ,72.6543,72.6513,72.6485,72.6454, 72.6423,72.6395,72.6368,72.6338,72.6295 ,72.627,72.6227,72.6199,72.6162,72.6138 ,72.6124,72.6102,72.6068,72.6047, 72.6023,72.5997,72.5978,72.5956,72.5932 ,72.5911,72.589,72.5871,72.5849,72.5815 ,72.5791,72.576,72.5736,72.5716,72.5698 ,72.5675,72.5647,72.5609,72.5601, 72.558)
ORBIT_NUMBER = 18838
ORBITAL_ECCENTRICITY = 0.578
ORBITAL_INCLINATION = 86.97
ORBITAL_SEMIMAJOR_AXIS = 8831.84
PERIAPSIS_ALTITUDE = 332.93
PERIAPSIS_ARGUMENT_ANGLE = 333.05
PERIAPSIS_TIME = 2018-11-21T23:24:27.000Z
SPACECRAFT_ORIENTATION = (0.0,1.0,0.0)
^MEX_ORIENTATION_DESC = "MEX_ORIENTATION_DESC.TXT"
SPACECRAFT_POINTING_MODE = INERT
^MEX_POINTING_DESC = "MEX_POINTING_DESC.TXT"
RIGHT_ASCENSION = 62.09
DECLINATION = 44.485
OFFSET_ANGLE = -1e+32
SPACECRAFT_SOLAR_DISTANCE = 2.11197e+08
TARGET_NAME = MARS
/* CAMERA DATA ELEMENTS */
DETECTOR_TEMPERATURE = 19.39
FOCAL_PLANE_TEMPERATURE = 12.6613
INST_CMPRS_NAME = "DISCRETE COSINE TRANSFORMATION (DCT)"
INST_CMPRS_RATIO = 10.1176
INST_CMPRS_QUALITY = 0
INST_CMPRS_QUANTZ_TBL_ID = 0
INSTRUMENT_TEMPERATURE = 12.6613
LENS_TEMPERATURE = 12.8652
MACROPIXEL_SIZE = 2
MISSING_FRAMES = 0
PIXEL_SUBSAMPLING_FLAG = N
SIGNAL_CHAIN_ID = 1
/* RADIOMETRIC DATA ELEMENTS */
BANDWIDTH = 178.0
CENTER_FILTER_WAVELENGTH = 679.0
RADIANCE_OFFSET = 3.10748
RADIANCE_SCALING_FACTOR = 0.0245628
REFLECTANCE_SCALING_FACTOR = 0.000580207
MEX:REFLECTANCE_OFFSET = 0.0734029
/* IMAGE OBJECT DEFINITIONS */
OBJECT = IMAGE
  INTERCHANGE_FORMAT = BINARY
  LINES = 24955
  LINE_SAMPLES = 3276
  SAMPLE_TYPE = UNSIGNED_INTEGER
  SAMPLE_BITS = 8
  BANDS = 1
  BAND_STORAGE_TYPE = BAND_SEQUENTIAL
  MAXIMUM = 254
  MEAN = 87.7612
  MINIMUM = 1
  STANDARD_DEVIATION = 21.1565
END_OBJECT = IMAGE
/* MAP OBJECT DEFINITIONS */
OBJECT = IMAGE_MAP_PROJECTION
  ^DATA_SET_MAP_PROJECTION_CATALOG= "DSMAP.CAT"
  A_AXIS_RADIUS = 3396.0
  B_AXIS_RADIUS = 3396.0
  C_AXIS_RADIUS = 3396.0
  CENTER_LATITUDE = 0.0
  CENTER_LONGITUDE = 72.0
  COORDINATE_SYSTEM_NAME = PLANETOGRAPHIC
  COORDINATE_SYSTEM_TYPE = "BODY-FIXED ROTATING"
  EASTERNMOST_LONGITUDE = 72.6895
  FIRST_STANDARD_PARALLEL = "N/A"
  LINE_FIRST_PIXEL = 1
  LINE_LAST_PIXEL = 24955
  LINE_PROJECTION_OFFSET = -22182.75
  MAP_PROJECTION_ROTATION = 0.0
  MAP_PROJECTION_TYPE = SINUSOIDAL
  MAP_RESOLUTION = 2370.85521546667
  MAP_SCALE = 0.025
  MAXIMUM_LATITUDE = -9.36267
  MINIMUM_LATITUDE = -19.9112
  POSITIVE_LONGITUDE_DIRECTION = EAST
  REFERENCE_LATITUDE = "N/A"
  REFERENCE_LONGITUDE = "N/A"
  SAMPLE_FIRST_PIXEL = 1
  SAMPLE_LAST_PIXEL = 3276
  SAMPLE_PROJECTION_OFFSET = 2084.75
  SECOND_STANDARD_PARALLEL = "N/A"
  WESTERNMOST_LONGITUDE = 71.20569999999999
END_OBJECT = IMAGE_MAP_PROJECTION
END
