PDS_VERSION_ID = PDS3
/* FILE DATA ELEMENTS */
RECORD_TYPE = UNDEFINED
/* POINTERS TO DATA OBJECTS */
^IMAGE = ("HI841_0000_BL4.TIF")
/* IDENTIFICATION DATA ELEMENTS */
DATA_SET_ID = "MEX-M-HRSC-4-REFDR-MAPPROJECT-EXT6-V4.0"
DATA_SET_NAME = "MARS EXPRESS HRSC MAP PROJECTED REFDR EXTENSION6 V4.0"
DETECTOR_ID = MEX_HRSC_BLUE
EVENT_TYPE = "MARS-REGIONAL-MAPPING-Vo-Fl-Pf"
INSTRUMENT_HOST_ID = MEX
INSTRUMENT_HOST_NAME = "MARS EXPRESS"
INSTRUMENT_ID = HRSC
INSTRUMENT_NAME = "HIGH RESOLUTION STEREO CAMERA"
MISSION_NAME = "MARS EXPRESS"
MISSION_PHASE_NAME = ME_Phase_39
PROCESSING_LEVEL_ID = 4
PRODUCT_CREATION_TIME = 2023-01-29T14:35:52.000Z
PRODUCT_ID = "HI841_0000_BL4.TIF"
RELEASE_ID = 0005
REVISION_ID = 0000
/* QUALITY DATA ELEMENTS */
DATA_QUALITY_ID = 1
DATA_QUALITY_DESC = "Data calculated based on original SPICE kernels"
/* TIME DATA ELEMENTS */
SPACECRAFT_CLOCK_START_COUNT = "1/0490998041.24889"
SPACECRAFT_CLOCK_STOP_COUNT = "1/0490998246.46899"
START_TIME = 2018-11-22T20:21:36.763Z
STOP_TIME = 2018-11-22T20:24:02.060Z
/* ORBITAL DATA ELEMENTS */
ASCENDING_NODE_LONGITUDE = 220.7
MAXIMUM_RESOLUTION = 0.0536
FOOTPRINT_POINT_LATITUDE = (-25.4628,-25.4531,-25.4419,-25.4246, -25.4241,-25.4196,-24.9005,-24.5887, -24.1727,-23.7572,-23.5494,-23.3414, -23.1335,-22.9252,-22.7168,-22.5089, -22.3007,-21.9888,-21.7809,-21.5725, -21.3618,-21.0513,-20.8419,-20.6335, -20.4257,-20.2156,-20.0035,-19.7898, -19.5788,-19.17,-18.9596,-18.7464, -18.5351,-18.3244,-18.1139,-17.9038, -17.6928,-17.3768,-17.0602,-16.7429, -16.5313,-16.32,-16.003,-15.7905, -15.5792,-15.3671,-15.0371,-14.9105, -14.8616,-14.8753,-14.884,-14.8914, -14.8998,-14.9004,-14.9017,-15.1547, -15.3668,-15.6832,-15.895,-16.1074, -16.3191,-16.6367,-16.9534,-17.2695, -17.4804,-17.7959,-18.0064,-18.2167, -18.4271,-18.6377,-18.8479,-19.0589, -19.2689,-19.48,-19.6897,-19.8999, -20.1089,-20.3185,-20.6324,-20.8416, -21.0511,-21.2591,-21.6716,-21.8802, -22.089,-22.2986,-22.5067,-22.7152, -22.9235,-23.1318,-23.3401,-23.6522, -23.8602,-24.0681,-24.3801,-24.5887, -25.0027,-25.3166,-25.4207,-25.4628)
FOOTPRINT_POINT_LONGITUDE = (125.001,124.617,124.224,123.694, 123.681,123.671,123.679,123.683,123.688 ,123.694,123.696,123.698,123.701, 123.702,123.704,123.706,123.708,123.71, 123.712,123.713,123.712,123.716,123.716 ,123.717,123.718,123.717,123.713, 123.708,123.706,123.716,123.714,123.71, 123.707,123.705,123.703,123.702,123.699 ,123.696,123.692,123.688,123.685, 123.682,123.677,123.673,123.671,123.667 ,123.661,123.659,123.658,124.092,124.39 ,124.682,125.019,125.031,125.035, 125.036,125.037,125.037,125.038,125.038 ,125.039,125.039,125.04,125.04,125.04, 125.04,125.04,125.04,125.04,125.04, 125.039,125.039,125.039,125.039,125.039 ,125.038,125.037,125.037,125.036, 125.035,125.034,125.033,125.03,125.029, 125.027,125.027,125.025,125.024,125.022 ,125.021,125.019,125.017,125.015, 125.013,125.01,125.009,125.004,125.002, 125.001,125.001)
ORBIT_NUMBER = 18841
ORBITAL_ECCENTRICITY = 0.578
ORBITAL_INCLINATION = 86.95
ORBITAL_SEMIMAJOR_AXIS = 8830.97
PERIAPSIS_ALTITUDE = 333.47
PERIAPSIS_ARGUMENT_ANGLE = 332.54
PERIAPSIS_TIME = 2018-11-22T20:21:20.000Z
SPACECRAFT_ORIENTATION = (0.0,1.0,0.0)
^MEX_ORIENTATION_DESC = "MEX_ORIENTATION_DESC.TXT"
SPACECRAFT_POINTING_MODE = INERT
^MEX_POINTING_DESC = "MEX_POINTING_DESC.TXT"
RIGHT_ASCENSION = 61.487
DECLINATION = 44.834
OFFSET_ANGLE = -1e+32
SPACECRAFT_SOLAR_DISTANCE = 2.11311e+08
TARGET_NAME = MARS
/* CAMERA DATA ELEMENTS */
DETECTOR_TEMPERATURE = 19.1861
FOCAL_PLANE_TEMPERATURE = 11.8457
INST_CMPRS_NAME = "DISCRETE COSINE TRANSFORMATION (DCT)"
INST_CMPRS_RATIO = 3.75935
INST_CMPRS_QUALITY = 0
INST_CMPRS_QUANTZ_TBL_ID = 0
INSTRUMENT_TEMPERATURE = 12.8652
LENS_TEMPERATURE = 12.4574
MACROPIXEL_SIZE = 4
MISSING_FRAMES = 0
PIXEL_SUBSAMPLING_FLAG = N
SIGNAL_CHAIN_ID = 2
/* RADIOMETRIC DATA ELEMENTS */
BANDWIDTH = 76.0
CENTER_FILTER_WAVELENGTH = 444.0
RADIANCE_OFFSET = 0.565547
RADIANCE_SCALING_FACTOR = 0.0018944
REFLECTANCE_SCALING_FACTOR = 8.69103e-05
MEX:REFLECTANCE_OFFSET = 0.0259459
/* IMAGE OBJECT DEFINITIONS */
OBJECT = IMAGE
  INTERCHANGE_FORMAT = BINARY
  LINES = 12554
  LINE_SAMPLES = 1570
  SAMPLE_TYPE = UNSIGNED_INTEGER
  SAMPLE_BITS = 8
  BANDS = 1
  BAND_STORAGE_TYPE = BAND_SEQUENTIAL
  MAXIMUM = 255
  MEAN = 156.084
  MINIMUM = 1
  STANDARD_DEVIATION = 22.7024
END_OBJECT = IMAGE
/* MAP OBJECT DEFINITIONS */
OBJECT = IMAGE_MAP_PROJECTION
  ^DATA_SET_MAP_PROJECTION_CATALOG= "DSMAP.CAT"
  A_AXIS_RADIUS = 3396.0
  B_AXIS_RADIUS = 3396.0
  C_AXIS_RADIUS = 3396.0
  CENTER_LATITUDE = 0.0
  CENTER_LONGITUDE = 124.0
  COORDINATE_SYSTEM_NAME = PLANETOGRAPHIC
  COORDINATE_SYSTEM_TYPE = "BODY-FIXED ROTATING"
  EASTERNMOST_LONGITUDE = 125.04
  FIRST_STANDARD_PARALLEL = "N/A"
  LINE_FIRST_PIXEL = 1
  LINE_LAST_PIXEL = 12554
  LINE_PROJECTION_OFFSET = -17622.875
  MAP_PROJECTION_ROTATION = 0.0
  MAP_PROJECTION_TYPE = SINUSOIDAL
  MAP_RESOLUTION = 1185.42760773333
  MAP_SCALE = 0.05
  MAXIMUM_LATITUDE = -14.8616
  MINIMUM_LATITUDE = -25.4628
  POSITIVE_LONGITUDE_DIRECTION = EAST
  REFERENCE_LATITUDE = "N/A"
  REFERENCE_LONGITUDE = "N/A"
  SAMPLE_FIRST_PIXEL = 1
  SAMPLE_LAST_PIXEL = 1570
  SAMPLE_PROJECTION_OFFSET = 380.875
  SECOND_STANDARD_PARALLEL = "N/A"
  WESTERNMOST_LONGITUDE = 123.658
END_OBJECT = IMAGE_MAP_PROJECTION
END
