PDS_VERSION_ID = PDS3
/* FILE DATA ELEMENTS */
RECORD_TYPE = UNDEFINED
/* POINTERS TO DATA OBJECTS */
^IMAGE = ("HI841_0000_IR4.TIF")
/* IDENTIFICATION DATA ELEMENTS */
DATA_SET_ID = "MEX-M-HRSC-4-REFDR-MAPPROJECT-EXT6-V4.0"
DATA_SET_NAME = "MARS EXPRESS HRSC MAP PROJECTED REFDR EXTENSION6 V4.0"
DETECTOR_ID = MEX_HRSC_IR
EVENT_TYPE = "MARS-REGIONAL-MAPPING-Vo-Fl-Pf"
INSTRUMENT_HOST_ID = MEX
INSTRUMENT_HOST_NAME = "MARS EXPRESS"
INSTRUMENT_ID = HRSC
INSTRUMENT_NAME = "HIGH RESOLUTION STEREO CAMERA"
MISSION_NAME = "MARS EXPRESS"
MISSION_PHASE_NAME = ME_Phase_39
PROCESSING_LEVEL_ID = 4
PRODUCT_CREATION_TIME = 2023-01-29T14:35:52.000Z
PRODUCT_ID = "HI841_0000_IR4.TIF"
RELEASE_ID = 0005
REVISION_ID = 0000
/* QUALITY DATA ELEMENTS */
DATA_QUALITY_ID = 1
DATA_QUALITY_DESC = "Data calculated based on original SPICE kernels"
/* TIME DATA ELEMENTS */
SPACECRAFT_CLOCK_START_COUNT = "1/0490998041.24889"
SPACECRAFT_CLOCK_STOP_COUNT = "1/0490998246.46899"
START_TIME = 2018-11-22T20:22:03.853Z
STOP_TIME = 2018-11-22T20:24:31.740Z
/* ORBITAL DATA ELEMENTS */
ASCENDING_NODE_LONGITUDE = 220.7
MAXIMUM_RESOLUTION = 0.054
FOOTPRINT_POINT_LATITUDE = (-25.4034,-25.4142,-25.4246,-25.4374, -25.4377,-25.4401,-25.2373,-24.9337, -24.6294,-24.4269,-24.1231,-23.9203, -23.7178,-23.5152,-23.3127,-23.0089, -22.8067,-22.6042,-22.3007,-21.9969, -21.7946,-21.5924,-21.29,-21.087, -20.8853,-20.6833,-20.4809,-20.0776, -19.6762,-19.474,-19.2712,-19.0687, -18.7668,-18.364,-18.0616,-17.86, -17.457,-17.2555,-17.0172,-16.7768, -16.5363,-16.2958,-15.9352,-15.6948, -15.4544,-15.0937,-14.9735,-14.8904, -14.8727,-14.8595,-14.8508,-14.8504, -14.8514,-15.092,-15.4529,-15.6934, -15.934,-16.1746,-16.4152,-16.7761, -17.137,-17.3498,-17.5514,-17.7531, -17.9548,-18.1565,-18.459,-18.6607, -18.8624,-19.064,-19.2657,-19.4673, -19.6691,-19.9717,-20.1736,-20.3755, -20.5774,-20.7793,-20.9811,-21.1831, -21.3866,-21.5898,-21.7921,-21.9943, -22.1963,-22.3986,-22.7021,-22.9046, -23.2083,-23.4108,-23.6135,-23.8161, -24.0187,-24.2213,-24.4241,-24.6264, -24.8289,-25.2343,-25.3354,-25.4034)
FOOTPRINT_POINT_LONGITUDE = (125.008,124.636,124.255,123.74,123.728 ,123.719,123.723,123.728,123.734, 123.738,123.743,123.747,123.75,123.753, 123.756,123.761,123.763,123.766,123.77, 123.775,123.777,123.78,123.78,123.785, 123.785,123.787,123.79,123.79,123.783, 123.784,123.79,123.794,123.791,123.788, 123.788,123.787,123.785,123.784,123.782 ,123.78,123.778,123.777,123.773,123.771 ,123.768,123.764,123.763,123.762, 124.359,124.775,125.031,125.043,125.047 ,125.048,125.048,125.049,125.049, 125.049,125.05,125.05,125.05,125.05, 125.05,125.05,125.05,125.05,125.049, 125.049,125.049,125.049,125.048,125.048 ,125.048,125.047,125.046,125.045, 125.045,125.044,125.043,125.042,125.04, 125.038,125.037,125.036,125.035,125.034 ,125.031,125.03,125.028,125.026,125.024 ,125.023,125.021,125.019,125.017, 125.015,125.013,125.009,125.008, 125.008)
ORBIT_NUMBER = 18841
ORBITAL_ECCENTRICITY = 0.578
ORBITAL_INCLINATION = 86.95
ORBITAL_SEMIMAJOR_AXIS = 8830.97
PERIAPSIS_ALTITUDE = 333.47
PERIAPSIS_ARGUMENT_ANGLE = 332.54
PERIAPSIS_TIME = 2018-11-22T20:21:20.000Z
SPACECRAFT_ORIENTATION = (0.0,1.0,0.0)
^MEX_ORIENTATION_DESC = "MEX_ORIENTATION_DESC.TXT"
SPACECRAFT_POINTING_MODE = INERT
^MEX_POINTING_DESC = "MEX_POINTING_DESC.TXT"
RIGHT_ASCENSION = 61.487
DECLINATION = 44.834
OFFSET_ANGLE = -1e+32
SPACECRAFT_SOLAR_DISTANCE = 2.11311e+08
TARGET_NAME = MARS
/* CAMERA DATA ELEMENTS */
DETECTOR_TEMPERATURE = 18.1666
FOCAL_PLANE_TEMPERATURE = 11.8457
INST_CMPRS_NAME = "DISCRETE COSINE TRANSFORMATION (DCT)"
INST_CMPRS_RATIO = 5.02556
INST_CMPRS_QUALITY = 0
INST_CMPRS_QUANTZ_TBL_ID = 0
INSTRUMENT_TEMPERATURE = 12.8652
LENS_TEMPERATURE = 12.4574
MACROPIXEL_SIZE = 4
MISSING_FRAMES = 0
PIXEL_SUBSAMPLING_FLAG = N
SIGNAL_CHAIN_ID = 2
/* RADIOMETRIC DATA ELEMENTS */
BANDWIDTH = 81.0
CENTER_FILTER_WAVELENGTH = 955.5
RADIANCE_OFFSET = 0.662786
RADIANCE_SCALING_FACTOR = 0.00574703
REFLECTANCE_SCALING_FACTOR = 0.000553624
MEX:REFLECTANCE_OFFSET = 0.0638476
/* IMAGE OBJECT DEFINITIONS */
OBJECT = IMAGE
  INTERCHANGE_FORMAT = BINARY
  LINES = 12554
  LINE_SAMPLES = 1570
  SAMPLE_TYPE = UNSIGNED_INTEGER
  SAMPLE_BITS = 8
  BANDS = 1
  BAND_STORAGE_TYPE = BAND_SEQUENTIAL
  MAXIMUM = 255
  MEAN = 100.522
  MINIMUM = 1
  STANDARD_DEVIATION = 31.9125
END_OBJECT = IMAGE
/* MAP OBJECT DEFINITIONS */
OBJECT = IMAGE_MAP_PROJECTION
  ^DATA_SET_MAP_PROJECTION_CATALOG= "DSMAP.CAT"
  A_AXIS_RADIUS = 3396.0
  B_AXIS_RADIUS = 3396.0
  C_AXIS_RADIUS = 3396.0
  CENTER_LATITUDE = 0.0
  CENTER_LONGITUDE = 124.0
  COORDINATE_SYSTEM_NAME = PLANETOGRAPHIC
  COORDINATE_SYSTEM_TYPE = "BODY-FIXED ROTATING"
  EASTERNMOST_LONGITUDE = 125.05
  FIRST_STANDARD_PARALLEL = "N/A"
  LINE_FIRST_PIXEL = 1
  LINE_LAST_PIXEL = 12554
  LINE_PROJECTION_OFFSET = -17622.875
  MAP_PROJECTION_ROTATION = 0.0
  MAP_PROJECTION_TYPE = SINUSOIDAL
  MAP_RESOLUTION = 1185.42760773333
  MAP_SCALE = 0.05
  MAXIMUM_LATITUDE = -14.8504
  MINIMUM_LATITUDE = -25.4401
  POSITIVE_LONGITUDE_DIRECTION = EAST
  REFERENCE_LATITUDE = "N/A"
  REFERENCE_LONGITUDE = "N/A"
  SAMPLE_FIRST_PIXEL = 1
  SAMPLE_LAST_PIXEL = 1570
  SAMPLE_PROJECTION_OFFSET = 380.875
  SECOND_STANDARD_PARALLEL = "N/A"
  WESTERNMOST_LONGITUDE = 123.719
END_OBJECT = IMAGE_MAP_PROJECTION
END
