PDS_VERSION_ID = PDS3
/* FILE DATA ELEMENTS */
RECORD_TYPE = UNDEFINED
/* POINTERS TO DATA OBJECTS */
^IMAGE = ("HI842_0000_ND4.TIF")
/* IDENTIFICATION DATA ELEMENTS */
DATA_SET_ID = "MEX-M-HRSC-4-REFDR-MAPPROJECT-EXT6-V4.0"
DATA_SET_NAME = "MARS EXPRESS HRSC MAP PROJECTED REFDR EXTENSION6 V4.0"
DETECTOR_ID = MEX_HRSC_NADIR
EVENT_TYPE = "MARS-REGIONAL-MAPPING-Im-Fl"
INSTRUMENT_HOST_ID = MEX
INSTRUMENT_HOST_NAME = "MARS EXPRESS"
INSTRUMENT_ID = HRSC
INSTRUMENT_NAME = "HIGH RESOLUTION STEREO CAMERA"
MISSION_NAME = "MARS EXPRESS"
MISSION_PHASE_NAME = ME_Phase_39
PROCESSING_LEVEL_ID = 4
PRODUCT_CREATION_TIME = 2023-01-29T14:35:52.000Z
PRODUCT_ID = "HI842_0000_ND4.TIF"
RELEASE_ID = 0005
REVISION_ID = 0000
/* QUALITY DATA ELEMENTS */
DATA_QUALITY_ID = 1
DATA_QUALITY_DESC = "Data calculated based on original SPICE kernels"
/* TIME DATA ELEMENTS */
SPACECRAFT_CLOCK_START_COUNT = "1/0491023205.24931"
SPACECRAFT_CLOCK_STOP_COUNT = "1/0491023400.49566"
START_TIME = 2018-11-23T03:21:04.439Z
STOP_TIME = 2018-11-23T03:23:21.426Z
/* ORBITAL DATA ELEMENTS */
ASCENDING_NODE_LONGITUDE = 220.69
MAXIMUM_RESOLUTION = 0.0133
FOOTPRINT_POINT_LATITUDE = (-24.2517,-24.2312,-24.2101,-24.1977, -24.1857,-24.185,-24.1831,-23.8956, -23.6079,-23.2246,-22.937,-22.7452, -22.3608,-22.1675,-21.8687,-21.669, -21.4705,-21.1744,-20.9757,-20.7771, -20.5784,-20.3794,-20.0817,-19.8829, -19.684,-19.485,-19.2862,-19.087, -18.7885,-18.5893,-18.3903,-18.0912, -17.7924,-17.593,-17.394,-17.1942, -16.9948,-16.7953,-16.5954,-16.3957, -16.1961,-15.9958,-15.7955,-15.5953, -15.2954,-14.9939,-14.7923,-14.594, -14.3931,-14.2918,-14.2913,-14.3083, -14.3326,-14.3465,-14.3615,-14.3621, -14.3625,-14.6633,-14.8631,-15.0633, -15.2641,-15.5644,-15.7645,-16.0648, -16.2649,-16.5647,-16.7645,-16.9639, -17.1634,-17.3627,-17.562,-17.8605, -18.0598,-18.3586,-18.5573,-18.7565, -19.0551,-19.3537,-19.5528,-19.7523, -19.9493,-20.1485,-20.4473,-20.6458, -20.8445,-21.1422,-21.3411,-21.54, -21.7386,-21.9371,-22.1353,-22.3318, -22.6197,-23.0034,-23.2909,-23.6743, -23.9619,-24.1538,-24.2497,-24.2517)
FOOTPRINT_POINT_LONGITUDE = (23.9844,23.5705,23.1699,22.9448, 22.7321,22.7196,22.7118,22.7147,22.7172 ,22.7206,22.723,22.7244,22.7264,22.7274 ,22.728,22.728,22.7291,22.7319,22.7326, 22.7334,22.7341,22.7345,22.7357,22.7362 ,22.7365,22.7368,22.7372,22.7373, 22.7376,22.7376,22.7378,22.7376,22.7374 ,22.7372,22.7371,22.7367,22.7363,22.736 ,22.7354,22.7348,22.7343,22.7335, 22.7326,22.7318,22.7306,22.7288,22.7273 ,22.727,22.7258,22.7248,22.7248,23.012, 23.4555,23.7433,24.0307,24.0438,24.0503 ,24.0476,24.0462,24.0446,24.0426, 24.0401,24.0384,24.0358,24.0341,24.0317 ,24.0301,24.0288,24.0274,24.0261, 24.0248,24.0232,24.0219,24.0199,24.019, 24.0176,24.0157,24.0137,24.0124,24.0106 ,24.0111,24.0095,24.0071,24.0062,24.005 ,24.0035,24.0021,24.0005,23.9993, 23.9982,23.9974,23.9961,23.9947,23.9929 ,23.9919,23.9905,23.9892,23.9882, 23.9877,23.9844)
ORBIT_NUMBER = 18842
ORBITAL_ECCENTRICITY = 0.578
ORBITAL_INCLINATION = 86.95
ORBITAL_SEMIMAJOR_AXIS = 8830.14
PERIAPSIS_ALTITUDE = 333.67
PERIAPSIS_ARGUMENT_ANGLE = 332.37
PERIAPSIS_TIME = 2018-11-23T03:20:18.000Z
SPACECRAFT_ORIENTATION = (0.0,1.0,0.0)
^MEX_ORIENTATION_DESC = "MEX_ORIENTATION_DESC.TXT"
SPACECRAFT_POINTING_MODE = INERT
^MEX_POINTING_DESC = "MEX_POINTING_DESC.TXT"
RIGHT_ASCENSION = 61.348
DECLINATION = 44.919
OFFSET_ANGLE = -1e+32
SPACECRAFT_SOLAR_DISTANCE = 2.11349e+08
TARGET_NAME = MARS
/* CAMERA DATA ELEMENTS */
DETECTOR_TEMPERATURE = 18.7783
FOCAL_PLANE_TEMPERATURE = 10.8262
INST_CMPRS_NAME = "DISCRETE COSINE TRANSFORMATION (DCT)"
INST_CMPRS_RATIO = 6.13303
INST_CMPRS_QUALITY = 0
INST_CMPRS_QUANTZ_TBL_ID = 0
INSTRUMENT_TEMPERATURE = 12.2535
LENS_TEMPERATURE = 11.8457
MACROPIXEL_SIZE = 1
MISSING_FRAMES = 0
PIXEL_SUBSAMPLING_FLAG = N
SIGNAL_CHAIN_ID = 0
/* RADIOMETRIC DATA ELEMENTS */
BANDWIDTH = 177.0
CENTER_FILTER_WAVELENGTH = 677.5
RADIANCE_OFFSET = 2.90107
RADIANCE_SCALING_FACTOR = 0.0161171
REFLECTANCE_SCALING_FACTOR = 0.000382447
MEX:REFLECTANCE_OFFSET = 0.0688404
/* IMAGE OBJECT DEFINITIONS */
OBJECT = IMAGE
  INTERCHANGE_FORMAT = BINARY
  LINES = 47216
  LINE_SAMPLES = 6087
  SAMPLE_TYPE = UNSIGNED_INTEGER
  SAMPLE_BITS = 8
  BANDS = 1
  BAND_STORAGE_TYPE = BAND_SEQUENTIAL
  MAXIMUM = 255
  MEAN = 108.733
  MINIMUM = 1
  STANDARD_DEVIATION = 14.268
END_OBJECT = IMAGE
/* MAP OBJECT DEFINITIONS */
OBJECT = IMAGE_MAP_PROJECTION
  ^DATA_SET_MAP_PROJECTION_CATALOG= "DSMAP.CAT"
  A_AXIS_RADIUS = 3396.0
  B_AXIS_RADIUS = 3396.0
  C_AXIS_RADIUS = 3396.0
  CENTER_LATITUDE = 0.0
  CENTER_LONGITUDE = 23.0
  COORDINATE_SYSTEM_NAME = PLANETOGRAPHIC
  COORDINATE_SYSTEM_TYPE = "BODY-FIXED ROTATING"
  EASTERNMOST_LONGITUDE = 24.0503
  FIRST_STANDARD_PARALLEL = "N/A"
  LINE_FIRST_PIXEL = 1
  LINE_LAST_PIXEL = 47216
  LINE_PROJECTION_OFFSET = -67772.0
  MAP_PROJECTION_ROTATION = 0.0
  MAP_PROJECTION_TYPE = SINUSOIDAL
  MAP_RESOLUTION = 4741.71043093333
  MAP_SCALE = 0.0125
  MAXIMUM_LATITUDE = -14.2913
  MINIMUM_LATITUDE = -24.2517
  POSITIVE_LONGITUDE_DIRECTION = EAST
  REFERENCE_LATITUDE = "N/A"
  REFERENCE_LONGITUDE = "N/A"
  SAMPLE_FIRST_PIXEL = 1
  SAMPLE_LAST_PIXEL = 6087
  SAMPLE_PROJECTION_OFFSET = 1262.0
  SECOND_STANDARD_PARALLEL = "N/A"
  WESTERNMOST_LONGITUDE = 22.7118
END_OBJECT = IMAGE_MAP_PROJECTION
END
