PDS_VERSION_ID = PDS3
/* FILE DATA ELEMENTS */
RECORD_TYPE = UNDEFINED
/* POINTERS TO DATA OBJECTS */
^IMAGE = ("HI842_0000_S14.TIF")
/* IDENTIFICATION DATA ELEMENTS */
DATA_SET_ID = "MEX-M-HRSC-4-REFDR-MAPPROJECT-EXT6-V4.0"
DATA_SET_NAME = "MARS EXPRESS HRSC MAP PROJECTED REFDR EXTENSION6 V4.0"
DETECTOR_ID = MEX_HRSC_S1
EVENT_TYPE = "MARS-REGIONAL-MAPPING-Im-Fl"
INSTRUMENT_HOST_ID = MEX
INSTRUMENT_HOST_NAME = "MARS EXPRESS"
INSTRUMENT_ID = HRSC
INSTRUMENT_NAME = "HIGH RESOLUTION STEREO CAMERA"
MISSION_NAME = "MARS EXPRESS"
MISSION_PHASE_NAME = ME_Phase_39
PROCESSING_LEVEL_ID = 4
PRODUCT_CREATION_TIME = 2023-01-29T14:35:52.000Z
PRODUCT_ID = "HI842_0000_S14.TIF"
RELEASE_ID = 0005
REVISION_ID = 0000
/* QUALITY DATA ELEMENTS */
DATA_QUALITY_ID = 1
DATA_QUALITY_DESC = "Data calculated based on original SPICE kernels"
/* TIME DATA ELEMENTS */
SPACECRAFT_CLOCK_START_COUNT = "1/0491023205.24931"
SPACECRAFT_CLOCK_STOP_COUNT = "1/0491023400.49566"
START_TIME = 2018-11-23T03:21:31.216Z
STOP_TIME = 2018-11-23T03:23:50.342Z
/* ORBITAL DATA ELEMENTS */
ASCENDING_NODE_LONGITUDE = 220.69
MAXIMUM_RESOLUTION = 0.0277
FOOTPRINT_POINT_LATITUDE = (-24.2214,-24.2045,-24.1831,-24.1654, -24.1529,-24.1522,-24.1562,-23.9652, -23.7731,-23.5805,-23.2943,-23.1015, -22.9085,-22.717,-22.4303,-22.2388, -21.9518,-21.5723,-21.3791,-21.0918, -20.9006,-20.7095,-20.4234,-20.2317, -20.0407,-19.8498,-19.6591,-19.4684, -19.1823,-18.9919,-18.8012,-18.5154, -18.3248,-18.1345,-17.8487,-17.5633, -17.373,-17.0877,-16.8975,-16.5177, -16.1141,-15.8877,-15.6613,-15.4347, -15.0949,-14.8692,-14.6422,-14.4159, -14.3032,-14.2755,-14.3062,-14.3289, -14.3445,-14.3452,-14.346,-14.5716, -14.7979,-15.0241,-15.2504,-15.5899, -15.8162,-16.0423,-16.2692,-16.4686, -16.7533,-17.0387,-17.2289,-17.5135, -17.7037,-17.8942,-18.0845,-18.275, -18.4655,-18.656,-18.943,-19.2279, -19.4182,-19.609,-19.7994,-19.993, -20.3721,-20.6589,-20.9456,-21.1371, -21.3276,-21.5185,-21.7098,-21.9008, -22.0924,-22.3795,-22.6669,-22.8589, -23.0511,-23.244,-23.4363,-23.629, -23.9179,-24.1099,-24.2049,-24.2214)
FOOTPRINT_POINT_LONGITUDE = (23.8652,23.5512,23.1652,22.8521, 22.6353,22.6232,22.617,22.6194,22.6215, 22.6237,22.6257,22.6279,22.6303,22.6318 ,22.6337,22.6351,22.6371,22.6377, 22.6399,22.6418,22.6429,22.6438,22.6448 ,22.6461,22.6468,22.6475,22.648,22.6486 ,22.6493,22.6496,22.65,22.6504,22.6507, 22.6507,22.6511,22.651,22.651,22.6507, 22.6506,22.6497,22.6489,22.648,22.6471, 22.6463,22.6451,22.6433,22.6431,22.642, 22.6408,22.6404,23.1876,23.6013,23.882, 23.8942,23.8986,23.897,23.8962,23.8951, 23.8942,23.8927,23.8918,23.8906,23.89, 23.8892,23.888,23.8874,23.8869,23.8855, 23.8849,23.8845,23.8839,23.8835,23.883, 23.8825,23.8824,23.881,23.8802,23.8797, 23.8789,23.88,23.8774,23.8768,23.876, 23.8756,23.8748,23.8741,23.8735,23.8728 ,23.8724,23.8715,23.8707,23.8703,23.87, 23.8699,23.8695,23.8693,23.8688,23.8683 ,23.868,23.8652)
ORBIT_NUMBER = 18842
ORBITAL_ECCENTRICITY = 0.578
ORBITAL_INCLINATION = 86.95
ORBITAL_SEMIMAJOR_AXIS = 8830.14
PERIAPSIS_ALTITUDE = 333.67
PERIAPSIS_ARGUMENT_ANGLE = 332.37
PERIAPSIS_TIME = 2018-11-23T03:20:18.000Z
SPACECRAFT_ORIENTATION = (0.0,1.0,0.0)
^MEX_ORIENTATION_DESC = "MEX_ORIENTATION_DESC.TXT"
SPACECRAFT_POINTING_MODE = INERT
^MEX_POINTING_DESC = "MEX_POINTING_DESC.TXT"
RIGHT_ASCENSION = 61.348
DECLINATION = 44.919
OFFSET_ANGLE = -1e+32
SPACECRAFT_SOLAR_DISTANCE = 2.11349e+08
TARGET_NAME = MARS
/* CAMERA DATA ELEMENTS */
DETECTOR_TEMPERATURE = 18.1666
FOCAL_PLANE_TEMPERATURE = 10.8262
INST_CMPRS_NAME = "DISCRETE COSINE TRANSFORMATION (DCT)"
INST_CMPRS_RATIO = 9.25725
INST_CMPRS_QUALITY = 0
INST_CMPRS_QUANTZ_TBL_ID = 0
INSTRUMENT_TEMPERATURE = 12.2535
LENS_TEMPERATURE = 11.8457
MACROPIXEL_SIZE = 2
MISSING_FRAMES = 0
PIXEL_SUBSAMPLING_FLAG = N
SIGNAL_CHAIN_ID = 1
/* RADIOMETRIC DATA ELEMENTS */
BANDWIDTH = 180.0
CENTER_FILTER_WAVELENGTH = 677.0
RADIANCE_OFFSET = 3.29866
RADIANCE_SCALING_FACTOR = 0.0164471
REFLECTANCE_SCALING_FACTOR = 0.000383293
MEX:REFLECTANCE_OFFSET = 0.076874
/* IMAGE OBJECT DEFINITIONS */
OBJECT = IMAGE
  INTERCHANGE_FORMAT = BINARY
  LINES = 23608
  LINE_SAMPLES = 3044
  SAMPLE_TYPE = UNSIGNED_INTEGER
  SAMPLE_BITS = 8
  BANDS = 1
  BAND_STORAGE_TYPE = BAND_SEQUENTIAL
  MAXIMUM = 255
  MEAN = 114.694
  MINIMUM = 1
  STANDARD_DEVIATION = 14.9478
END_OBJECT = IMAGE
/* MAP OBJECT DEFINITIONS */
OBJECT = IMAGE_MAP_PROJECTION
  ^DATA_SET_MAP_PROJECTION_CATALOG= "DSMAP.CAT"
  A_AXIS_RADIUS = 3396.0
  B_AXIS_RADIUS = 3396.0
  C_AXIS_RADIUS = 3396.0
  CENTER_LATITUDE = 0.0
  CENTER_LONGITUDE = 23.0
  COORDINATE_SYSTEM_NAME = PLANETOGRAPHIC
  COORDINATE_SYSTEM_TYPE = "BODY-FIXED ROTATING"
  EASTERNMOST_LONGITUDE = 23.8986
  FIRST_STANDARD_PARALLEL = "N/A"
  LINE_FIRST_PIXEL = 1
  LINE_LAST_PIXEL = 23608
  LINE_PROJECTION_OFFSET = -33886.25
  MAP_PROJECTION_ROTATION = 0.0
  MAP_PROJECTION_TYPE = SINUSOIDAL
  MAP_RESOLUTION = 2370.85521546667
  MAP_SCALE = 0.025
  MAXIMUM_LATITUDE = -14.2755
  MINIMUM_LATITUDE = -24.2214
  POSITIVE_LONGITUDE_DIRECTION = EAST
  REFERENCE_LATITUDE = "N/A"
  REFERENCE_LONGITUDE = "N/A"
  SAMPLE_FIRST_PIXEL = 1
  SAMPLE_LAST_PIXEL = 3044
  SAMPLE_PROJECTION_OFFSET = 630.75
  SECOND_STANDARD_PARALLEL = "N/A"
  WESTERNMOST_LONGITUDE = 22.617
END_OBJECT = IMAGE_MAP_PROJECTION
END
