PDS_VERSION_ID = PDS3
/* FILE DATA ELEMENTS */
RECORD_TYPE = UNDEFINED
/* POINTERS TO DATA OBJECTS */
^IMAGE = ("HI843_0000_P24.TIF")
/* IDENTIFICATION DATA ELEMENTS */
DATA_SET_ID = "MEX-M-HRSC-4-REFDR-MAPPROJECT-EXT6-V4.0"
DATA_SET_NAME = "MARS EXPRESS HRSC MAP PROJECTED REFDR EXTENSION6 V4.0"
DETECTOR_ID = MEX_HRSC_P2
EVENT_TYPE = "MARS-REGIONAL-STEREO-Vo-Te-Im"
INSTRUMENT_HOST_ID = MEX
INSTRUMENT_HOST_NAME = "MARS EXPRESS"
INSTRUMENT_ID = HRSC
INSTRUMENT_NAME = "HIGH RESOLUTION STEREO CAMERA"
MISSION_NAME = "MARS EXPRESS"
MISSION_PHASE_NAME = ME_Phase_39
PROCESSING_LEVEL_ID = 4
PRODUCT_CREATION_TIME = 2023-01-29T14:35:52.000Z
PRODUCT_ID = "HI843_0000_P24.TIF"
RELEASE_ID = 0005
REVISION_ID = 0000
/* QUALITY DATA ELEMENTS */
DATA_QUALITY_ID = 1
DATA_QUALITY_DESC = "Data calculated based on original SPICE kernels"
/* TIME DATA ELEMENTS */
SPACECRAFT_CLOCK_START_COUNT = "1/0491048395.25684"
SPACECRAFT_CLOCK_STOP_COUNT = "1/0491048562.17659"
START_TIME = 2018-11-23T10:20:37.331Z
STOP_TIME = 2018-11-23T10:22:20.485Z
/* ORBITAL DATA ELEMENTS */
ASCENDING_NODE_LONGITUDE = 220.67
MAXIMUM_RESOLUTION = 0.0289
FOOTPRINT_POINT_LATITUDE = (-20.6525,-20.6442,-20.6377,-20.6306, -20.623,-20.6149,-20.6064,-20.6058, -20.611,-20.3865,-20.1618,-19.8618, -19.6359,-19.4852,-19.184,-18.8834, -18.5818,-18.4308,-18.2038,-17.9768, -17.8253,-17.674,-17.5228,-17.3713, -17.2196,-17.0676,-16.9163,-16.689, -16.4605,-16.3081,-16.1557,-15.9273, -15.7763,-15.6235,-15.4712,-15.3185, -15.1656,-15.0124,-14.8588,-14.7049, -14.5505,-14.396,-14.2413,-14.01, -13.8555,-13.7012,-13.547,-13.3924, -13.2121,-13.0278,-12.9352,-12.9075, -12.9155,-12.9229,-12.9319,-12.9405, -12.9449,-12.9469,-12.9467,-12.9474, -13.2237,-13.4086,-13.5639,-13.7183, -13.9521,-14.1077,-14.2623,-14.4168, -14.5711,-14.8021,-14.955,-15.108, -15.2613,-15.4912,-15.7206,-16.0197, -16.1759,-16.4072,-16.6351,-16.7874, -17.0156,-17.1676,-17.3195,-17.5463, -17.6978,-17.8489,-18.0001,-18.1512, -18.3025,-18.5293,-18.68,-18.9061, -19.057,-19.3582,-19.6596,-19.9598, -20.1846,-20.5593,-20.6344,-20.6525)
FOOTPRINT_POINT_LONGITUDE = (282.256,281.972,281.767,281.563,281.36 ,281.157,280.955,280.942,280.939,280.94 ,280.941,280.942,280.942,280.943, 280.943,280.944,280.945,280.945,280.945 ,280.946,280.946,280.946,280.946, 280.946,280.946,280.946,280.946,280.947 ,280.947,280.946,280.946,280.946, 280.946,280.946,280.946,280.946,280.946 ,280.946,280.945,280.945,280.945, 280.944,280.944,280.944,280.943,280.943 ,280.943,280.942,280.942,280.941, 280.941,280.941,281.145,281.364,281.638 ,281.943,282.194,282.349,282.363, 282.368,282.363,282.359,282.356,282.354 ,282.348,282.345,282.342,282.339, 282.336,282.332,282.33,282.327,282.325, 282.321,282.317,282.315,282.311,282.307 ,282.303,282.301,282.298,282.296, 282.294,282.291,282.289,282.287,282.285 ,282.283,282.281,282.278,282.276, 282.274,282.272,282.268,282.265,282.261 ,282.259,282.255,282.254,282.256)
ORBIT_NUMBER = 18843
ORBITAL_ECCENTRICITY = 0.578
ORBITAL_INCLINATION = 86.95
ORBITAL_SEMIMAJOR_AXIS = 8832.34
PERIAPSIS_ALTITUDE = 333.27
PERIAPSIS_ARGUMENT_ANGLE = 332.2
PERIAPSIS_TIME = 2018-11-23T10:19:21.000Z
SPACECRAFT_ORIENTATION = (0.0,1.0,0.0)
^MEX_ORIENTATION_DESC = "MEX_ORIENTATION_DESC.TXT"
SPACECRAFT_POINTING_MODE = INERT
^MEX_POINTING_DESC = "MEX_POINTING_DESC.TXT"
RIGHT_ASCENSION = 61.141
DECLINATION = 45.035
OFFSET_ANGLE = -1e+32
SPACECRAFT_SOLAR_DISTANCE = 2.11387e+08
TARGET_NAME = MARS
/* CAMERA DATA ELEMENTS */
DETECTOR_TEMPERATURE = 19.5939
FOCAL_PLANE_TEMPERATURE = 10.6223
INST_CMPRS_NAME = "DISCRETE COSINE TRANSFORMATION (DCT)"
INST_CMPRS_RATIO = 6.03554
INST_CMPRS_QUALITY = 0
INST_CMPRS_QUANTZ_TBL_ID = 0
INSTRUMENT_TEMPERATURE = 12.6613
LENS_TEMPERATURE = 11.234
MACROPIXEL_SIZE = 2
MISSING_FRAMES = 0
PIXEL_SUBSAMPLING_FLAG = N
SIGNAL_CHAIN_ID = 3
/* RADIOMETRIC DATA ELEMENTS */
BANDWIDTH = 177.0
CENTER_FILTER_WAVELENGTH = 676.5
RADIANCE_OFFSET = 3.62278
RADIANCE_SCALING_FACTOR = 0.0205212
REFLECTANCE_SCALING_FACTOR = 0.000486204
MEX:REFLECTANCE_OFFSET = 0.0858336
/* IMAGE OBJECT DEFINITIONS */
OBJECT = IMAGE
  INTERCHANGE_FORMAT = BINARY
  LINES = 18424
  LINE_SAMPLES = 3146
  SAMPLE_TYPE = UNSIGNED_INTEGER
  SAMPLE_BITS = 8
  BANDS = 1
  BAND_STORAGE_TYPE = BAND_SEQUENTIAL
  MAXIMUM = 255
  MEAN = 141.535
  MINIMUM = 1
  STANDARD_DEVIATION = 18.7615
END_OBJECT = IMAGE
/* MAP OBJECT DEFINITIONS */
OBJECT = IMAGE_MAP_PROJECTION
  ^DATA_SET_MAP_PROJECTION_CATALOG= "DSMAP.CAT"
  A_AXIS_RADIUS = 3396.0
  B_AXIS_RADIUS = 3396.0
  C_AXIS_RADIUS = 3396.0
  CENTER_LATITUDE = 0.0
  CENTER_LONGITUDE = 282.0
  COORDINATE_SYSTEM_NAME = PLANETOGRAPHIC
  COORDINATE_SYSTEM_TYPE = "BODY-FIXED ROTATING"
  EASTERNMOST_LONGITUDE = 282.368
  FIRST_STANDARD_PARALLEL = "N/A"
  LINE_FIRST_PIXEL = 1
  LINE_LAST_PIXEL = 18424
  LINE_PROJECTION_OFFSET = -30547.25
  MAP_PROJECTION_ROTATION = 0.0
  MAP_PROJECTION_TYPE = SINUSOIDAL
  MAP_RESOLUTION = 2370.85521546667
  MAP_SCALE = 0.025
  MAXIMUM_LATITUDE = -12.9075
  MINIMUM_LATITUDE = -20.6525
  POSITIVE_LONGITUDE_DIRECTION = EAST
  REFERENCE_LATITUDE = "N/A"
  REFERENCE_LONGITUDE = "N/A"
  SAMPLE_FIRST_PIXEL = 1
  SAMPLE_LAST_PIXEL = 3146
  SAMPLE_PROJECTION_OFFSET = 2604.75
  SECOND_STANDARD_PARALLEL = "N/A"
  WESTERNMOST_LONGITUDE = 280.939
END_OBJECT = IMAGE_MAP_PROJECTION
END
