PDS_VERSION_ID = PDS3
/* FILE DATA ELEMENTS */
RECORD_TYPE = UNDEFINED
/* POINTERS TO DATA OBJECTS */
^IMAGE = ("HI849_0000_GR4.TIF")
/* IDENTIFICATION DATA ELEMENTS */
DATA_SET_ID = "MEX-M-HRSC-4-REFDR-MAPPROJECT-EXT6-V4.0"
DATA_SET_NAME = "MARS EXPRESS HRSC MAP PROJECTED REFDR EXTENSION6 V4.0"
DETECTOR_ID = MEX_HRSC_GREEN
EVENT_TYPE = "MARS-REGIONAL-MAPPING-Im-Gl-Eo"
INSTRUMENT_HOST_ID = MEX
INSTRUMENT_HOST_NAME = "MARS EXPRESS"
INSTRUMENT_ID = HRSC
INSTRUMENT_NAME = "HIGH RESOLUTION STEREO CAMERA"
MISSION_NAME = "MARS EXPRESS"
MISSION_PHASE_NAME = ME_Phase_39
PROCESSING_LEVEL_ID = 4
PRODUCT_CREATION_TIME = 2023-01-29T14:35:52.000Z
PRODUCT_ID = "HI849_0000_GR4.TIF"
RELEASE_ID = 0005
REVISION_ID = 0000
/* QUALITY DATA ELEMENTS */
DATA_QUALITY_ID = 1
DATA_QUALITY_DESC = "Data calculated based on original SPICE kernels"
/* TIME DATA ELEMENTS */
SPACECRAFT_CLOCK_START_COUNT = "1/0491198837.24940"
SPACECRAFT_CLOCK_STOP_COUNT = "1/0491199067.49415"
START_TIME = 2018-11-25T04:08:29.378Z
STOP_TIME = 2018-11-25T04:11:12.943Z
/* ORBITAL DATA ELEMENTS */
ASCENDING_NODE_LONGITUDE = 220.56
MAXIMUM_RESOLUTION = 0.0563
FOOTPRINT_POINT_LATITUDE = (-49.4375,-49.407,-49.3698,-49.3471, -49.3159,-49.3147,-49.3768,-48.9689, -48.6975,-48.2908,-48.0269,-47.763, -47.4996,-47.2372,-46.9774,-46.7204, -46.4651,-46.2098,-45.8299,-45.5727, -45.1918,-44.9357,-44.6818,-44.3011, -44.0522,-43.7987,-43.5395,-43.2865, -42.9056,-42.6518,-42.4048,-42.1522, -41.8953,-41.6428,-41.2673,-41.057, -40.8468,-40.5329,-40.3224,-40.1123, -39.9025,-39.4835,-38.9593,-38.6457, -38.2301,-38.0203,-37.8077,-37.4947, -37.3901,-37.3422,-37.3741,-37.3941, -37.4082,-37.4236,-37.4243,-37.4255, -37.8448,-38.1597,-38.3718,-38.7886, -39.2086,-39.4191,-39.837,-40.0472, -40.2582,-40.4764,-40.688,-41.0047, -41.2159,-41.5637,-41.8094,-42.1886, -42.4417,-42.6943,-42.9479,-43.2017, -43.4551,-43.8349,-44.2179,-44.4794, -44.7344,-44.9892,-45.2444,-45.4997, -45.7484,-46.1335,-46.391,-46.6544, -46.9116,-47.1691,-47.4307,-47.6953, -47.9601,-48.2253,-48.4924,-48.7639, -49.0314,-49.3053,-49.4422,-49.4375)
FOOTPRINT_POINT_LONGITUDE = (28.7929,28.1751,27.473,27.0695,26.5379 ,26.5167,26.4732,26.5227,26.5548,26.602 ,26.6318,26.661,26.6895,26.717,26.7447, 26.7715,26.797,26.8221,26.8571,26.8824, 26.9168,26.9407,26.9628,26.9954,27.0135 ,27.0343,27.0585,27.0784,27.1087, 27.1285,27.1435,27.1619,27.183,27.2008, 27.2255,27.2391,27.2525,27.2713,27.2846 ,27.2973,27.3097,27.3337,27.3631, 27.3797,27.3992,27.4103,27.4236,27.4386 ,27.4437,27.446,28.0027,28.3745,28.6465 ,28.9613,28.9756,28.9804,28.9769, 28.9743,28.9737,28.968,28.9638,28.9619, 28.9561,28.9537,28.9517,28.9532,28.9512 ,28.9477,28.9453,28.9411,28.9351, 28.9306,28.9276,28.9242,28.9212,28.918, 28.9145,28.9089,28.9043,28.9035,28.8999 ,28.8961,28.8922,28.8882,28.8816, 28.8759,28.8722,28.8704,28.8662,28.8619 ,28.8572,28.8525,28.8476,28.8426, 28.8377,28.832,28.8247,28.8193,28.8166, 28.7929)
ORBIT_NUMBER = 18849
ORBITAL_ECCENTRICITY = 0.578
ORBITAL_INCLINATION = 86.95
ORBITAL_SEMIMAJOR_AXIS = 8828.9
PERIAPSIS_ALTITUDE = 333.25
PERIAPSIS_ARGUMENT_ANGLE = 331.16
PERIAPSIS_TIME = 2018-11-25T04:13:07.000Z
SPACECRAFT_ORIENTATION = (0.0,1.0,0.0)
^MEX_ORIENTATION_DESC = "MEX_ORIENTATION_DESC.TXT"
SPACECRAFT_POINTING_MODE = INERT
^MEX_POINTING_DESC = "MEX_POINTING_DESC.TXT"
RIGHT_ASCENSION = 60.017
DECLINATION = 45.687
OFFSET_ANGLE = -1e+32
SPACECRAFT_SOLAR_DISTANCE = 2.1162e+08
TARGET_NAME = MARS
/* CAMERA DATA ELEMENTS */
DETECTOR_TEMPERATURE = 18.9822
FOCAL_PLANE_TEMPERATURE = 10.4184
INST_CMPRS_NAME = "DISCRETE COSINE TRANSFORMATION (DCT)"
INST_CMPRS_RATIO = 9.04212
INST_CMPRS_QUALITY = 0
INST_CMPRS_QUANTZ_TBL_ID = 0
INSTRUMENT_TEMPERATURE = 11.234
LENS_TEMPERATURE = 10.8262
MACROPIXEL_SIZE = 4
MISSING_FRAMES = 0
PIXEL_SUBSAMPLING_FLAG = N
SIGNAL_CHAIN_ID = 2
/* RADIOMETRIC DATA ELEMENTS */
BANDWIDTH = 88.0
CENTER_FILTER_WAVELENGTH = 538.0
RADIANCE_OFFSET = 1.38204
RADIANCE_SCALING_FACTOR = 0.00513197
REFLECTANCE_SCALING_FACTOR = 0.000197872
MEX:REFLECTANCE_OFFSET = 0.0532867
/* IMAGE OBJECT DEFINITIONS */
OBJECT = IMAGE
  INTERCHANGE_FORMAT = BINARY
  LINES = 14421
  LINE_SAMPLES = 2097
  SAMPLE_TYPE = UNSIGNED_INTEGER
  SAMPLE_BITS = 8
  BANDS = 1
  BAND_STORAGE_TYPE = BAND_SEQUENTIAL
  MAXIMUM = 255
  MEAN = 155.365
  MINIMUM = 1
  STANDARD_DEVIATION = 21.7092
END_OBJECT = IMAGE
/* MAP OBJECT DEFINITIONS */
OBJECT = IMAGE_MAP_PROJECTION
  ^DATA_SET_MAP_PROJECTION_CATALOG= "DSMAP.CAT"
  A_AXIS_RADIUS = 3396.0
  B_AXIS_RADIUS = 3396.0
  C_AXIS_RADIUS = 3396.0
  CENTER_LATITUDE = 0.0
  CENTER_LONGITUDE = 28.0
  COORDINATE_SYSTEM_NAME = PLANETOGRAPHIC
  COORDINATE_SYSTEM_TYPE = "BODY-FIXED ROTATING"
  EASTERNMOST_LONGITUDE = 28.9804
  FIRST_STANDARD_PARALLEL = "N/A"
  LINE_FIRST_PIXEL = 1
  LINE_LAST_PIXEL = 14421
  LINE_PROJECTION_OFFSET = -44270.625
  MAP_PROJECTION_ROTATION = 0.0
  MAP_PROJECTION_TYPE = SINUSOIDAL
  MAP_RESOLUTION = 1185.42760773333
  MAP_SCALE = 0.05
  MAXIMUM_LATITUDE = -37.3422
  MINIMUM_LATITUDE = -49.4422
  POSITIVE_LONGITUDE_DIRECTION = EAST
  REFERENCE_LATITUDE = "N/A"
  REFERENCE_LONGITUDE = "N/A"
  SAMPLE_FIRST_PIXEL = 1
  SAMPLE_LAST_PIXEL = 2097
  SAMPLE_PROJECTION_OFFSET = 1157.875
  SECOND_STANDARD_PARALLEL = "N/A"
  WESTERNMOST_LONGITUDE = 26.4732
END_OBJECT = IMAGE_MAP_PROJECTION
END
