PDS_VERSION_ID = PDS3
/* FILE DATA ELEMENTS */
RECORD_TYPE = UNDEFINED
/* POINTERS TO DATA OBJECTS */
^IMAGE = ("HI851_0000_S14.TIF")
/* IDENTIFICATION DATA ELEMENTS */
DATA_SET_ID = "MEX-M-HRSC-4-REFDR-MAPPROJECT-EXT6-V4.0"
DATA_SET_NAME = "MARS EXPRESS HRSC MAP PROJECTED REFDR EXTENSION6 V4.0"
DETECTOR_ID = MEX_HRSC_S1
EVENT_TYPE = "MARS-REGIONAL-MAPPING-Te-Lc-La"
INSTRUMENT_HOST_ID = MEX
INSTRUMENT_HOST_NAME = "MARS EXPRESS"
INSTRUMENT_ID = HRSC
INSTRUMENT_NAME = "HIGH RESOLUTION STEREO CAMERA"
MISSION_NAME = "MARS EXPRESS"
MISSION_PHASE_NAME = ME_Phase_39
PROCESSING_LEVEL_ID = 4
PRODUCT_CREATION_TIME = 2023-01-29T14:35:52.000Z
PRODUCT_ID = "HI851_0000_S14.TIF"
RELEASE_ID = 0005
REVISION_ID = 0000
/* QUALITY DATA ELEMENTS */
DATA_QUALITY_ID = 1
DATA_QUALITY_DESC = "Data calculated based on original SPICE kernels"
/* TIME DATA ELEMENTS */
SPACECRAFT_CLOCK_START_COUNT = "1/0491249203.25665"
SPACECRAFT_CLOCK_STOP_COUNT = "1/0491249445.59078"
START_TIME = 2018-11-25T18:08:17.228Z
STOP_TIME = 2018-11-25T18:11:15.443Z
/* ORBITAL DATA ELEMENTS */
ASCENDING_NODE_LONGITUDE = 220.52
MAXIMUM_RESOLUTION = 0.0278
FOOTPRINT_POINT_LATITUDE = (-43.4266,-43.3838,-43.3485,-43.3145, -43.3134,-43.3792,-43.0994,-42.8267, -42.5614,-42.2886,-42.0147,-41.7412, -41.4683,-41.1958,-40.787,-40.3778, -40.1074,-39.8362,-39.5665,-39.1625, -38.7552,-38.4855,-38.083,-37.814, -37.4115,-37.0092,-36.6087,-36.2098, -35.8114,-35.4152,-35.1585,-34.9019, -34.6451,-34.3878,-34.1313,-33.8746, -33.6175,-33.2329,-32.9771,-32.7193, -32.3354,-31.9512,-31.6985,-31.4448, -31.1909,-30.937,-30.5571,-30.3039, -30.1772,-30.1762,-30.2009,-30.2542, -30.255,-30.2545,-30.509,-30.8899, -31.1428,-31.3976,-31.6519,-31.909, -32.1654,-32.4206,-32.6757,-33.1803, -33.5649,-33.8229,-34.0808,-34.3368, -34.5993,-34.8575,-35.2439,-35.7618, -36.0283,-36.2962,-36.5646,-36.9673, -37.2368,-37.6403,-37.9096,-38.179, -38.4488,-38.8522,-39.1192,-39.3882, -39.6669,-39.9393,-40.2127,-40.485, -40.7579,-41.0298,-41.3041,-41.5788, -41.8529,-42.1276,-42.4028,-42.6778, -43.0915,-43.3672,-43.5053,-43.4266)
FOOTPRINT_POINT_LONGITUDE = (184.921,184.205,183.637,183.107,183.09 ,183.064,183.085,183.102,183.118, 183.135,183.152,183.169,183.185,183.201 ,183.225,183.248,183.263,183.277, 183.291,183.311,183.33,183.343,183.362, 183.374,183.392,183.409,183.425,183.44, 183.455,183.469,183.478,183.487,183.496 ,183.504,183.513,183.521,183.529, 183.541,183.549,183.557,183.568,183.579 ,183.585,183.591,183.597,183.603, 183.612,183.617,183.62,183.62,184.041, 184.927,184.94,184.944,184.944,184.944, 184.943,184.943,184.943,184.944,184.945 ,184.945,184.945,184.942,184.942, 184.943,184.943,184.943,184.945,184.946 ,184.946,184.944,184.944,184.944, 184.944,184.945,184.945,184.945,184.945 ,184.946,184.946,184.945,184.944, 184.942,184.945,184.945,184.946,184.946 ,184.946,184.946,184.946,184.946, 184.946,184.947,184.947,184.947,184.947 ,184.947,184.947,184.921)
ORBIT_NUMBER = 18851
ORBITAL_ECCENTRICITY = 0.578
ORBITAL_INCLINATION = 86.96
ORBITAL_SEMIMAJOR_AXIS = 8822.14
PERIAPSIS_ALTITUDE = 333.16
PERIAPSIS_ARGUMENT_ANGLE = 330.82
PERIAPSIS_TIME = 2018-11-25T18:11:07.000Z
SPACECRAFT_ORIENTATION = (0.0,1.0,0.0)
^MEX_ORIENTATION_DESC = "MEX_ORIENTATION_DESC.TXT"
SPACECRAFT_POINTING_MODE = INERT
^MEX_POINTING_DESC = "MEX_POINTING_DESC.TXT"
RIGHT_ASCENSION = 59.608
DECLINATION = 45.921
OFFSET_ANGLE = -1e+32
SPACECRAFT_SOLAR_DISTANCE = 2.11698e+08
TARGET_NAME = MARS
/* CAMERA DATA ELEMENTS */
DETECTOR_TEMPERATURE = 18.3705
FOCAL_PLANE_TEMPERATURE = 12.6613
INST_CMPRS_NAME = "DISCRETE COSINE TRANSFORMATION (DCT)"
INST_CMPRS_RATIO = 8.71942
INST_CMPRS_QUALITY = 0
INST_CMPRS_QUANTZ_TBL_ID = 0
INSTRUMENT_TEMPERATURE = 13.0691
LENS_TEMPERATURE = 12.2535
MACROPIXEL_SIZE = 2
MISSING_FRAMES = 1
PIXEL_SUBSAMPLING_FLAG = N
SIGNAL_CHAIN_ID = 1
/* RADIOMETRIC DATA ELEMENTS */
BANDWIDTH = 180.0
CENTER_FILTER_WAVELENGTH = 677.0
RADIANCE_OFFSET = 3.72277
RADIANCE_SCALING_FACTOR = 0.0230999
REFLECTANCE_SCALING_FACTOR = 0.000540113
MEX:REFLECTANCE_OFFSET = 0.0870446
/* IMAGE OBJECT DEFINITIONS */
OBJECT = IMAGE
  INTERCHANGE_FORMAT = BINARY
  LINES = 31621
  LINE_SAMPLES = 3550
  SAMPLE_TYPE = UNSIGNED_INTEGER
  SAMPLE_BITS = 8
  BANDS = 1
  BAND_STORAGE_TYPE = BAND_SEQUENTIAL
  MAXIMUM = 255
  MEAN = 116.77
  MINIMUM = 1
  STANDARD_DEVIATION = 41.2351
END_OBJECT = IMAGE
/* MAP OBJECT DEFINITIONS */
OBJECT = IMAGE_MAP_PROJECTION
  ^DATA_SET_MAP_PROJECTION_CATALOG= "DSMAP.CAT"
  A_AXIS_RADIUS = 3396.0
  B_AXIS_RADIUS = 3396.0
  C_AXIS_RADIUS = 3396.0
  CENTER_LATITUDE = 0.0
  CENTER_LONGITUDE = 184.0
  COORDINATE_SYSTEM_NAME = PLANETOGRAPHIC
  COORDINATE_SYSTEM_TYPE = "BODY-FIXED ROTATING"
  EASTERNMOST_LONGITUDE = 184.947
  FIRST_STANDARD_PARALLEL = "N/A"
  LINE_FIRST_PIXEL = 1
  LINE_LAST_PIXEL = 31621
  LINE_PROJECTION_OFFSET = -71540.25
  MAP_PROJECTION_ROTATION = 0.0
  MAP_PROJECTION_TYPE = SINUSOIDAL
  MAP_RESOLUTION = 2370.85521546667
  MAP_SCALE = 0.025
  MAXIMUM_LATITUDE = -30.1762
  MINIMUM_LATITUDE = -43.5053
  POSITIVE_LONGITUDE_DIRECTION = EAST
  REFERENCE_LATITUDE = "N/A"
  REFERENCE_LONGITUDE = "N/A"
  SAMPLE_FIRST_PIXEL = 1
  SAMPLE_LAST_PIXEL = 3550
  SAMPLE_PROJECTION_OFFSET = 1372.25
  SECOND_STANDARD_PARALLEL = "N/A"
  WESTERNMOST_LONGITUDE = 183.064
END_OBJECT = IMAGE_MAP_PROJECTION
END
