PDS_VERSION_ID = PDS3
/* FILE DATA ELEMENTS */
RECORD_TYPE = UNDEFINED
/* POINTERS TO DATA OBJECTS */
^IMAGE = ("HI855_0000_GR4.TIF")
/* IDENTIFICATION DATA ELEMENTS */
DATA_SET_ID = "MEX-M-HRSC-4-REFDR-MAPPROJECT-EXT6-V4.0"
DATA_SET_NAME = "MARS EXPRESS HRSC MAP PROJECTED REFDR EXTENSION6 V4.0"
DETECTOR_ID = MEX_HRSC_GREEN
EVENT_TYPE = "MARS-REGIONAL-MAPPING-Fl"
INSTRUMENT_HOST_ID = MEX
INSTRUMENT_HOST_NAME = "MARS EXPRESS"
INSTRUMENT_ID = HRSC
INSTRUMENT_NAME = "HIGH RESOLUTION STEREO CAMERA"
MISSION_NAME = "MARS EXPRESS"
MISSION_PHASE_NAME = ME_Phase_39
PROCESSING_LEVEL_ID = 4
PRODUCT_CREATION_TIME = 2023-01-29T14:35:52.000Z
PRODUCT_ID = "HI855_0000_GR4.TIF"
RELEASE_ID = 0005
REVISION_ID = 0000
/* QUALITY DATA ELEMENTS */
DATA_QUALITY_ID = 1
DATA_QUALITY_DESC = "Data calculated based on original SPICE kernels"
/* TIME DATA ELEMENTS */
SPACECRAFT_CLOCK_START_COUNT = "1/0491349963.25695"
SPACECRAFT_CLOCK_STOP_COUNT = "1/0491350176.34805"
START_TIME = 2018-11-26T22:07:08.350Z
STOP_TIME = 2018-11-26T22:09:42.827Z
/* ORBITAL DATA ELEMENTS */
ASCENDING_NODE_LONGITUDE = 220.45
MAXIMUM_RESOLUTION = 0.053
FOOTPRINT_POINT_LATITUDE = (-29.1892,-29.1769,-29.1587,-29.1276, -29.1269,-29.1229,-28.6965,-28.3768, -27.9458,-27.7252,-27.3947,-27.1742, -26.8431,-26.6222,-26.4016,-26.1808, -25.8495,-25.6284,-25.4074,-25.1861, -24.9649,-24.7434,-24.4112,-24.0783, -23.8544,-23.6327,-23.3004,-23.0815, -22.8599,-22.5262,-22.1928,-21.9705, -21.7485,-21.526,-21.1924,-20.9697, -20.7469,-20.524,-20.3015,-20.0784, -19.8545,-19.6332,-19.2978,-19.0741, -18.85,-18.6259,-18.3724,-18.1054, -17.9713,-17.955,-17.9729,-17.9891, -18.0048,-18.0165,-18.017,-18.0184, -18.42,-18.6753,-18.8993,-19.1227, -19.3464,-19.5699,-19.7935,-20.0168, -20.2383,-20.463,-20.6856,-21.0186, -21.2413,-21.4661,-21.6887,-22.0215, -22.244,-22.466,-22.7991,-23.02, -23.2415,-23.4632,-23.6851,-23.9069, -24.1284,-24.4604,-24.6817,-24.9033, -25.1251,-25.3465,-25.678,-25.8989, -26.23,-26.4508,-26.7818,-27.1125, -27.4436,-27.6645,-27.9945,-28.4261, -28.7445,-29.0655,-29.1734,-29.1892)
FOOTPRINT_POINT_LONGITUDE = (136.976,136.686,136.289,135.668, 135.656,135.653,135.659,135.663,135.668 ,135.67,135.674,135.677,135.68,135.683, 135.685,135.687,135.69,135.692,135.694, 135.696,135.698,135.7,135.703,135.706, 135.707,135.709,135.711,135.713,135.714 ,135.717,135.719,135.72,135.721,135.723 ,135.724,135.726,135.727,135.728, 135.729,135.73,135.731,135.732,135.733, 135.734,135.735,135.736,135.737,135.738 ,135.738,135.738,136.081,136.416, 136.807,137.061,137.074,137.078,137.071 ,137.068,137.064,137.061,137.057, 137.054,137.051,137.048,137.046,137.042 ,137.039,137.036,137.034,137.029, 137.026,137.023,137.02,137.018,137.015, 137.014,137.013,137.011,137.009,137.007 ,137.005,137.003,137.001,137.0,136.997, 136.995,136.994,136.993,136.992,136.991 ,136.99,136.99,136.989,136.988,136.99, 136.988,136.993,136.99,136.986,136.976)
ORBIT_NUMBER = 18855
ORBITAL_ECCENTRICITY = 0.578
ORBITAL_INCLINATION = 86.94
ORBITAL_SEMIMAJOR_AXIS = 8826.71
PERIAPSIS_ALTITUDE = 333.02
PERIAPSIS_ARGUMENT_ANGLE = 330.14
PERIAPSIS_TIME = 2018-11-26T22:07:04.000Z
SPACECRAFT_ORIENTATION = (0.0,1.0,0.0)
^MEX_ORIENTATION_DESC = "MEX_ORIENTATION_DESC.TXT"
SPACECRAFT_POINTING_MODE = INERT
^MEX_POINTING_DESC = "MEX_POINTING_DESC.TXT"
RIGHT_ASCENSION = 58.862
DECLINATION = 46.316
OFFSET_ANGLE = -1e+32
SPACECRAFT_SOLAR_DISTANCE = 2.11857e+08
TARGET_NAME = MARS
/* CAMERA DATA ELEMENTS */
DETECTOR_TEMPERATURE = 18.5744
FOCAL_PLANE_TEMPERATURE = 11.4379
INST_CMPRS_NAME = "DISCRETE COSINE TRANSFORMATION (DCT)"
INST_CMPRS_RATIO = 7.90544
INST_CMPRS_QUALITY = 0
INST_CMPRS_QUANTZ_TBL_ID = 0
INSTRUMENT_TEMPERATURE = 12.6613
LENS_TEMPERATURE = 11.8457
MACROPIXEL_SIZE = 4
MISSING_FRAMES = 0
PIXEL_SUBSAMPLING_FLAG = N
SIGNAL_CHAIN_ID = 2
/* RADIOMETRIC DATA ELEMENTS */
BANDWIDTH = 88.0
CENTER_FILTER_WAVELENGTH = 538.0
RADIANCE_OFFSET = 1.21158
RADIANCE_SCALING_FACTOR = 0.00515199
REFLECTANCE_SCALING_FACTOR = 0.00019909
MEX:REFLECTANCE_OFFSET = 0.0468192
/* IMAGE OBJECT DEFINITIONS */
OBJECT = IMAGE
  INTERCHANGE_FORMAT = BINARY
  LINES = 13313
  LINE_SAMPLES = 1609
  SAMPLE_TYPE = UNSIGNED_INTEGER
  SAMPLE_BITS = 8
  BANDS = 1
  BAND_STORAGE_TYPE = BAND_SEQUENTIAL
  MAXIMUM = 255
  MEAN = 146.562
  MINIMUM = 1
  STANDARD_DEVIATION = 20.1071
END_OBJECT = IMAGE
/* MAP OBJECT DEFINITIONS */
OBJECT = IMAGE_MAP_PROJECTION
  ^DATA_SET_MAP_PROJECTION_CATALOG= "DSMAP.CAT"
  A_AXIS_RADIUS = 3396.0
  B_AXIS_RADIUS = 3396.0
  C_AXIS_RADIUS = 3396.0
  CENTER_LATITUDE = 0.0
  CENTER_LONGITUDE = 136.0
  COORDINATE_SYSTEM_NAME = PLANETOGRAPHIC
  COORDINATE_SYSTEM_TYPE = "BODY-FIXED ROTATING"
  EASTERNMOST_LONGITUDE = 137.078
  FIRST_STANDARD_PARALLEL = "N/A"
  LINE_FIRST_PIXEL = 1
  LINE_LAST_PIXEL = 13313
  LINE_PROJECTION_OFFSET = -21295.625
  MAP_PROJECTION_ROTATION = 0.0
  MAP_PROJECTION_TYPE = SINUSOIDAL
  MAP_RESOLUTION = 1185.42760773333
  MAP_SCALE = 0.05
  MAXIMUM_LATITUDE = -17.955
  MINIMUM_LATITUDE = -29.1892
  POSITIVE_LONGITUDE_DIRECTION = EAST
  REFERENCE_LATITUDE = "N/A"
  REFERENCE_LONGITUDE = "N/A"
  SAMPLE_FIRST_PIXEL = 1
  SAMPLE_LAST_PIXEL = 1609
  SAMPLE_PROJECTION_OFFSET = 349.875
  SECOND_STANDARD_PARALLEL = "N/A"
  WESTERNMOST_LONGITUDE = 135.653
END_OBJECT = IMAGE_MAP_PROJECTION
END
