PDS_VERSION_ID = PDS3
/* FILE DATA ELEMENTS */
RECORD_TYPE = UNDEFINED
/* POINTERS TO DATA OBJECTS */
^IMAGE = ("HI855_0000_ND4.TIF")
/* IDENTIFICATION DATA ELEMENTS */
DATA_SET_ID = "MEX-M-HRSC-4-REFDR-MAPPROJECT-EXT6-V4.0"
DATA_SET_NAME = "MARS EXPRESS HRSC MAP PROJECTED REFDR EXTENSION6 V4.0"
DETECTOR_ID = MEX_HRSC_NADIR
EVENT_TYPE = "MARS-REGIONAL-MAPPING-Fl"
INSTRUMENT_HOST_ID = MEX
INSTRUMENT_HOST_NAME = "MARS EXPRESS"
INSTRUMENT_ID = HRSC
INSTRUMENT_NAME = "HIGH RESOLUTION STEREO CAMERA"
MISSION_NAME = "MARS EXPRESS"
MISSION_PHASE_NAME = ME_Phase_39
PROCESSING_LEVEL_ID = 4
PRODUCT_CREATION_TIME = 2023-01-29T14:35:52.000Z
PRODUCT_ID = "HI855_0000_ND4.TIF"
RELEASE_ID = 0005
REVISION_ID = 0000
/* QUALITY DATA ELEMENTS */
DATA_QUALITY_ID = 1
DATA_QUALITY_DESC = "Data calculated based on original SPICE kernels"
/* TIME DATA ELEMENTS */
SPACECRAFT_CLOCK_START_COUNT = "1/0491349963.25695"
SPACECRAFT_CLOCK_STOP_COUNT = "1/0491350176.34805"
START_TIME = 2018-11-26T22:07:03.593Z
STOP_TIME = 2018-11-26T22:09:37.603Z
/* ORBITAL DATA ELEMENTS */
ASCENDING_NODE_LONGITUDE = 220.45
MAXIMUM_RESOLUTION = 0.0133
FOOTPRINT_POINT_LATITUDE = (-29.198,-29.1803,-29.1631,-29.1444, -29.1438,-29.1383,-28.6028,-28.2811, -27.852,-27.3014,-27.0796,-26.7464, -26.5242,-26.3023,-26.0798,-25.8575, -25.635,-25.4124,-25.1896,-24.9669, -24.7438,-24.5205,-24.185,-23.9586, -23.7352,-23.5118,-23.0695,-22.7332, -22.5087,-22.2846,-22.0603,-21.8363, -21.6118,-21.3877,-21.1632,-20.9383, -20.7136,-20.4882,-20.2635,-20.0383, -19.8113,-19.589,-19.3629,-19.1369, -18.9106,-18.6837,-18.4574,-18.1055, -17.9698,-17.9634,-17.9766,-17.9894, -18.0054,-18.0159,-18.0163,-18.0168, -18.3923,-18.6184,-18.8449,-19.0707, -19.2969,-19.5227,-19.8611,-20.1987, -20.4252,-20.6499,-20.8749,-21.0985, -21.3255,-21.6631,-21.999,-22.2231, -22.4459,-22.6719,-22.8944,-23.229, -23.4523,-23.6761,-23.8995,-24.2343, -24.4573,-24.6804,-24.9037,-25.1273, -25.3504,-25.5726,-25.7954,-26.0178, -26.2396,-26.4619,-26.6836,-27.0163, -27.2385,-27.5712,-27.7935,-28.2217, -28.7557,-29.0783,-29.1882,-29.198)
FOOTPRINT_POINT_LONGITUDE = (137.002,136.519,136.096,135.68,135.667 ,135.662,135.669,135.673,135.678, 135.684,135.687,135.69,135.693,135.695, 135.697,135.699,135.702,135.704,135.706 ,135.708,135.71,135.711,135.714,135.716 ,135.718,135.72,135.723,135.725,135.727 ,135.728,135.729,135.731,135.732, 135.733,135.735,135.736,135.737,135.738 ,135.739,135.74,135.742,135.743,135.744 ,135.745,135.745,135.746,135.747, 135.749,135.749,135.749,136.04,136.346, 136.836,137.096,137.109,137.116,137.109 ,137.106,137.102,137.099,137.095, 137.091,137.086,137.082,137.077,137.075 ,137.072,137.07,137.065,137.06,137.056, 137.054,137.053,137.048,137.047,137.045 ,137.043,137.04,137.038,137.036,137.034 ,137.032,137.03,137.027,137.025,137.024 ,137.023,137.021,137.021,137.02,137.019 ,137.019,137.017,137.017,137.015, 137.016,137.019,137.017,137.012, 137.002)
ORBIT_NUMBER = 18855
ORBITAL_ECCENTRICITY = 0.578
ORBITAL_INCLINATION = 86.94
ORBITAL_SEMIMAJOR_AXIS = 8826.71
PERIAPSIS_ALTITUDE = 333.02
PERIAPSIS_ARGUMENT_ANGLE = 330.14
PERIAPSIS_TIME = 2018-11-26T22:07:04.000Z
SPACECRAFT_ORIENTATION = (0.0,1.0,0.0)
^MEX_ORIENTATION_DESC = "MEX_ORIENTATION_DESC.TXT"
SPACECRAFT_POINTING_MODE = INERT
^MEX_POINTING_DESC = "MEX_POINTING_DESC.TXT"
RIGHT_ASCENSION = 58.862
DECLINATION = 46.316
OFFSET_ANGLE = -1e+32
SPACECRAFT_SOLAR_DISTANCE = 2.11857e+08
TARGET_NAME = MARS
/* CAMERA DATA ELEMENTS */
DETECTOR_TEMPERATURE = 18.5744
FOCAL_PLANE_TEMPERATURE = 11.4379
INST_CMPRS_NAME = "DISCRETE COSINE TRANSFORMATION (DCT)"
INST_CMPRS_RATIO = 5.75972
INST_CMPRS_QUALITY = 0
INST_CMPRS_QUANTZ_TBL_ID = 0
INSTRUMENT_TEMPERATURE = 12.6613
LENS_TEMPERATURE = 11.8457
MACROPIXEL_SIZE = 1
MISSING_FRAMES = 0
PIXEL_SUBSAMPLING_FLAG = N
SIGNAL_CHAIN_ID = 0
/* RADIOMETRIC DATA ELEMENTS */
BANDWIDTH = 177.0
CENTER_FILTER_WAVELENGTH = 677.5
RADIANCE_OFFSET = 2.80437
RADIANCE_SCALING_FACTOR = 0.0182028
REFLECTANCE_SCALING_FACTOR = 0.000434018
MEX:REFLECTANCE_OFFSET = 0.0668659
/* IMAGE OBJECT DEFINITIONS */
OBJECT = IMAGE
  INTERCHANGE_FORMAT = BINARY
  LINES = 53250
  LINE_SAMPLES = 6436
  SAMPLE_TYPE = UNSIGNED_INTEGER
  SAMPLE_BITS = 8
  BANDS = 1
  BAND_STORAGE_TYPE = BAND_SEQUENTIAL
  MAXIMUM = 255
  MEAN = 113.544
  MINIMUM = 1
  STANDARD_DEVIATION = 23.7341
END_OBJECT = IMAGE
/* MAP OBJECT DEFINITIONS */
OBJECT = IMAGE_MAP_PROJECTION
  ^DATA_SET_MAP_PROJECTION_CATALOG= "DSMAP.CAT"
  A_AXIS_RADIUS = 3396.0
  B_AXIS_RADIUS = 3396.0
  C_AXIS_RADIUS = 3396.0
  CENTER_LATITUDE = 0.0
  CENTER_LONGITUDE = 136.0
  COORDINATE_SYSTEM_NAME = PLANETOGRAPHIC
  COORDINATE_SYSTEM_TYPE = "BODY-FIXED ROTATING"
  EASTERNMOST_LONGITUDE = 137.116
  FIRST_STANDARD_PARALLEL = "N/A"
  LINE_FIRST_PIXEL = 1
  LINE_LAST_PIXEL = 53250
  LINE_PROJECTION_OFFSET = -85181.0
  MAP_PROJECTION_ROTATION = 0.0
  MAP_PROJECTION_TYPE = SINUSOIDAL
  MAP_RESOLUTION = 4741.71043093333
  MAP_SCALE = 0.0125
  MAXIMUM_LATITUDE = -17.9634
  MINIMUM_LATITUDE = -29.198
  POSITIVE_LONGITUDE_DIRECTION = EAST
  REFERENCE_LATITUDE = "N/A"
  REFERENCE_LONGITUDE = "N/A"
  SAMPLE_FIRST_PIXEL = 1
  SAMPLE_LAST_PIXEL = 6436
  SAMPLE_PROJECTION_OFFSET = 1401.0
  SECOND_STANDARD_PARALLEL = "N/A"
  WESTERNMOST_LONGITUDE = 135.662
END_OBJECT = IMAGE_MAP_PROJECTION
END
