PDS_VERSION_ID = PDS3
/* FILE DATA ELEMENTS */
RECORD_TYPE = UNDEFINED
/* POINTERS TO DATA OBJECTS */
^IMAGE = ("HI856_0000_RE4.TIF")
/* IDENTIFICATION DATA ELEMENTS */
DATA_SET_ID = "MEX-M-HRSC-4-REFDR-MAPPROJECT-EXT6-V4.0"
DATA_SET_NAME = "MARS EXPRESS HRSC MAP PROJECTED REFDR EXTENSION6 V4.0"
DETECTOR_ID = MEX_HRSC_RED
EVENT_TYPE = "MARS-REGIONAL-MAPPING-Im-Gl-Eo"
INSTRUMENT_HOST_ID = MEX
INSTRUMENT_HOST_NAME = "MARS EXPRESS"
INSTRUMENT_ID = HRSC
INSTRUMENT_NAME = "HIGH RESOLUTION STEREO CAMERA"
MISSION_NAME = "MARS EXPRESS"
MISSION_PHASE_NAME = ME_Phase_39
PROCESSING_LEVEL_ID = 4
PRODUCT_CREATION_TIME = 2023-01-29T14:35:52.000Z
PRODUCT_ID = "HI856_0000_RE4.TIF"
RELEASE_ID = 0005
REVISION_ID = 0000
/* QUALITY DATA ELEMENTS */
DATA_QUALITY_ID = 1
DATA_QUALITY_DESC = "Data calculated based on original SPICE kernels"
/* TIME DATA ELEMENTS */
SPACECRAFT_CLOCK_START_COUNT = "1/0491374933.24946"
SPACECRAFT_CLOCK_STOP_COUNT = "1/0491375177.56494"
START_TIME = 2018-11-27T05:02:49.720Z
STOP_TIME = 2018-11-27T05:05:58.453Z
/* ORBITAL DATA ELEMENTS */
ASCENDING_NODE_LONGITUDE = 220.43
MAXIMUM_RESOLUTION = 0.0553
FOOTPRINT_POINT_LATITUDE = (-42.1204,-42.1002,-42.0819,-42.047, -42.0462,-42.0333,-41.5617,-41.2472, -40.9328,-40.6208,-40.357,-40.0934, -39.6979,-39.4342,-39.17,-38.9061, -38.6425,-38.3783,-38.1112,-37.8428, -37.5776,-37.3125,-36.917,-36.6517, -36.3866,-36.1225,-35.8617,-35.4636, -35.0649,-34.799,-34.5336,-34.2688, -34.0026,-33.7366,-33.3362,-33.0688, -32.5418,-32.1563,-31.8973,-31.6375, -31.3783,-30.8604,-30.6005,-30.339, -29.9479,-29.6871,-29.2957,-29.0351, -28.7741,-28.6436,-28.5751,-28.5984, -28.6129,-28.6312,-28.6342,-28.6353, -29.0265,-29.2875,-29.6786,-30.0708, -30.3323,-30.5946,-31.1129,-31.3731, -31.7612,-32.279,-32.5383,-32.7988, -33.0584,-33.3255,-33.7234,-33.9889, -34.3909,-34.7906,-35.0574,-35.4571, -35.7231,-35.9888,-36.2546,-36.5207, -36.7864,-37.185,-37.4496,-37.7151, -37.979,-38.3757,-38.6405,-38.9052, -39.1695,-39.4341,-39.6989,-39.9635, -40.3577,-40.6215,-40.9214,-41.2372, -41.5548,-41.8697,-42.0272,-42.1204)
FOOTPRINT_POINT_LONGITUDE = (34.3258,33.8198,33.4076,32.7084, 32.6932,32.6786,32.7049,32.7219,32.7386 ,32.7547,32.768,32.7811,32.8002,32.8126 ,32.8246,32.8365,32.8483,32.8596, 32.8693,32.8782,32.8885,32.8987,32.9147 ,32.9244,32.9339,32.9437,32.9546, 32.9679,32.9805,32.9888,32.997,33.0053, 33.0129,33.0205,33.0312,33.038,33.0502, 33.0602,33.0662,33.0718,33.0775,33.0887 ,33.0939,33.0986,33.1058,33.1104, 33.1171,33.1215,33.1258,33.1278,33.1289 ,33.597,33.9314,34.4427,34.4538,34.458, 34.455,34.4527,34.4495,34.4454,34.4425, 34.4389,34.4356,34.4331,34.4305,34.4267 ,34.4244,34.4212,34.4216,34.4196, 34.4183,34.4172,34.4125,34.4094,34.4068 ,34.4032,34.4011,34.3991,34.3969, 34.3943,34.392,34.3882,34.3867,34.3842, 34.3832,34.3808,34.3787,34.3766,34.3749 ,34.3726,34.37,34.3675,34.3677,34.3663, 34.3634,34.3599,34.3526,34.3501,34.3487 ,34.3258)
ORBIT_NUMBER = 18856
ORBITAL_ECCENTRICITY = 0.578
ORBITAL_INCLINATION = 86.95
ORBITAL_SEMIMAJOR_AXIS = 8827.53
PERIAPSIS_ALTITUDE = 332.83
PERIAPSIS_ARGUMENT_ANGLE = 329.97
PERIAPSIS_TIME = 2018-11-27T05:06:04.000Z
SPACECRAFT_ORIENTATION = (0.0,1.0,0.0)
^MEX_ORIENTATION_DESC = "MEX_ORIENTATION_DESC.TXT"
SPACECRAFT_POINTING_MODE = INERT
^MEX_POINTING_DESC = "MEX_POINTING_DESC.TXT"
RIGHT_ASCENSION = 58.625
DECLINATION = 46.458
OFFSET_ANGLE = -1e+32
SPACECRAFT_SOLAR_DISTANCE = 2.11897e+08
TARGET_NAME = MARS
/* CAMERA DATA ELEMENTS */
DETECTOR_TEMPERATURE = 19.5939
FOCAL_PLANE_TEMPERATURE = 11.6418
INST_CMPRS_NAME = "DISCRETE COSINE TRANSFORMATION (DCT)"
INST_CMPRS_RATIO = 17.919
INST_CMPRS_QUALITY = 0
INST_CMPRS_QUANTZ_TBL_ID = 0
INSTRUMENT_TEMPERATURE = 12.0496
LENS_TEMPERATURE = 11.6418
MACROPIXEL_SIZE = 4
MISSING_FRAMES = 0
PIXEL_SUBSAMPLING_FLAG = N
SIGNAL_CHAIN_ID = 2
/* RADIOMETRIC DATA ELEMENTS */
BANDWIDTH = 48.0
CENTER_FILTER_WAVELENGTH = 748.0
RADIANCE_OFFSET = 0.936516
RADIANCE_SCALING_FACTOR = 0.00542908
REFLECTANCE_SCALING_FACTOR = 0.000556288
MEX:REFLECTANCE_OFFSET = 0.0959597
/* IMAGE OBJECT DEFINITIONS */
OBJECT = IMAGE
  INTERCHANGE_FORMAT = BINARY
  LINES = 16046
  LINE_SAMPLES = 1645
  SAMPLE_TYPE = UNSIGNED_INTEGER
  SAMPLE_BITS = 8
  BANDS = 1
  BAND_STORAGE_TYPE = BAND_SEQUENTIAL
  MAXIMUM = 255
  MEAN = 144.051
  MINIMUM = 1
  STANDARD_DEVIATION = 40.569
END_OBJECT = IMAGE
/* MAP OBJECT DEFINITIONS */
OBJECT = IMAGE_MAP_PROJECTION
  ^DATA_SET_MAP_PROJECTION_CATALOG= "DSMAP.CAT"
  A_AXIS_RADIUS = 3396.0
  B_AXIS_RADIUS = 3396.0
  C_AXIS_RADIUS = 3396.0
  CENTER_LATITUDE = 0.0
  CENTER_LONGITUDE = 34.0
  COORDINATE_SYSTEM_NAME = PLANETOGRAPHIC
  COORDINATE_SYSTEM_TYPE = "BODY-FIXED ROTATING"
  EASTERNMOST_LONGITUDE = 34.458
  FIRST_STANDARD_PARALLEL = "N/A"
  LINE_FIRST_PIXEL = 1
  LINE_LAST_PIXEL = 16046
  LINE_PROJECTION_OFFSET = -33853.375
  MAP_PROJECTION_ROTATION = 0.0
  MAP_PROJECTION_TYPE = SINUSOIDAL
  MAP_RESOLUTION = 1185.42760773333
  MAP_SCALE = 0.05
  MAXIMUM_LATITUDE = -28.5751
  MINIMUM_LATITUDE = -42.1204
  POSITIVE_LONGITUDE_DIRECTION = EAST
  REFERENCE_LATITUDE = "N/A"
  REFERENCE_LONGITUDE = "N/A"
  SAMPLE_FIRST_PIXEL = 1
  SAMPLE_LAST_PIXEL = 1645
  SAMPLE_PROJECTION_OFFSET = 1264.875
  SECOND_STANDARD_PARALLEL = "N/A"
  WESTERNMOST_LONGITUDE = 32.6786
END_OBJECT = IMAGE_MAP_PROJECTION
END
