PDS_VERSION_ID = PDS3
/* FILE DATA ELEMENTS */
RECORD_TYPE = UNDEFINED
/* POINTERS TO DATA OBJECTS */
^IMAGE = ("HI861_0001_ND4.TIF")
/* IDENTIFICATION DATA ELEMENTS */
DATA_SET_ID = "MEX-M-HRSC-4-REFDR-MAPPROJECT-EXT6-V4.0"
DATA_SET_NAME = "MARS EXPRESS HRSC MAP PROJECTED REFDR EXTENSION6 V4.0"
DETECTOR_ID = MEX_HRSC_NADIR
EVENT_TYPE = "MARS-REGIONAL-STEREO-Vo-Te"
INSTRUMENT_HOST_ID = MEX
INSTRUMENT_HOST_NAME = "MARS EXPRESS"
INSTRUMENT_ID = HRSC
INSTRUMENT_NAME = "HIGH RESOLUTION STEREO CAMERA"
MISSION_NAME = "MARS EXPRESS"
MISSION_PHASE_NAME = ME_Phase_39
PROCESSING_LEVEL_ID = 4
PRODUCT_CREATION_TIME = 2023-01-29T14:35:52.000Z
PRODUCT_ID = "HI861_0001_ND4.TIF"
RELEASE_ID = 0005
REVISION_ID = 0000
/* QUALITY DATA ELEMENTS */
DATA_QUALITY_ID = 1
DATA_QUALITY_DESC = "Data calculated based on original SPICE kernels"
/* TIME DATA ELEMENTS */
SPACECRAFT_CLOCK_START_COUNT = "1/0491500969.24876"
SPACECRAFT_CLOCK_STOP_COUNT = "1/0491501137.25729"
START_TIME = 2018-11-28T16:03:51.709Z
STOP_TIME = 2018-11-28T16:05:34.728Z
/* ORBITAL DATA ELEMENTS */
ASCENDING_NODE_LONGITUDE = 220.34
MAXIMUM_RESOLUTION = 0.0142
FOOTPRINT_POINT_LATITUDE = (-18.6927,-18.6714,-18.6584,-18.6478, -18.6323,-18.6232,-18.6224,-18.6406, -18.381,-18.1862,-17.8615,-17.6664, -17.4064,-17.2763,-17.1461,-17.0067, -16.8513,-16.6958,-16.5405,-16.3072, -16.1516,-15.9958,-15.8398,-15.6061, -15.4502,-15.2942,-15.1386,-14.9827, -14.8268,-14.5925,-14.3581,-14.2017, -14.0455,-13.8109,-13.6543,-13.4976, -13.2625,-13.1056,-12.8705,-12.7137, -12.5567,-12.3996,-12.2422,-12.0846, -11.9269,-11.6904,-11.4534,-11.2115, -11.1308,-11.1182,-11.1319,-11.1446, -11.1612,-11.1722,-11.1829,-11.1895, -11.1902,-11.1907,-11.434,-11.5927, -11.7504,-11.908,-12.0654,-12.2229, -12.3803,-12.5375,-12.6945,-12.8515, -13.0868,-13.2436,-13.4004,-13.557, -13.7134,-13.8699,-14.1046,-14.2611, -14.4173,-14.5733,-14.7293,-14.9634, -15.1194,-15.3534,-15.5092,-15.7429, -15.8987,-16.0544,-16.2101,-16.3656, -16.5988,-16.7543,-16.9097,-17.0651, -17.2065,-17.4666,-17.7265,-17.9862, -18.3109,-18.6353,-18.7002,-18.6927)
FOOTPRINT_POINT_LONGITUDE = (243.617,243.186,242.938,242.743, 242.468,242.312,242.298,242.301,242.301 ,242.3,242.299,242.299,242.298,242.297, 242.297,242.296,242.295,242.295,242.294 ,242.293,242.292,242.291,242.29,242.288 ,242.287,242.286,242.285,242.284, 242.283,242.281,242.279,242.278,242.276 ,242.274,242.273,242.271,242.269, 242.267,242.265,242.263,242.262,242.26, 242.258,242.256,242.254,242.252,242.249 ,242.245,242.244,242.244,242.499, 242.741,243.067,243.294,243.522,243.664 ,243.678,243.685,243.682,243.68,243.678 ,243.676,243.674,243.672,243.67,243.668 ,243.666,243.664,243.661,243.66,243.658 ,243.656,243.654,243.653,243.65,243.648 ,243.647,243.645,243.643,243.641, 243.639,243.637,243.636,243.633,243.632 ,243.63,243.629,243.627,243.625,243.624 ,243.622,243.621,243.619,243.617, 243.615,243.613,243.61,243.607,243.606, 243.617)
ORBIT_NUMBER = 18861
ORBITAL_ECCENTRICITY = 0.578
ORBITAL_INCLINATION = 86.95
ORBITAL_SEMIMAJOR_AXIS = 8829.04
PERIAPSIS_ALTITUDE = 331.86
PERIAPSIS_ARGUMENT_ANGLE = 329.08
PERIAPSIS_TIME = 2018-11-28T16:01:01.000Z
SPACECRAFT_ORIENTATION = (0.0,1.0,0.0)
^MEX_ORIENTATION_DESC = "MEX_ORIENTATION_DESC.TXT"
SPACECRAFT_POINTING_MODE = INERT
^MEX_POINTING_DESC = "MEX_POINTING_DESC.TXT"
RIGHT_ASCENSION = 57.588
DECLINATION = 47.015
OFFSET_ANGLE = -1e+32
SPACECRAFT_SOLAR_DISTANCE = 2.12099e+08
TARGET_NAME = MARS
/* CAMERA DATA ELEMENTS */
DETECTOR_TEMPERATURE = 18.9822
FOCAL_PLANE_TEMPERATURE = 11.234
INST_CMPRS_NAME = "DISCRETE COSINE TRANSFORMATION (DCT)"
INST_CMPRS_RATIO = 5.3514
INST_CMPRS_QUALITY = 0
INST_CMPRS_QUANTZ_TBL_ID = 0
INSTRUMENT_TEMPERATURE = 12.4574
LENS_TEMPERATURE = 11.8457
MACROPIXEL_SIZE = 1
MISSING_FRAMES = 0
PIXEL_SUBSAMPLING_FLAG = N
SIGNAL_CHAIN_ID = 0
/* RADIOMETRIC DATA ELEMENTS */
BANDWIDTH = 177.0
CENTER_FILTER_WAVELENGTH = 677.5
RADIANCE_OFFSET = 3.97011
RADIANCE_SCALING_FACTOR = 0.0247834
REFLECTANCE_SCALING_FACTOR = 0.000592272
MEX:REFLECTANCE_OFFSET = 0.0948774
/* IMAGE OBJECT DEFINITIONS */
OBJECT = IMAGE
  INTERCHANGE_FORMAT = BINARY
  LINES = 36000
  LINE_SAMPLES = 6705
  SAMPLE_TYPE = UNSIGNED_INTEGER
  SAMPLE_BITS = 8
  BANDS = 1
  BAND_STORAGE_TYPE = BAND_SEQUENTIAL
  MAXIMUM = 255
  MEAN = 142.056
  MINIMUM = 1
  STANDARD_DEVIATION = 10.3182
END_OBJECT = IMAGE
/* MAP OBJECT DEFINITIONS */
OBJECT = IMAGE_MAP_PROJECTION
  ^DATA_SET_MAP_PROJECTION_CATALOG= "DSMAP.CAT"
  A_AXIS_RADIUS = 3396.0
  B_AXIS_RADIUS = 3396.0
  C_AXIS_RADIUS = 3396.0
  CENTER_LATITUDE = 0.0
  CENTER_LONGITUDE = 243.0
  COORDINATE_SYSTEM_NAME = PLANETOGRAPHIC
  COORDINATE_SYSTEM_TYPE = "BODY-FIXED ROTATING"
  EASTERNMOST_LONGITUDE = 243.685
  FIRST_STANDARD_PARALLEL = "N/A"
  LINE_FIRST_PIXEL = 1
  LINE_LAST_PIXEL = 36000
  LINE_PROJECTION_OFFSET = -52719.0
  MAP_PROJECTION_ROTATION = 0.0
  MAP_PROJECTION_TYPE = SINUSOIDAL
  MAP_RESOLUTION = 4741.71043093333
  MAP_SCALE = 0.0125
  MAXIMUM_LATITUDE = -11.1182
  MINIMUM_LATITUDE = -18.7002
  POSITIVE_LONGITUDE_DIRECTION = EAST
  REFERENCE_LATITUDE = "N/A"
  REFERENCE_LONGITUDE = "N/A"
  SAMPLE_FIRST_PIXEL = 1
  SAMPLE_LAST_PIXEL = 6705
  SAMPLE_PROJECTION_OFFSET = 3516.0
  SECOND_STANDARD_PARALLEL = "N/A"
  WESTERNMOST_LONGITUDE = 242.244
END_OBJECT = IMAGE_MAP_PROJECTION
END
