PDS_VERSION_ID = PDS3
/* FILE DATA ELEMENTS */
RECORD_TYPE = UNDEFINED
/* POINTERS TO DATA OBJECTS */
^IMAGE = ("HI861_0001_P24.TIF")
/* IDENTIFICATION DATA ELEMENTS */
DATA_SET_ID = "MEX-M-HRSC-4-REFDR-MAPPROJECT-EXT6-V4.0"
DATA_SET_NAME = "MARS EXPRESS HRSC MAP PROJECTED REFDR EXTENSION6 V4.0"
DETECTOR_ID = MEX_HRSC_P2
EVENT_TYPE = "MARS-REGIONAL-STEREO-Vo-Te"
INSTRUMENT_HOST_ID = MEX
INSTRUMENT_HOST_NAME = "MARS EXPRESS"
INSTRUMENT_ID = HRSC
INSTRUMENT_NAME = "HIGH RESOLUTION STEREO CAMERA"
MISSION_NAME = "MARS EXPRESS"
MISSION_PHASE_NAME = ME_Phase_39
PROCESSING_LEVEL_ID = 4
PRODUCT_CREATION_TIME = 2023-01-29T14:35:52.000Z
PRODUCT_ID = "HI861_0001_P24.TIF"
RELEASE_ID = 0005
REVISION_ID = 0000
/* QUALITY DATA ELEMENTS */
DATA_QUALITY_ID = 1
DATA_QUALITY_DESC = "Data calculated based on original SPICE kernels"
/* TIME DATA ELEMENTS */
SPACECRAFT_CLOCK_START_COUNT = "1/0491500969.24876"
SPACECRAFT_CLOCK_STOP_COUNT = "1/0491501137.25729"
START_TIME = 2018-11-28T16:03:31.602Z
STOP_TIME = 2018-11-28T16:05:10.974Z
/* ORBITAL DATA ELEMENTS */
ASCENDING_NODE_LONGITUDE = 220.34
MAXIMUM_RESOLUTION = 0.0299
FOOTPRINT_POINT_LATITUDE = (-18.7121,-18.7005,-18.6882,-18.6807, -18.6678,-18.6557,-18.6406,-18.6397, -18.6784,-18.4778,-18.21,-17.942, -17.741,-17.4724,-17.2034,-17.0015, -16.7323,-16.5302,-16.1927,-15.9895, -15.8539,-15.7186,-15.5828,-15.3471, -15.1857,-15.0238,-14.8618,-14.6994, -14.5368,-14.3742,-14.2112,-13.9667, -13.8035,-13.5584,-13.395,-13.2313, -13.0674,-12.9039,-12.7399,-12.5755, -12.4111,-12.2461,-12.0806,-11.915, -11.7493,-11.5833,-11.4171,-11.2508, -11.1676,-11.159,-11.1708,-11.1867, -11.1971,-11.2096,-11.2178,-11.2244, -11.2315,-11.2321,-11.233,-11.3991, -11.5653,-11.7311,-11.8966,-12.0618, -12.227,-12.392,-12.5566,-12.7212, -12.8856,-13.0496,-13.2136,-13.3773, -13.5409,-13.7043,-13.8677,-14.031, -14.194,-14.3569,-14.5196,-14.6818, -14.8443,-15.0063,-15.2495,-15.4114, -15.5733,-15.7165,-15.9873,-16.1902, -16.528,-16.7302,-16.9998,-17.2016, -17.4707,-17.7391,-17.94,-18.2079, -18.4757,-18.6762,-18.743,-18.7121)
FOOTPRINT_POINT_LONGITUDE = (243.715,243.464,243.214,243.069, 242.832,242.622,242.371,242.358,242.362 ,242.362,242.361,242.36,242.359,242.358 ,242.357,242.356,242.355,242.354, 242.352,242.351,242.35,242.349,242.348, 242.346,242.345,242.344,242.343,242.342 ,242.34,242.339,242.338,242.335,242.334 ,242.332,242.33,242.329,242.327,242.325 ,242.324,242.322,242.32,242.318,242.316 ,242.314,242.312,242.31,242.308,242.306 ,242.305,242.305,242.508,242.814, 243.017,243.28,243.469,243.615,243.791, 243.805,243.811,243.807,243.804,243.801 ,243.799,243.796,243.793,243.79,243.787 ,243.785,243.782,243.779,243.777, 243.774,243.772,243.769,243.767,243.764 ,243.762,243.759,243.757,243.755, 243.752,243.75,243.747,243.744,243.742, 243.74,243.737,243.734,243.729,243.727, 243.723,243.721,243.717,243.714,243.712 ,243.709,243.706,243.703,243.703, 243.715)
ORBIT_NUMBER = 18861
ORBITAL_ECCENTRICITY = 0.578
ORBITAL_INCLINATION = 86.95
ORBITAL_SEMIMAJOR_AXIS = 8829.04
PERIAPSIS_ALTITUDE = 331.86
PERIAPSIS_ARGUMENT_ANGLE = 329.08
PERIAPSIS_TIME = 2018-11-28T16:01:01.000Z
SPACECRAFT_ORIENTATION = (0.0,1.0,0.0)
^MEX_ORIENTATION_DESC = "MEX_ORIENTATION_DESC.TXT"
SPACECRAFT_POINTING_MODE = INERT
^MEX_POINTING_DESC = "MEX_POINTING_DESC.TXT"
RIGHT_ASCENSION = 57.588
DECLINATION = 47.015
OFFSET_ANGLE = -1e+32
SPACECRAFT_SOLAR_DISTANCE = 2.12099e+08
TARGET_NAME = MARS
/* CAMERA DATA ELEMENTS */
DETECTOR_TEMPERATURE = 19.1861
FOCAL_PLANE_TEMPERATURE = 11.234
INST_CMPRS_NAME = "DISCRETE COSINE TRANSFORMATION (DCT)"
INST_CMPRS_RATIO = 5.97898
INST_CMPRS_QUALITY = 0
INST_CMPRS_QUANTZ_TBL_ID = 0
INSTRUMENT_TEMPERATURE = 12.4574
LENS_TEMPERATURE = 11.8457
MACROPIXEL_SIZE = 2
MISSING_FRAMES = 0
PIXEL_SUBSAMPLING_FLAG = N
SIGNAL_CHAIN_ID = 3
/* RADIOMETRIC DATA ELEMENTS */
BANDWIDTH = 177.0
CENTER_FILTER_WAVELENGTH = 676.5
RADIANCE_OFFSET = 4.42785
RADIANCE_SCALING_FACTOR = 0.0224944
REFLECTANCE_SCALING_FACTOR = 0.000536547
MEX:REFLECTANCE_OFFSET = 0.105615
/* IMAGE OBJECT DEFINITIONS */
OBJECT = IMAGE
  INTERCHANGE_FORMAT = BINARY
  LINES = 18000
  LINE_SAMPLES = 3353
  SAMPLE_TYPE = UNSIGNED_INTEGER
  SAMPLE_BITS = 8
  BANDS = 1
  BAND_STORAGE_TYPE = BAND_SEQUENTIAL
  MAXIMUM = 255
  MEAN = 155.85
  MINIMUM = 1
  STANDARD_DEVIATION = 10.2593
END_OBJECT = IMAGE
/* MAP OBJECT DEFINITIONS */
OBJECT = IMAGE_MAP_PROJECTION
  ^DATA_SET_MAP_PROJECTION_CATALOG= "DSMAP.CAT"
  A_AXIS_RADIUS = 3396.0
  B_AXIS_RADIUS = 3396.0
  C_AXIS_RADIUS = 3396.0
  CENTER_LATITUDE = 0.0
  CENTER_LONGITUDE = 243.0
  COORDINATE_SYSTEM_NAME = PLANETOGRAPHIC
  COORDINATE_SYSTEM_TYPE = "BODY-FIXED ROTATING"
  EASTERNMOST_LONGITUDE = 243.811
  FIRST_STANDARD_PARALLEL = "N/A"
  LINE_FIRST_PIXEL = 1
  LINE_LAST_PIXEL = 18000
  LINE_PROJECTION_OFFSET = -26359.75
  MAP_PROJECTION_ROTATION = 0.0
  MAP_PROJECTION_TYPE = SINUSOIDAL
  MAP_RESOLUTION = 2370.85521546667
  MAP_SCALE = 0.025
  MAXIMUM_LATITUDE = -11.159
  MINIMUM_LATITUDE = -18.743
  POSITIVE_LONGITUDE_DIRECTION = EAST
  REFERENCE_LATITUDE = "N/A"
  REFERENCE_LONGITUDE = "N/A"
  SAMPLE_FIRST_PIXEL = 1
  SAMPLE_LAST_PIXEL = 3353
  SAMPLE_PROJECTION_OFFSET = 1757.75
  SECOND_STANDARD_PARALLEL = "N/A"
  WESTERNMOST_LONGITUDE = 242.305
END_OBJECT = IMAGE_MAP_PROJECTION
END
