PDS_VERSION_ID = PDS3
/* FILE DATA ELEMENTS */
RECORD_TYPE = UNDEFINED
/* POINTERS TO DATA OBJECTS */
^IMAGE = ("HI861_0001_S14.TIF")
/* IDENTIFICATION DATA ELEMENTS */
DATA_SET_ID = "MEX-M-HRSC-4-REFDR-MAPPROJECT-EXT6-V4.0"
DATA_SET_NAME = "MARS EXPRESS HRSC MAP PROJECTED REFDR EXTENSION6 V4.0"
DETECTOR_ID = MEX_HRSC_S1
EVENT_TYPE = "MARS-REGIONAL-STEREO-Vo-Te"
INSTRUMENT_HOST_ID = MEX
INSTRUMENT_HOST_NAME = "MARS EXPRESS"
INSTRUMENT_ID = HRSC
INSTRUMENT_NAME = "HIGH RESOLUTION STEREO CAMERA"
MISSION_NAME = "MARS EXPRESS"
MISSION_PHASE_NAME = ME_Phase_39
PROCESSING_LEVEL_ID = 4
PRODUCT_CREATION_TIME = 2023-01-29T14:35:52.000Z
PRODUCT_ID = "HI861_0001_S14.TIF"
RELEASE_ID = 0005
REVISION_ID = 0000
/* QUALITY DATA ELEMENTS */
DATA_QUALITY_ID = 1
DATA_QUALITY_DESC = "Data calculated based on original SPICE kernels"
/* TIME DATA ELEMENTS */
SPACECRAFT_CLOCK_START_COUNT = "1/0491500969.24876"
SPACECRAFT_CLOCK_STOP_COUNT = "1/0491501137.25729"
START_TIME = 2018-11-28T16:04:19.960Z
STOP_TIME = 2018-11-28T16:06:06.956Z
/* ORBITAL DATA ELEMENTS */
ASCENDING_NODE_LONGITUDE = 220.34
MAXIMUM_RESOLUTION = 0.0144
FOOTPRINT_POINT_LATITUDE = (-18.6799,-18.6594,-18.6442,-18.6334, -18.6245,-18.6134,-18.6127,-18.6033, -18.4545,-18.2313,-18.0826,-17.9339, -17.7108,-17.4878,-17.3392,-17.1164, -16.8935,-16.745,-16.5222,-16.2995, -16.151,-16.0026,-15.8542,-15.7058, -15.5574,-15.409,-15.2607,-15.1123, -14.9639,-14.8156,-14.6673,-14.519, -14.3707,-14.0,-13.7036,-13.5542, -13.402,-13.2497,-13.0976,-12.8693, -12.7171,-12.5649,-12.3317,-12.1756, -11.9413,-11.7851,-11.629,-11.4723, -11.3121,-11.1519,-11.0718,-11.0712, -11.0822,-11.0952,-11.1052,-11.1185, -11.1336,-11.1416,-11.1423,-11.1429, -11.3029,-11.463,-11.6216,-11.7776, -12.0117,-12.1677,-12.3238,-12.4798, -12.6348,-12.8629,-13.015,-13.2431, -13.3952,-13.5473,-13.8467,-14.0689, -14.3653,-14.5876,-14.884,-15.1805, -15.477,-15.7735,-15.9218,-16.0702, -16.2185,-16.4411,-16.6637,-16.8863, -17.0348,-17.2575,-17.406,-17.6289, -17.7774,-17.9261,-18.1491,-18.2978, -18.4464,-18.5951,-18.6695,-18.6799)
FOOTPRINT_POINT_LONGITUDE = (243.474,243.075,242.787,242.588, 242.426,242.226,242.213,242.217,242.217 ,242.217,242.217,242.216,242.216, 242.215,242.215,242.214,242.213,242.213 ,242.212,242.211,242.21,242.209,242.208 ,242.207,242.206,242.205,242.205, 242.204,242.203,242.202,242.201,242.2, 242.198,242.196,242.193,242.192,242.19, 242.189,242.187,242.185,242.184,242.182 ,242.18,242.178,242.175,242.173,242.171 ,242.169,242.167,242.165,242.165, 242.165,242.363,242.601,242.786,243.038 ,243.33,243.489,243.502,243.509,243.508 ,243.506,243.505,243.504,243.502, 243.501,243.5,243.499,243.498,243.497, 243.496,243.494,243.493,243.492,243.491 ,243.489,243.488,243.486,243.485, 243.483,243.481,243.48,243.479,243.478, 243.477,243.476,243.475,243.474,243.473 ,243.472,243.471,243.47,243.469,243.469 ,243.468,243.467,243.466,243.466, 243.465,243.474)
ORBIT_NUMBER = 18861
ORBITAL_ECCENTRICITY = 0.578
ORBITAL_INCLINATION = 86.95
ORBITAL_SEMIMAJOR_AXIS = 8829.04
PERIAPSIS_ALTITUDE = 331.86
PERIAPSIS_ARGUMENT_ANGLE = 329.08
PERIAPSIS_TIME = 2018-11-28T16:01:01.000Z
SPACECRAFT_ORIENTATION = (0.0,1.0,0.0)
^MEX_ORIENTATION_DESC = "MEX_ORIENTATION_DESC.TXT"
SPACECRAFT_POINTING_MODE = INERT
^MEX_POINTING_DESC = "MEX_POINTING_DESC.TXT"
RIGHT_ASCENSION = 57.588
DECLINATION = 47.015
OFFSET_ANGLE = -1e+32
SPACECRAFT_SOLAR_DISTANCE = 2.12099e+08
TARGET_NAME = MARS
/* CAMERA DATA ELEMENTS */
DETECTOR_TEMPERATURE = 18.1666
FOCAL_PLANE_TEMPERATURE = 11.234
INST_CMPRS_NAME = "DISCRETE COSINE TRANSFORMATION (DCT)"
INST_CMPRS_RATIO = 6.09162
INST_CMPRS_QUALITY = 0
INST_CMPRS_QUANTZ_TBL_ID = 0
INSTRUMENT_TEMPERATURE = 12.4574
LENS_TEMPERATURE = 11.8457
MACROPIXEL_SIZE = 1
MISSING_FRAMES = 0
PIXEL_SUBSAMPLING_FLAG = N
SIGNAL_CHAIN_ID = 2
/* RADIOMETRIC DATA ELEMENTS */
BANDWIDTH = 180.0
CENTER_FILTER_WAVELENGTH = 677.0
RADIANCE_OFFSET = 4.1641
RADIANCE_SCALING_FACTOR = 0.0205581
REFLECTANCE_SCALING_FACTOR = 0.000482504
MEX:REFLECTANCE_OFFSET = 0.0977328
/* IMAGE OBJECT DEFINITIONS */
OBJECT = IMAGE
  INTERCHANGE_FORMAT = BINARY
  LINES = 36000
  LINE_SAMPLES = 6705
  SAMPLE_TYPE = UNSIGNED_INTEGER
  SAMPLE_BITS = 8
  BANDS = 1
  BAND_STORAGE_TYPE = BAND_SEQUENTIAL
  MAXIMUM = 255
  MEAN = 165.23
  MINIMUM = 1
  STANDARD_DEVIATION = 14.6036
END_OBJECT = IMAGE
/* MAP OBJECT DEFINITIONS */
OBJECT = IMAGE_MAP_PROJECTION
  ^DATA_SET_MAP_PROJECTION_CATALOG= "DSMAP.CAT"
  A_AXIS_RADIUS = 3396.0
  B_AXIS_RADIUS = 3396.0
  C_AXIS_RADIUS = 3396.0
  CENTER_LATITUDE = 0.0
  CENTER_LONGITUDE = 243.0
  COORDINATE_SYSTEM_NAME = PLANETOGRAPHIC
  COORDINATE_SYSTEM_TYPE = "BODY-FIXED ROTATING"
  EASTERNMOST_LONGITUDE = 243.509
  FIRST_STANDARD_PARALLEL = "N/A"
  LINE_FIRST_PIXEL = 1
  LINE_LAST_PIXEL = 36000
  LINE_PROJECTION_OFFSET = -52719.0
  MAP_PROJECTION_ROTATION = 0.0
  MAP_PROJECTION_TYPE = SINUSOIDAL
  MAP_RESOLUTION = 4741.71043093333
  MAP_SCALE = 0.0125
  MAXIMUM_LATITUDE = -11.0712
  MINIMUM_LATITUDE = -18.6799
  POSITIVE_LONGITUDE_DIRECTION = EAST
  REFERENCE_LATITUDE = "N/A"
  REFERENCE_LONGITUDE = "N/A"
  SAMPLE_FIRST_PIXEL = 1
  SAMPLE_LAST_PIXEL = 6705
  SAMPLE_PROJECTION_OFFSET = 3516.0
  SECOND_STANDARD_PARALLEL = "N/A"
  WESTERNMOST_LONGITUDE = 242.165
END_OBJECT = IMAGE_MAP_PROJECTION
END
