PDS_VERSION_ID = PDS3
/* FILE DATA ELEMENTS */
RECORD_TYPE = UNDEFINED
/* POINTERS TO DATA OBJECTS */
^IMAGE = ("HI863_0000_BL4.TIF")
/* IDENTIFICATION DATA ELEMENTS */
DATA_SET_ID = "MEX-M-HRSC-4-REFDR-MAPPROJECT-EXT6-V4.0"
DATA_SET_NAME = "MARS EXPRESS HRSC MAP PROJECTED REFDR EXTENSION6 V4.0"
DETECTOR_ID = MEX_HRSC_BLUE
EVENT_TYPE = "MARS-REGIONAL-MAPPING-Im-Eo"
INSTRUMENT_HOST_ID = MEX
INSTRUMENT_HOST_NAME = "MARS EXPRESS"
INSTRUMENT_ID = HRSC
INSTRUMENT_NAME = "HIGH RESOLUTION STEREO CAMERA"
MISSION_NAME = "MARS EXPRESS"
MISSION_PHASE_NAME = ME_Phase_39
PROCESSING_LEVEL_ID = 4
PRODUCT_CREATION_TIME = 2023-01-29T14:35:52.000Z
PRODUCT_ID = "HI863_0000_BL4.TIF"
RELEASE_ID = 0005
REVISION_ID = 0000
/* QUALITY DATA ELEMENTS */
DATA_QUALITY_ID = 1
DATA_QUALITY_DESC = "Data calculated based on original SPICE kernels"
/* TIME DATA ELEMENTS */
SPACECRAFT_CLOCK_START_COUNT = "1/0491551015.25677"
SPACECRAFT_CLOCK_STOP_COUNT = "1/0491551245.48250"
START_TIME = 2018-11-29T05:57:49.096Z
STOP_TIME = 2018-11-29T06:00:43.279Z
/* ORBITAL DATA ELEMENTS */
ASCENDING_NODE_LONGITUDE = 220.3
MAXIMUM_RESOLUTION = 0.0528
FOOTPRINT_POINT_LATITUDE = (-36.8718,-36.8518,-36.8267,-36.7869, -36.7861,-36.7941,-36.5386,-36.2837, -36.0285,-35.7737,-35.5186,-35.1383, -34.8836,-34.6276,-34.2458,-33.9993, -33.7529,-33.5065,-33.2602,-32.8906, -32.6443,-32.3981,-32.1519,-31.6595, -31.2902,-31.0441,-30.7979,-30.5518, -30.3052,-30.0589,-29.6904,-29.198, -28.9517,-28.7052,-28.3362,-28.0899, -27.8437,-27.4742,-26.9818,-26.6122, -26.3658,-26.1193,-25.7497,-25.2577, -25.0102,-24.7562,-24.5015,-24.3747, -24.2861,-24.307,-24.3307,-24.36, -24.3606,-24.3618,-24.6173,-24.8722, -25.1243,-25.4943,-25.8642,-26.1108, -26.3573,-26.7269,-26.9731,-27.2194, -27.4656,-27.712,-27.9583,-28.2046, -28.451,-28.6974,-28.9438,-29.1901, -29.4365,-29.8061,-30.0525,-30.2989, -30.5453,-30.9149,-31.1613,-31.408, -31.6543,-31.901,-32.3937,-32.6404, -32.887,-33.1335,-33.5032,-33.7498, -33.9964,-34.2433,-34.4949,-34.7508, -35.0053,-35.2607,-35.5157,-35.8982, -36.2816,-36.6647,-36.7923,-36.8718)
FOOTPRINT_POINT_LONGITUDE = (38.6309,38.2692,37.8365,37.1928,37.179 ,37.1506,37.1654,37.1788,37.1924, 37.2052,37.2185,37.2297,37.2407,37.257, 37.2763,37.2871,37.2972,37.3072,37.3171 ,37.3318,37.3414,37.35,37.359,37.3736, 37.3856,37.3934,37.4012,37.4086,37.4102 ,37.4161,37.4325,37.4438,37.4488, 37.4527,37.4618,37.4665,37.4712,37.4778 ,37.4868,37.4924,37.4959,37.4991,37.504 ,37.5119,37.5126,37.5137,37.5165, 37.5188,37.521,37.8603,38.2927,38.7942, 38.806,38.81,38.8078,38.8058,38.8037, 38.8006,38.7974,38.7952,38.7929,38.7895 ,38.7872,38.7849,38.7826,38.78,38.7775, 38.7749,38.7723,38.7694,38.7665,38.7638 ,38.7608,38.7562,38.7531,38.7499, 38.7465,38.7412,38.7378,38.7348,38.7308 ,38.7275,38.7194,38.7156,38.7116, 38.7074,38.7009,38.6965,38.6921,38.6876 ,38.683,38.6785,38.6732,38.6683,38.663, 38.6549,38.6467,38.6382,38.6352, 38.6309)
ORBIT_NUMBER = 18863
ORBITAL_ECCENTRICITY = 0.578
ORBITAL_INCLINATION = 86.95
ORBITAL_SEMIMAJOR_AXIS = 8825.9
PERIAPSIS_ALTITUDE = 332.47
PERIAPSIS_ARGUMENT_ANGLE = 328.78
PERIAPSIS_TIME = 2018-11-29T05:59:06.000Z
SPACECRAFT_ORIENTATION = (0.0,1.0,0.0)
^MEX_ORIENTATION_DESC = "MEX_ORIENTATION_DESC.TXT"
SPACECRAFT_POINTING_MODE = INERT
^MEX_POINTING_DESC = "MEX_POINTING_DESC.TXT"
RIGHT_ASCENSION = 57.216
DECLINATION = 47.202
OFFSET_ANGLE = -1e+32
SPACECRAFT_SOLAR_DISTANCE = 2.1218e+08
TARGET_NAME = MARS
/* CAMERA DATA ELEMENTS */
DETECTOR_TEMPERATURE = 17.5549
FOCAL_PLANE_TEMPERATURE = 10.8262
INST_CMPRS_NAME = "DISCRETE COSINE TRANSFORMATION (DCT)"
INST_CMPRS_RATIO = 7.97331
INST_CMPRS_QUALITY = 0
INST_CMPRS_QUANTZ_TBL_ID = 0
INSTRUMENT_TEMPERATURE = 12.2535
LENS_TEMPERATURE = 11.234
MACROPIXEL_SIZE = 4
MISSING_FRAMES = 0
PIXEL_SUBSAMPLING_FLAG = N
SIGNAL_CHAIN_ID = 2
/* RADIOMETRIC DATA ELEMENTS */
BANDWIDTH = 76.0
CENTER_FILTER_WAVELENGTH = 444.0
RADIANCE_OFFSET = 0.546122
RADIANCE_SCALING_FACTOR = 0.00180933
REFLECTANCE_SCALING_FACTOR = 8.36916e-05
MEX:REFLECTANCE_OFFSET = 0.0252612
/* IMAGE OBJECT DEFINITIONS */
OBJECT = IMAGE
  INTERCHANGE_FORMAT = BINARY
  LINES = 14916
  LINE_SAMPLES = 1698
  SAMPLE_TYPE = UNSIGNED_INTEGER
  SAMPLE_BITS = 8
  BANDS = 1
  BAND_STORAGE_TYPE = BAND_SEQUENTIAL
  MAXIMUM = 254
  MEAN = 165.871
  MINIMUM = 1
  STANDARD_DEVIATION = 17.4018
END_OBJECT = IMAGE
/* MAP OBJECT DEFINITIONS */
OBJECT = IMAGE_MAP_PROJECTION
  ^DATA_SET_MAP_PROJECTION_CATALOG= "DSMAP.CAT"
  A_AXIS_RADIUS = 3396.0
  B_AXIS_RADIUS = 3396.0
  C_AXIS_RADIUS = 3396.0
  CENTER_LATITUDE = 0.0
  CENTER_LONGITUDE = 38.0
  COORDINATE_SYSTEM_NAME = PLANETOGRAPHIC
  COORDINATE_SYSTEM_TYPE = "BODY-FIXED ROTATING"
  EASTERNMOST_LONGITUDE = 38.81
  FIRST_STANDARD_PARALLEL = "N/A"
  LINE_FIRST_PIXEL = 1
  LINE_LAST_PIXEL = 14916
  LINE_PROJECTION_OFFSET = -28798.625
  MAP_PROJECTION_ROTATION = 0.0
  MAP_PROJECTION_TYPE = SINUSOIDAL
  MAP_RESOLUTION = 1185.42760773333
  MAP_SCALE = 0.05
  MAXIMUM_LATITUDE = -24.2861
  MINIMUM_LATITUDE = -36.8718
  POSITIVE_LONGITUDE_DIRECTION = EAST
  REFERENCE_LATITUDE = "N/A"
  REFERENCE_LONGITUDE = "N/A"
  SAMPLE_FIRST_PIXEL = 1
  SAMPLE_LAST_PIXEL = 1698
  SAMPLE_PROJECTION_OFFSET = 841.125
  SECOND_STANDARD_PARALLEL = "N/A"
  WESTERNMOST_LONGITUDE = 37.1506
END_OBJECT = IMAGE_MAP_PROJECTION
END
