PDS_VERSION_ID = PDS3
/* FILE DATA ELEMENTS */
RECORD_TYPE = UNDEFINED
/* POINTERS TO DATA OBJECTS */
^IMAGE = ("HI863_0000_GR4.TIF")
/* IDENTIFICATION DATA ELEMENTS */
DATA_SET_ID = "MEX-M-HRSC-4-REFDR-MAPPROJECT-EXT6-V4.0"
DATA_SET_NAME = "MARS EXPRESS HRSC MAP PROJECTED REFDR EXTENSION6 V4.0"
DETECTOR_ID = MEX_HRSC_GREEN
EVENT_TYPE = "MARS-REGIONAL-MAPPING-Im-Eo"
INSTRUMENT_HOST_ID = MEX
INSTRUMENT_HOST_NAME = "MARS EXPRESS"
INSTRUMENT_ID = HRSC
INSTRUMENT_NAME = "HIGH RESOLUTION STEREO CAMERA"
MISSION_NAME = "MARS EXPRESS"
MISSION_PHASE_NAME = ME_Phase_39
PROCESSING_LEVEL_ID = 4
PRODUCT_CREATION_TIME = 2023-01-29T14:35:52.000Z
PRODUCT_ID = "HI863_0000_GR4.TIF"
RELEASE_ID = 0005
REVISION_ID = 0000
/* QUALITY DATA ELEMENTS */
DATA_QUALITY_ID = 1
DATA_QUALITY_DESC = "Data calculated based on original SPICE kernels"
/* TIME DATA ELEMENTS */
SPACECRAFT_CLOCK_START_COUNT = "1/0491551015.25677"
SPACECRAFT_CLOCK_STOP_COUNT = "1/0491551245.48250"
START_TIME = 2018-11-29T05:57:58.725Z
STOP_TIME = 2018-11-29T06:00:52.591Z
/* ORBITAL DATA ELEMENTS */
ASCENDING_NODE_LONGITUDE = 220.3
MAXIMUM_RESOLUTION = 0.0531
FOOTPRINT_POINT_LATITUDE = (-36.8457,-36.8149,-36.7918,-36.7704, -36.7696,-36.7892,-36.5317,-36.2749, -35.8899,-35.6248,-35.3689,-35.1179, -34.8646,-34.48,-34.2328,-33.985, -33.6139,-33.3665,-33.1193,-32.8717, -32.6243,-32.3774,-32.0076,-31.6377, -31.391,-31.1443,-30.8976,-30.6508, -30.2836,-30.0368,-29.7881,-29.5421, -29.1731,-28.9272,-28.6812,-28.4352, -28.1893,-27.8204,-27.5746,-27.2059, -26.9601,-26.7144,-26.4688,-26.2231, -25.9775,-25.7319,-25.3546,-25.1009, -24.8472,-24.4667,-24.3398,-24.2887, -24.3116,-24.3344,-24.3538,-24.3544, -24.3555,-24.863,-25.2436,-25.4974, -25.7494,-25.995,-26.2406,-26.4864, -26.8551,-27.2242,-27.4704,-27.8393, -28.2086,-28.578,-28.824,-29.0703, -29.3168,-29.6864,-29.933,-30.1795, -30.4259,-30.6717,-30.9183,-31.1651, -31.5353,-31.7841,-32.1535,-32.401, -32.6486,-32.8959,-33.1432,-33.5136, -33.7607,-34.0088,-34.3804,-34.8852, -35.2663,-35.5226,-35.7785,-36.0438, -36.301,-36.6863,-36.8142,-36.8457)
FOOTPRINT_POINT_LONGITUDE = (38.5985,37.9705,37.5284,37.137,37.1229 ,37.0927,37.1082,37.1223,37.1432, 37.1583,37.1708,37.1759,37.1879,37.2139 ,37.2245,37.236,37.2518,37.2623,37.2722 ,37.2827,37.2929,37.302,37.3145,37.3269 ,37.3352,37.3433,37.3514,37.3596, 37.3649,37.3728,37.3858,37.3917,37.4006 ,37.406,37.4116,37.4171,37.4224,37.4302 ,37.435,37.4418,37.4465,37.4506,37.4545 ,37.458,37.4613,37.4649,37.4716,37.4749 ,37.4756,37.4805,37.4826,37.484,37.9081 ,38.3524,38.7585,38.7704,38.7743, 38.7704,38.7675,38.7654,38.7634,38.7613 ,38.7591,38.757,38.7536,38.7503,38.748, 38.7443,38.7405,38.7366,38.7338,38.731, 38.7282,38.7237,38.7207,38.7176,38.7144 ,38.7109,38.7075,38.7041,38.6988, 38.6955,38.6897,38.6859,38.682,38.678, 38.6738,38.6674,38.663,38.6586,38.6517, 38.6422,38.6347,38.6295,38.624,38.6185, 38.6129,38.6042,38.6013,38.5985)
ORBIT_NUMBER = 18863
ORBITAL_ECCENTRICITY = 0.578
ORBITAL_INCLINATION = 86.95
ORBITAL_SEMIMAJOR_AXIS = 8825.9
PERIAPSIS_ALTITUDE = 332.47
PERIAPSIS_ARGUMENT_ANGLE = 328.78
PERIAPSIS_TIME = 2018-11-29T05:59:06.000Z
SPACECRAFT_ORIENTATION = (0.0,1.0,0.0)
^MEX_ORIENTATION_DESC = "MEX_ORIENTATION_DESC.TXT"
SPACECRAFT_POINTING_MODE = INERT
^MEX_POINTING_DESC = "MEX_POINTING_DESC.TXT"
RIGHT_ASCENSION = 57.216
DECLINATION = 47.202
OFFSET_ANGLE = -1e+32
SPACECRAFT_SOLAR_DISTANCE = 2.1218e+08
TARGET_NAME = MARS
/* CAMERA DATA ELEMENTS */
DETECTOR_TEMPERATURE = 17.5549
FOCAL_PLANE_TEMPERATURE = 10.8262
INST_CMPRS_NAME = "DISCRETE COSINE TRANSFORMATION (DCT)"
INST_CMPRS_RATIO = 13.0372
INST_CMPRS_QUALITY = 0
INST_CMPRS_QUANTZ_TBL_ID = 0
INSTRUMENT_TEMPERATURE = 12.2535
LENS_TEMPERATURE = 11.234
MACROPIXEL_SIZE = 4
PIXEL_SUBSAMPLING_FLAG = N
SIGNAL_CHAIN_ID = 2
/* RADIOMETRIC DATA ELEMENTS */
BANDWIDTH = 88.0
CENTER_FILTER_WAVELENGTH = 538.0
RADIANCE_OFFSET = 1.20699
RADIANCE_SCALING_FACTOR = 0.00522293
REFLECTANCE_SCALING_FACTOR = 0.000202447
MEX:REFLECTANCE_OFFSET = 0.0467843
/* IMAGE OBJECT DEFINITIONS */
OBJECT = IMAGE
  INTERCHANGE_FORMAT = BINARY
  LINES = 14916
  LINE_SAMPLES = 1698
  SAMPLE_TYPE = UNSIGNED_INTEGER
  SAMPLE_BITS = 8
  BANDS = 1
  BAND_STORAGE_TYPE = BAND_SEQUENTIAL
  MAXIMUM = 255
  MEAN = 151.349
  MINIMUM = 1
  STANDARD_DEVIATION = 29.5833
END_OBJECT = IMAGE
/* MAP OBJECT DEFINITIONS */
OBJECT = IMAGE_MAP_PROJECTION
  ^DATA_SET_MAP_PROJECTION_CATALOG= "DSMAP.CAT"
  A_AXIS_RADIUS = 3396.0
  B_AXIS_RADIUS = 3396.0
  C_AXIS_RADIUS = 3396.0
  CENTER_LATITUDE = 0.0
  CENTER_LONGITUDE = 38.0
  COORDINATE_SYSTEM_NAME = PLANETOGRAPHIC
  COORDINATE_SYSTEM_TYPE = "BODY-FIXED ROTATING"
  EASTERNMOST_LONGITUDE = 38.7743
  FIRST_STANDARD_PARALLEL = "N/A"
  LINE_FIRST_PIXEL = 1
  LINE_LAST_PIXEL = 14916
  LINE_PROJECTION_OFFSET = -28798.625
  MAP_PROJECTION_ROTATION = 0.0
  MAP_PROJECTION_TYPE = SINUSOIDAL
  MAP_RESOLUTION = 1185.42760773333
  MAP_SCALE = 0.05
  MAXIMUM_LATITUDE = -24.2887
  MINIMUM_LATITUDE = -36.8457
  POSITIVE_LONGITUDE_DIRECTION = EAST
  REFERENCE_LATITUDE = "N/A"
  REFERENCE_LONGITUDE = "N/A"
  SAMPLE_FIRST_PIXEL = 1
  SAMPLE_LAST_PIXEL = 1698
  SAMPLE_PROJECTION_OFFSET = 841.125
  SECOND_STANDARD_PARALLEL = "N/A"
  WESTERNMOST_LONGITUDE = 37.0927
END_OBJECT = IMAGE_MAP_PROJECTION
END
