PDS_VERSION_ID = PDS3
/* FILE DATA ELEMENTS */
RECORD_TYPE = UNDEFINED
/* POINTERS TO DATA OBJECTS */
^IMAGE = ("HI863_0000_IR4.TIF")
/* IDENTIFICATION DATA ELEMENTS */
DATA_SET_ID = "MEX-M-HRSC-4-REFDR-MAPPROJECT-EXT6-V4.0"
DATA_SET_NAME = "MARS EXPRESS HRSC MAP PROJECTED REFDR EXTENSION6 V4.0"
DETECTOR_ID = MEX_HRSC_IR
EVENT_TYPE = "MARS-REGIONAL-MAPPING-Im-Eo"
INSTRUMENT_HOST_ID = MEX
INSTRUMENT_HOST_NAME = "MARS EXPRESS"
INSTRUMENT_ID = HRSC
INSTRUMENT_NAME = "HIGH RESOLUTION STEREO CAMERA"
MISSION_NAME = "MARS EXPRESS"
MISSION_PHASE_NAME = ME_Phase_39
PROCESSING_LEVEL_ID = 4
PRODUCT_CREATION_TIME = 2023-01-29T14:35:52.000Z
PRODUCT_ID = "HI863_0000_IR4.TIF"
RELEASE_ID = 0005
REVISION_ID = 0000
/* QUALITY DATA ELEMENTS */
DATA_QUALITY_ID = 1
DATA_QUALITY_DESC = "Data calculated based on original SPICE kernels"
/* TIME DATA ELEMENTS */
SPACECRAFT_CLOCK_START_COUNT = "1/0491551015.25677"
SPACECRAFT_CLOCK_STOP_COUNT = "1/0491551245.48250"
START_TIME = 2018-11-29T05:58:18.196Z
STOP_TIME = 2018-11-29T06:01:10.792Z
/* ORBITAL DATA ELEMENTS */
ASCENDING_NODE_LONGITUDE = 220.3
MAXIMUM_RESOLUTION = 0.0557
FOOTPRINT_POINT_LATITUDE = (-36.788,-36.7734,-36.758,-36.7364, -36.7358,-36.7781,-36.3882,-36.1347, -35.884,-35.6335,-35.3819,-34.8936, -34.5065,-34.1335,-33.8842,-33.6354, -33.3867,-33.1384,-32.8897,-32.6404, -32.3938,-32.1458,-31.8999,-31.6525, -31.4055,-31.1589,-30.9117,-30.6645, -30.1793,-29.9272,-29.5562,-29.1889, -28.7001,-28.4553,-27.9666,-27.4775, -26.9894,-26.74,-26.4808,-26.2293, -25.9782,-25.7265,-25.4733,-25.2215, -24.9745,-24.7243,-24.4733,-24.3472, -24.2843,-24.2934,-24.3197,-24.3303, -24.3306,-24.3317,-24.5829,-24.83, -25.0814,-25.3317,-25.5827,-25.9591, -26.2102,-26.4624,-26.722,-26.9744, -27.2191,-27.4641,-27.9528,-28.1982, -28.4435,-28.6877,-28.9348,-29.1791, -29.4249,-29.6702,-29.9163,-30.1623, -30.6518,-31.0215,-31.2684,-31.5149, -31.7652,-32.1346,-32.508,-32.7566, -33.1282,-33.4988,-33.7461,-33.9966, -34.2459,-34.4998,-34.7502,-34.9978, -35.2495,-35.4993,-35.748,-36.0003, -36.3769,-36.6371,-36.7668,-36.788)
FOOTPRINT_POINT_LONGITUDE = (38.5334,38.0851,37.6316,37.0282, 37.0137,36.981,37.005,37.0205,37.0349, 37.0491,37.0639,37.0824,37.1105,37.1285 ,37.1406,37.1524,37.1638,37.1749, 37.1861,37.1976,37.2071,37.2173,37.226, 37.2356,37.2448,37.2536,37.2627,37.2718 ,37.2823,37.2949,37.308,37.318,37.3302, 37.3364,37.3479,37.3594,37.3697,37.3746 ,37.3794,37.3838,37.3878,37.3923, 37.3982,37.4028,37.4025,37.4052,37.4087 ,37.4111,37.4126,37.7185,38.3072, 38.6896,38.7015,38.7055,38.7039,38.7019 ,38.7002,38.6983,38.6965,38.6935, 38.6915,38.6894,38.6872,38.685,38.6829, 38.6806,38.6759,38.6734,38.6709,38.6682 ,38.6656,38.6628,38.66,38.657,38.6541, 38.651,38.6445,38.6395,38.636,38.6325, 38.6289,38.6233,38.6175,38.6135,38.6074 ,38.6009,38.5965,38.592,38.5874,38.5828 ,38.5779,38.573,38.568,38.5628,38.5575, 38.5521,38.5438,38.5379,38.5349, 38.5334)
ORBIT_NUMBER = 18863
ORBITAL_ECCENTRICITY = 0.578
ORBITAL_INCLINATION = 86.95
ORBITAL_SEMIMAJOR_AXIS = 8825.9
PERIAPSIS_ALTITUDE = 332.47
PERIAPSIS_ARGUMENT_ANGLE = 328.78
PERIAPSIS_TIME = 2018-11-29T05:59:06.000Z
SPACECRAFT_ORIENTATION = (0.0,1.0,0.0)
^MEX_ORIENTATION_DESC = "MEX_ORIENTATION_DESC.TXT"
SPACECRAFT_POINTING_MODE = INERT
^MEX_POINTING_DESC = "MEX_POINTING_DESC.TXT"
RIGHT_ASCENSION = 57.216
DECLINATION = 47.202
OFFSET_ANGLE = -1e+32
SPACECRAFT_SOLAR_DISTANCE = 2.1218e+08
TARGET_NAME = MARS
/* CAMERA DATA ELEMENTS */
DETECTOR_TEMPERATURE = 18.3705
FOCAL_PLANE_TEMPERATURE = 10.8262
INST_CMPRS_NAME = "DISCRETE COSINE TRANSFORMATION (DCT)"
INST_CMPRS_RATIO = 13.2668
INST_CMPRS_QUALITY = 0
INST_CMPRS_QUANTZ_TBL_ID = 0
INSTRUMENT_TEMPERATURE = 12.2535
LENS_TEMPERATURE = 11.234
MACROPIXEL_SIZE = 4
MISSING_FRAMES = 1
PIXEL_SUBSAMPLING_FLAG = N
SIGNAL_CHAIN_ID = 2
/* RADIOMETRIC DATA ELEMENTS */
BANDWIDTH = 81.0
CENTER_FILTER_WAVELENGTH = 955.5
RADIANCE_OFFSET = 0.727172
RADIANCE_SCALING_FACTOR = 0.00507734
REFLECTANCE_SCALING_FACTOR = 0.000493142
MEX:REFLECTANCE_OFFSET = 0.0706274
/* IMAGE OBJECT DEFINITIONS */
OBJECT = IMAGE
  INTERCHANGE_FORMAT = BINARY
  LINES = 14916
  LINE_SAMPLES = 1698
  SAMPLE_TYPE = UNSIGNED_INTEGER
  SAMPLE_BITS = 8
  BANDS = 1
  BAND_STORAGE_TYPE = BAND_SEQUENTIAL
  MAXIMUM = 255
  MEAN = 119.786
  MINIMUM = 1
  STANDARD_DEVIATION = 44.6172
END_OBJECT = IMAGE
/* MAP OBJECT DEFINITIONS */
OBJECT = IMAGE_MAP_PROJECTION
  ^DATA_SET_MAP_PROJECTION_CATALOG= "DSMAP.CAT"
  A_AXIS_RADIUS = 3396.0
  B_AXIS_RADIUS = 3396.0
  C_AXIS_RADIUS = 3396.0
  CENTER_LATITUDE = 0.0
  CENTER_LONGITUDE = 38.0
  COORDINATE_SYSTEM_NAME = PLANETOGRAPHIC
  COORDINATE_SYSTEM_TYPE = "BODY-FIXED ROTATING"
  EASTERNMOST_LONGITUDE = 38.7055
  FIRST_STANDARD_PARALLEL = "N/A"
  LINE_FIRST_PIXEL = 1
  LINE_LAST_PIXEL = 14916
  LINE_PROJECTION_OFFSET = -28798.625
  MAP_PROJECTION_ROTATION = 0.0
  MAP_PROJECTION_TYPE = SINUSOIDAL
  MAP_RESOLUTION = 1185.42760773333
  MAP_SCALE = 0.05
  MAXIMUM_LATITUDE = -24.2843
  MINIMUM_LATITUDE = -36.788
  POSITIVE_LONGITUDE_DIRECTION = EAST
  REFERENCE_LATITUDE = "N/A"
  REFERENCE_LONGITUDE = "N/A"
  SAMPLE_FIRST_PIXEL = 1
  SAMPLE_LAST_PIXEL = 1698
  SAMPLE_PROJECTION_OFFSET = 841.125
  SECOND_STANDARD_PARALLEL = "N/A"
  WESTERNMOST_LONGITUDE = 36.981
END_OBJECT = IMAGE_MAP_PROJECTION
END
