PDS_VERSION_ID = PDS3
/* FILE DATA ELEMENTS */
RECORD_TYPE = UNDEFINED
/* POINTERS TO DATA OBJECTS */
^IMAGE = ("HI863_0000_S24.TIF")
/* IDENTIFICATION DATA ELEMENTS */
DATA_SET_ID = "MEX-M-HRSC-4-REFDR-MAPPROJECT-EXT6-V4.0"
DATA_SET_NAME = "MARS EXPRESS HRSC MAP PROJECTED REFDR EXTENSION6 V4.0"
DETECTOR_ID = MEX_HRSC_S2
EVENT_TYPE = "MARS-REGIONAL-MAPPING-Im-Eo"
INSTRUMENT_HOST_ID = MEX
INSTRUMENT_HOST_NAME = "MARS EXPRESS"
INSTRUMENT_ID = HRSC
INSTRUMENT_NAME = "HIGH RESOLUTION STEREO CAMERA"
MISSION_NAME = "MARS EXPRESS"
MISSION_PHASE_NAME = ME_Phase_39
PROCESSING_LEVEL_ID = 4
PRODUCT_CREATION_TIME = 2023-01-29T14:35:52.000Z
PRODUCT_ID = "HI863_0000_S24.TIF"
RELEASE_ID = 0005
REVISION_ID = 0000
/* QUALITY DATA ELEMENTS */
DATA_QUALITY_ID = 1
DATA_QUALITY_DESC = "Data calculated based on original SPICE kernels"
/* TIME DATA ELEMENTS */
SPACECRAFT_CLOCK_START_COUNT = "1/0491551015.25677"
SPACECRAFT_CLOCK_STOP_COUNT = "1/0491551245.48250"
START_TIME = 2018-11-29T05:57:26.983Z
STOP_TIME = 2018-11-29T06:00:20.354Z
/* ORBITAL DATA ELEMENTS */
ASCENDING_NODE_LONGITUDE = 220.3
MAXIMUM_RESOLUTION = 0.0273
FOOTPRINT_POINT_LATITUDE = (-36.9176,-36.8864,-36.8529,-36.8099, -36.8088,-36.7913,-36.5387,-36.16, -35.9071,-35.6556,-35.274,-35.0168, -34.764,-34.5168,-34.2625,-34.0092, -33.7557,-33.5022,-33.2494,-32.995, -32.7416,-32.2488,-32.0017,-31.6315, -31.3848,-31.0151,-30.5232,-30.2696, -30.0227,-29.6573,-29.4098,-29.1586, -28.9118,-28.6615,-28.2921,-28.0435, -27.7943,-27.5453,-27.172,-26.9243, -26.6755,-26.425,-26.1745,-25.924, -25.6742,-25.3009,-25.0517,-24.7986, -24.5478,-24.4234,-24.3002,-24.3358, -24.3608,-24.3982,-24.3992,-24.4, -24.7778,-25.0288,-25.2794,-25.6557, -25.9067,-26.1572,-26.407,-26.781, -27.0296,-27.2775,-27.5255,-27.7745, -28.0231,-28.2708,-28.6425,-28.8911, -29.1385,-29.3865,-29.6349,-30.0058, -30.2535,-30.6265,-30.8745,-31.3617, -31.6122,-32.107,-32.353,-32.599, -32.8465,-33.1009,-33.3555,-33.6102, -33.9918,-34.2454,-34.4992,-34.7499, -35.0053,-35.3852,-35.6387,-36.0185, -36.3979,-36.6514,-36.7782,-36.9176)
FOOTPRINT_POINT_LONGITUDE = (38.704,38.2729,37.8377,37.3147,37.3009 ,37.2757,37.2881,37.3064,37.3179, 37.3309,37.3451,37.3517,37.3627,37.3791 ,37.3881,37.398,37.4075,37.417,37.4268, 37.4351,37.4441,37.4602,37.467,37.4773, 37.4842,37.4946,37.5086,37.5102,37.5163 ,37.5285,37.5339,37.5369,37.5425, 37.5459,37.5546,37.5587,37.5625,37.5663 ,37.5719,37.5762,37.5798,37.5823, 37.5849,37.5873,37.59,37.5947,37.5975, 37.5983,37.6002,37.6016,37.6031,38.1428 ,38.4561,38.8776,38.8899,38.8943, 38.8907,38.8883,38.8859,38.8821,38.8795 ,38.8769,38.8743,38.8705,38.8679, 38.8654,38.8627,38.8599,38.857,38.8542, 38.8499,38.8467,38.8437,38.8405,38.8372 ,38.8323,38.8289,38.8233,38.8196, 38.8135,38.809,38.801,38.7971,38.7931, 38.789,38.7846,38.7801,38.7754,38.7683, 38.7636,38.7588,38.7545,38.7491,38.7414 ,38.7361,38.728,38.7197,38.7139,38.7109 ,38.704)
ORBIT_NUMBER = 18863
ORBITAL_ECCENTRICITY = 0.578
ORBITAL_INCLINATION = 86.95
ORBITAL_SEMIMAJOR_AXIS = 8825.9
PERIAPSIS_ALTITUDE = 332.47
PERIAPSIS_ARGUMENT_ANGLE = 328.78
PERIAPSIS_TIME = 2018-11-29T05:59:06.000Z
SPACECRAFT_ORIENTATION = (0.0,1.0,0.0)
^MEX_ORIENTATION_DESC = "MEX_ORIENTATION_DESC.TXT"
SPACECRAFT_POINTING_MODE = INERT
^MEX_POINTING_DESC = "MEX_POINTING_DESC.TXT"
RIGHT_ASCENSION = 57.216
DECLINATION = 47.202
OFFSET_ANGLE = -1e+32
SPACECRAFT_SOLAR_DISTANCE = 2.1218e+08
TARGET_NAME = MARS
/* CAMERA DATA ELEMENTS */
DETECTOR_TEMPERATURE = 19.1861
FOCAL_PLANE_TEMPERATURE = 10.8262
INST_CMPRS_NAME = "DISCRETE COSINE TRANSFORMATION (DCT)"
INST_CMPRS_RATIO = 12.4599
INST_CMPRS_QUALITY = 0
INST_CMPRS_QUANTZ_TBL_ID = 0
INSTRUMENT_TEMPERATURE = 12.2535
LENS_TEMPERATURE = 11.234
MACROPIXEL_SIZE = 2
MISSING_FRAMES = 0
PIXEL_SUBSAMPLING_FLAG = N
SIGNAL_CHAIN_ID = 1
/* RADIOMETRIC DATA ELEMENTS */
BANDWIDTH = 178.0
CENTER_FILTER_WAVELENGTH = 679.0
RADIANCE_OFFSET = 3.36812
RADIANCE_SCALING_FACTOR = 0.0191386
REFLECTANCE_SCALING_FACTOR = 0.000456296
MEX:REFLECTANCE_OFFSET = 0.0803017
/* IMAGE OBJECT DEFINITIONS */
OBJECT = IMAGE
  INTERCHANGE_FORMAT = BINARY
  LINES = 29831
  LINE_SAMPLES = 3395
  SAMPLE_TYPE = UNSIGNED_INTEGER
  SAMPLE_BITS = 8
  BANDS = 1
  BAND_STORAGE_TYPE = BAND_SEQUENTIAL
  MAXIMUM = 255
  MEAN = 130.372
  MINIMUM = 1
  STANDARD_DEVIATION = 37.832
END_OBJECT = IMAGE
/* MAP OBJECT DEFINITIONS */
OBJECT = IMAGE_MAP_PROJECTION
  ^DATA_SET_MAP_PROJECTION_CATALOG= "DSMAP.CAT"
  A_AXIS_RADIUS = 3396.0
  B_AXIS_RADIUS = 3396.0
  C_AXIS_RADIUS = 3396.0
  CENTER_LATITUDE = 0.0
  CENTER_LONGITUDE = 38.0
  COORDINATE_SYSTEM_NAME = PLANETOGRAPHIC
  COORDINATE_SYSTEM_TYPE = "BODY-FIXED ROTATING"
  EASTERNMOST_LONGITUDE = 38.8943
  FIRST_STANDARD_PARALLEL = "N/A"
  LINE_FIRST_PIXEL = 1
  LINE_LAST_PIXEL = 29831
  LINE_PROJECTION_OFFSET = -57596.75
  MAP_PROJECTION_ROTATION = 0.0
  MAP_PROJECTION_TYPE = SINUSOIDAL
  MAP_RESOLUTION = 2370.85521546667
  MAP_SCALE = 0.025
  MAXIMUM_LATITUDE = -24.3002
  MINIMUM_LATITUDE = -36.9176
  POSITIVE_LONGITUDE_DIRECTION = EAST
  REFERENCE_LATITUDE = "N/A"
  REFERENCE_LONGITUDE = "N/A"
  SAMPLE_FIRST_PIXEL = 1
  SAMPLE_LAST_PIXEL = 3395
  SAMPLE_PROJECTION_OFFSET = 1682.75
  SECOND_STANDARD_PARALLEL = "N/A"
  WESTERNMOST_LONGITUDE = 37.2757
END_OBJECT = IMAGE_MAP_PROJECTION
END
