PDS_VERSION_ID = PDS3
/* FILE DATA ELEMENTS */
RECORD_TYPE = UNDEFINED
/* POINTERS TO DATA OBJECTS */
^IMAGE = ("HI867_0000_S14.TIF")
/* IDENTIFICATION DATA ELEMENTS */
DATA_SET_ID = "MEX-M-HRSC-4-REFDR-MAPPROJECT-EXT6-V4.0"
DATA_SET_NAME = "MARS EXPRESS HRSC MAP PROJECTED REFDR EXTENSION6 V4.0"
DETECTOR_ID = MEX_HRSC_S1
EVENT_TYPE = "MARS-REGIONAL-STEREO-Im-Fl"
INSTRUMENT_HOST_ID = MEX
INSTRUMENT_HOST_NAME = "MARS EXPRESS"
INSTRUMENT_ID = HRSC
INSTRUMENT_NAME = "HIGH RESOLUTION STEREO CAMERA"
MISSION_NAME = "MARS EXPRESS"
MISSION_PHASE_NAME = ME_Phase_39
PROCESSING_LEVEL_ID = 4
PRODUCT_CREATION_TIME = 2023-01-29T14:35:52.000Z
PRODUCT_ID = "HI867_0000_S14.TIF"
RELEASE_ID = 0005
REVISION_ID = 0000
/* QUALITY DATA ELEMENTS */
DATA_QUALITY_ID = 1
DATA_QUALITY_DESC = "Data calculated based on original SPICE kernels"
/* TIME DATA ELEMENTS */
SPACECRAFT_CLOCK_START_COUNT = "1/0491651638.23992"
SPACECRAFT_CLOCK_STOP_COUNT = "1/0491651807.25257"
START_TIME = 2018-11-30T09:55:25.836Z
STOP_TIME = 2018-11-30T09:57:16.961Z
/* ORBITAL DATA ELEMENTS */
ASCENDING_NODE_LONGITUDE = 220.23
MAXIMUM_RESOLUTION = 0.0146
FOOTPRINT_POINT_LATITUDE = (-33.2658,-33.2663,-33.2667,-33.267, -33.2671,-33.2672,-33.267,-33.267, -33.3089,-33.0624,-32.7462,-32.508, -32.3488,-32.0337,-31.5609,-31.3174, -31.1546,-30.9925,-30.8304,-30.6677, -30.5052,-30.3432,-30.0999,-29.9382, -29.7769,-29.535,-29.2933,-29.0519, -28.8912,-28.7306,-28.5698,-28.3285, -28.1678,-28.0074,-27.8466,-27.6864, -27.4459,-27.2868,-27.127,-26.9677, -26.7283,-26.4896,-26.3294,-26.17, -25.9308,-25.7721,-25.6124,-25.374, -25.2943,-25.2911,-25.2903,-25.2935, -25.2969,-25.2961,-25.2938,-25.2898, -25.2872,-25.2874,-25.6031,-25.7624, -26.0031,-26.1625,-26.4017,-26.6407, -26.8034,-26.9635,-27.2014,-27.5174, -27.7589,-27.92,-28.1611,-28.3209, -28.4823,-28.6473,-28.8838,-29.0453, -29.2064,-29.3672,-29.5286,-29.7708, -29.9324,-30.0939,-30.2558,-30.4184, -30.5802,-30.7421,-30.9037,-31.0651, -31.2274,-31.3915,-31.6405,-31.9477, -32.1063,-32.423,-32.5816,-32.7402, -33.0562,-33.2197,-33.3012,-33.2658)
FOOTPRINT_POINT_LONGITUDE = (349.528,349.3,349.069,348.834,348.597, 348.357,348.052,348.036,347.995,348.009 ,348.026,348.039,348.048,348.064, 348.087,348.099,348.106,348.113,348.12, 348.128,348.135,348.142,348.152,348.158 ,348.164,348.173,348.181,348.189, 348.195,348.2,348.205,348.212,348.217, 348.222,348.227,348.231,348.238,348.241 ,348.245,348.248,348.254,348.258, 348.262,348.266,348.271,348.273,348.277 ,348.281,348.282,348.282,348.507, 348.685,348.93,349.148,349.351,349.643, 349.657,349.663,349.661,349.659,349.656 ,349.654,349.651,349.649,349.646, 349.644,349.641,349.638,349.634,349.632 ,349.628,349.626,349.623,349.62,349.617 ,349.614,349.611,349.609,349.606, 349.601,349.598,349.595,349.592,349.589 ,349.585,349.582,349.579,349.575, 349.572,349.568,349.56,349.555,349.551, 349.543,349.539,349.535,349.526,349.522 ,349.52,349.528)
ORBIT_NUMBER = 18867
ORBITAL_ECCENTRICITY = 0.578
ORBITAL_INCLINATION = 86.96
ORBITAL_SEMIMAJOR_AXIS = 8820.4
PERIAPSIS_ALTITUDE = 332.33
PERIAPSIS_ARGUMENT_ANGLE = 328.07
PERIAPSIS_TIME = 2018-11-30T09:55:05.000Z
SPACECRAFT_ORIENTATION = (0.0,1.0,0.0)
^MEX_ORIENTATION_DESC = "MEX_ORIENTATION_DESC.TXT"
SPACECRAFT_POINTING_MODE = INERT
^MEX_POINTING_DESC = "MEX_POINTING_DESC.TXT"
RIGHT_ASCENSION = 56.383
DECLINATION = 47.633
OFFSET_ANGLE = -1e+32
SPACECRAFT_SOLAR_DISTANCE = 2.12344e+08
TARGET_NAME = MARS
/* CAMERA DATA ELEMENTS */
DETECTOR_TEMPERATURE = 17.9627
FOCAL_PLANE_TEMPERATURE = 12.6613
INST_CMPRS_NAME = "DISCRETE COSINE TRANSFORMATION (DCT)"
INST_CMPRS_RATIO = 10.4264
INST_CMPRS_QUALITY = 0
INST_CMPRS_QUANTZ_TBL_ID = 0
INSTRUMENT_TEMPERATURE = 13.4769
LENS_TEMPERATURE = 12.6613
MACROPIXEL_SIZE = 1
MISSING_FRAMES = 0
PIXEL_SUBSAMPLING_FLAG = N
SIGNAL_CHAIN_ID = 2
/* RADIOMETRIC DATA ELEMENTS */
BANDWIDTH = 180.0
CENTER_FILTER_WAVELENGTH = 677.0
RADIANCE_OFFSET = 3.92219
RADIANCE_SCALING_FACTOR = 0.0136445
REFLECTANCE_SCALING_FACTOR = 0.000320984
MEX:REFLECTANCE_OFFSET = 0.0922684
/* IMAGE OBJECT DEFINITIONS */
OBJECT = IMAGE
  INTERCHANGE_FORMAT = BINARY
  LINES = 38437
  LINE_SAMPLES = 6503
  SAMPLE_TYPE = UNSIGNED_INTEGER
  SAMPLE_BITS = 8
  BANDS = 1
  BAND_STORAGE_TYPE = BAND_SEQUENTIAL
  MAXIMUM = 255
  MEAN = 146.147
  MINIMUM = 1
  STANDARD_DEVIATION = 16.2656
END_OBJECT = IMAGE
/* MAP OBJECT DEFINITIONS */
OBJECT = IMAGE_MAP_PROJECTION
  ^DATA_SET_MAP_PROJECTION_CATALOG= "DSMAP.CAT"
  A_AXIS_RADIUS = 3396.0
  B_AXIS_RADIUS = 3396.0
  C_AXIS_RADIUS = 3396.0
  CENTER_LATITUDE = 0.0
  CENTER_LONGITUDE = 349.0
  COORDINATE_SYSTEM_NAME = PLANETOGRAPHIC
  COORDINATE_SYSTEM_TYPE = "BODY-FIXED ROTATING"
  EASTERNMOST_LONGITUDE = 349.663
  FIRST_STANDARD_PARALLEL = "N/A"
  LINE_FIRST_PIXEL = 1
  LINE_LAST_PIXEL = 38437
  LINE_PROJECTION_OFFSET = -119768.0
  MAP_PROJECTION_ROTATION = 0.0
  MAP_PROJECTION_TYPE = SINUSOIDAL
  MAP_RESOLUTION = 4741.71043093333
  MAP_SCALE = 0.0125
  MAXIMUM_LATITUDE = -25.2872
  MINIMUM_LATITUDE = -33.3089
  POSITIVE_LONGITUDE_DIRECTION = EAST
  REFERENCE_LATITUDE = "N/A"
  REFERENCE_LONGITUDE = "N/A"
  SAMPLE_FIRST_PIXEL = 1
  SAMPLE_LAST_PIXEL = 6503
  SAMPLE_PROJECTION_OFFSET = 3239.0
  SECOND_STANDARD_PARALLEL = "N/A"
  WESTERNMOST_LONGITUDE = 347.995
END_OBJECT = IMAGE_MAP_PROJECTION
END
