PDS_VERSION_ID = PDS3
/* FILE DATA ELEMENTS */
RECORD_TYPE = UNDEFINED
/* POINTERS TO DATA OBJECTS */
^IMAGE = ("HI871_0000_P14.TIF")
/* IDENTIFICATION DATA ELEMENTS */
DATA_SET_ID = "MEX-M-HRSC-4-REFDR-MAPPROJECT-EXT6-V4.0"
DATA_SET_NAME = "MARS EXPRESS HRSC MAP PROJECTED REFDR EXTENSION6 V4.0"
DETECTOR_ID = MEX_HRSC_P1
EVENT_TYPE = "MARS-REGIONAL-MAPPING-Vo-Ot"
INSTRUMENT_HOST_ID = MEX
INSTRUMENT_HOST_NAME = "MARS EXPRESS"
INSTRUMENT_ID = HRSC
INSTRUMENT_NAME = "HIGH RESOLUTION STEREO CAMERA"
MISSION_NAME = "MARS EXPRESS"
MISSION_PHASE_NAME = ME_Phase_39
PROCESSING_LEVEL_ID = 4
PRODUCT_CREATION_TIME = 2023-01-29T14:35:52.000Z
PRODUCT_ID = "HI871_0000_P14.TIF"
RELEASE_ID = 0005
REVISION_ID = 0000
/* QUALITY DATA ELEMENTS */
DATA_QUALITY_ID = 1
DATA_QUALITY_DESC = "Data calculated based on original SPICE kernels"
/* TIME DATA ELEMENTS */
SPACECRAFT_CLOCK_START_COUNT = "1/0491752151.25744"
SPACECRAFT_CLOCK_STOP_COUNT = "1/0491752334.10324"
START_TIME = 2018-12-01T13:50:33.379Z
STOP_TIME = 2018-12-01T13:52:33.393Z
/* ORBITAL DATA ELEMENTS */
ASCENDING_NODE_LONGITUDE = 220.15
MAXIMUM_RESOLUTION = 0.0271
FOOTPRINT_POINT_LATITUDE = (-36.5035,-36.4997,-36.4956,-36.4928, -36.4868,-36.4866,-36.5028,-36.3456, -36.1883,-36.0308,-35.8737,-35.7171, -35.4816,-35.3246,-35.1675,-35.0106, -34.8536,-34.6182,-34.3828,-34.2259, -34.0694,-33.9124,-33.7555,-33.5989, -33.4427,-33.2862,-33.1294,-32.9729, -32.7386,-32.5821,-32.4259,-32.2696, -32.0353,-31.8795,-31.7234,-31.5671, -31.4111,-31.1775,-31.0218,-30.7899, -30.6323,-30.3213,-30.088,-29.8542, -29.6988,-29.5433,-29.2327,-29.0771, -28.7665,-28.689,-28.6683,-28.6698, -28.6716,-28.6732,-28.6747,-28.676, -28.676,-28.6765,-28.9099,-29.1429, -29.454,-29.6098,-29.7659,-29.9993, -30.3104,-30.4663,-30.6998,-30.9339, -31.0899,-31.324,-31.4795,-31.6357, -31.7922,-31.9483,-32.1045,-32.2608, -32.4174,-32.574,-32.7307,-32.9658, -33.2009,-33.4359,-33.5926,-33.8275, -33.9844,-34.1413,-34.298,-34.5335, -34.6906,-34.8477,-35.0046,-35.1617, -35.3977,-35.5551,-35.7132,-35.95, -36.186,-36.4229,-36.5016,-36.5035)
FOOTPRINT_POINT_LONGITUDE = (302.148,301.719,301.36,301.139,300.738 ,300.724,300.71,300.715,300.72,300.725, 300.73,300.734,300.741,300.745,300.75, 300.754,300.759,300.765,300.771,300.775 ,300.779,300.783,300.786,300.79,300.793 ,300.797,300.8,300.804,300.808,300.812, 300.815,300.818,300.822,300.825,300.827 ,300.83,300.833,300.836,300.839,300.841 ,300.844,300.849,300.852,300.855, 300.857,300.859,300.862,300.864,300.867 ,300.868,300.868,301.113,301.307, 301.591,301.837,302.187,302.2,302.205, 302.204,302.203,302.201,302.201,302.2, 302.199,302.197,302.197,302.195,302.194 ,302.193,302.192,302.191,302.19,302.189 ,302.188,302.187,302.186,302.185, 302.184,302.184,302.182,302.181,302.179 ,302.178,302.177,302.176,302.174, 302.173,302.172,302.171,302.17,302.168, 302.167,302.166,302.165,302.164,302.163 ,302.161,302.159,302.159,302.148)
ORBIT_NUMBER = 18871
ORBITAL_ECCENTRICITY = 0.578
ORBITAL_INCLINATION = 86.96
ORBITAL_SEMIMAJOR_AXIS = 8820.58
PERIAPSIS_ALTITUDE = 332.22
PERIAPSIS_ARGUMENT_ANGLE = 327.42
PERIAPSIS_TIME = 2018-12-01T13:51:15.000Z
SPACECRAFT_ORIENTATION = (0.0,1.0,0.0)
^MEX_ORIENTATION_DESC = "MEX_ORIENTATION_DESC.TXT"
SPACECRAFT_POINTING_MODE = NADIR
^MEX_POINTING_DESC = "MEX_POINTING_DESC.TXT"
RIGHT_ASCENSION = -1e+32
DECLINATION = -1e+32
OFFSET_ANGLE = -1e+32
SPACECRAFT_SOLAR_DISTANCE = 2.12511e+08
TARGET_NAME = MARS
/* CAMERA DATA ELEMENTS */
DETECTOR_TEMPERATURE = 18.3705
FOCAL_PLANE_TEMPERATURE = 10.8262
INST_CMPRS_NAME = "DISCRETE COSINE TRANSFORMATION (DCT)"
INST_CMPRS_RATIO = 9.27765
INST_CMPRS_QUALITY = 0
INST_CMPRS_QUANTZ_TBL_ID = 0
INSTRUMENT_TEMPERATURE = 12.8652
LENS_TEMPERATURE = 11.0301
MACROPIXEL_SIZE = 2
MISSING_FRAMES = 0
PIXEL_SUBSAMPLING_FLAG = N
SIGNAL_CHAIN_ID = 3
/* RADIOMETRIC DATA ELEMENTS */
BANDWIDTH = 174.0
CENTER_FILTER_WAVELENGTH = 675.0
RADIANCE_OFFSET = 3.24702
RADIANCE_SCALING_FACTOR = 0.0142217
REFLECTANCE_SCALING_FACTOR = 0.00034546
MEX:REFLECTANCE_OFFSET = 0.0788734
/* IMAGE OBJECT DEFINITIONS */
OBJECT = IMAGE
  INTERCHANGE_FORMAT = BINARY
  LINES = 18641
  LINE_SAMPLES = 3056
  SAMPLE_TYPE = UNSIGNED_INTEGER
  SAMPLE_BITS = 8
  BANDS = 1
  BAND_STORAGE_TYPE = BAND_SEQUENTIAL
  MAXIMUM = 255
  MEAN = 139.39
  MINIMUM = 1
  STANDARD_DEVIATION = 36.7918
END_OBJECT = IMAGE
/* MAP OBJECT DEFINITIONS */
OBJECT = IMAGE_MAP_PROJECTION
  ^DATA_SET_MAP_PROJECTION_CATALOG= "DSMAP.CAT"
  A_AXIS_RADIUS = 3396.0
  B_AXIS_RADIUS = 3396.0
  C_AXIS_RADIUS = 3396.0
  CENTER_LATITUDE = 0.0
  CENTER_LONGITUDE = 301.0
  COORDINATE_SYSTEM_NAME = PLANETOGRAPHIC
  COORDINATE_SYSTEM_TYPE = "BODY-FIXED ROTATING"
  EASTERNMOST_LONGITUDE = 302.205
  FIRST_STANDARD_PARALLEL = "N/A"
  LINE_FIRST_PIXEL = 1
  LINE_LAST_PIXEL = 18641
  LINE_PROJECTION_OFFSET = -67989.75
  MAP_PROJECTION_ROTATION = 0.0
  MAP_PROJECTION_TYPE = SINUSOIDAL
  MAP_RESOLUTION = 2370.85521546667
  MAP_SCALE = 0.025
  MAXIMUM_LATITUDE = -28.6683
  MINIMUM_LATITUDE = -36.5035
  POSITIVE_LONGITUDE_DIRECTION = EAST
  REFERENCE_LATITUDE = "N/A"
  REFERENCE_LONGITUDE = "N/A"
  SAMPLE_FIRST_PIXEL = 1
  SAMPLE_LAST_PIXEL = 3056
  SAMPLE_PROJECTION_OFFSET = 564.75
  SECOND_STANDARD_PARALLEL = "N/A"
  WESTERNMOST_LONGITUDE = 300.71
END_OBJECT = IMAGE_MAP_PROJECTION
END
