PDS_VERSION_ID = PDS3
/* FILE DATA ELEMENTS */
RECORD_TYPE = UNDEFINED
/* POINTERS TO DATA OBJECTS */
^IMAGE = ("HI871_0000_S14.TIF")
/* IDENTIFICATION DATA ELEMENTS */
DATA_SET_ID = "MEX-M-HRSC-4-REFDR-MAPPROJECT-EXT6-V4.0"
DATA_SET_NAME = "MARS EXPRESS HRSC MAP PROJECTED REFDR EXTENSION6 V4.0"
DETECTOR_ID = MEX_HRSC_S1
EVENT_TYPE = "MARS-REGIONAL-MAPPING-Vo-Ot"
INSTRUMENT_HOST_ID = MEX
INSTRUMENT_HOST_NAME = "MARS EXPRESS"
INSTRUMENT_ID = HRSC
INSTRUMENT_NAME = "HIGH RESOLUTION STEREO CAMERA"
MISSION_NAME = "MARS EXPRESS"
MISSION_PHASE_NAME = ME_Phase_39
PROCESSING_LEVEL_ID = 4
PRODUCT_CREATION_TIME = 2023-01-29T14:35:52.000Z
PRODUCT_ID = "HI871_0000_S14.TIF"
RELEASE_ID = 0005
REVISION_ID = 0000
/* QUALITY DATA ELEMENTS */
DATA_QUALITY_ID = 1
DATA_QUALITY_DESC = "Data calculated based on original SPICE kernels"
/* TIME DATA ELEMENTS */
SPACECRAFT_CLOCK_START_COUNT = "1/0491752151.25744"
SPACECRAFT_CLOCK_STOP_COUNT = "1/0491752334.10324"
START_TIME = 2018-12-01T13:50:43.517Z
STOP_TIME = 2018-12-01T13:52:43.736Z
/* ORBITAL DATA ELEMENTS */
ASCENDING_NODE_LONGITUDE = 220.15
MAXIMUM_RESOLUTION = 0.0281
FOOTPRINT_POINT_LATITUDE = (-36.49,-36.4874,-36.4853,-36.4823, -36.4795,-36.4741,-36.4739,-36.499, -36.2625,-36.1047,-35.9472,-35.7903, -35.6338,-35.3982,-35.1623,-34.9269, -34.77,-34.6131,-34.4562,-34.299, -34.0642,-33.9073,-33.7507,-33.5943, -33.3602,-33.204,-32.9694,-32.7356, -32.5796,-32.4239,-32.2679,-32.112, -31.957,-31.8013,-31.6457,-31.4123, -31.2574,-31.027,-30.7941,-30.6368, -30.3273,-30.0949,-29.9397,-29.6306, -29.3214,-29.1665,-28.7805,-28.7035, -28.6699,-28.6729,-28.6737,-28.6765, -28.6772,-28.6774,-28.6778,-28.8332, -28.9879,-29.2969,-29.4518,-29.6066, -29.7618,-30.0718,-30.3038,-30.4589, -30.6141,-30.7688,-30.9242,-31.0797, -31.2351,-31.4677,-31.6228,-31.7789, -32.0124,-32.1679,-32.3238,-32.5582, -32.7146,-32.9495,-33.106,-33.2623, -33.4187,-33.6533,-33.8091,-33.9661, -34.1227,-34.2791,-34.436,-34.6716, -34.8286,-34.9854,-35.1425,-35.2998, -35.4574,-35.6155,-35.7742,-35.9322, -36.1685,-36.406,-36.4848,-36.49)
FOOTPRINT_POINT_LONGITUDE = (302.149,301.845,301.638,301.361,301.14 ,300.739,300.725,300.711,300.718, 300.723,300.728,300.733,300.737,300.744 ,300.75,300.757,300.761,300.765,300.769 ,300.773,300.778,300.782,300.786, 300.789,300.794,300.798,300.803,300.807 ,300.81,300.813,300.816,300.819,300.821 ,300.824,300.827,300.831,300.833, 300.835,300.839,300.842,300.846,300.849 ,300.851,300.854,300.858,300.86,300.863 ,300.864,300.864,301.281,301.528, 301.893,302.192,302.205,302.21,302.21, 302.209,302.208,302.207,302.206,302.205 ,302.204,302.202,302.201,302.201,302.2, 302.199,302.198,302.197,302.195,302.194 ,302.193,302.192,302.191,302.19,302.188 ,302.187,302.186,302.185,302.184, 302.183,302.181,302.18,302.179,302.177, 302.176,302.175,302.173,302.172,302.171 ,302.17,302.168,302.167,302.166,302.166 ,302.165,302.163,302.161,302.161, 302.149)
ORBIT_NUMBER = 18871
ORBITAL_ECCENTRICITY = 0.578
ORBITAL_INCLINATION = 86.96
ORBITAL_SEMIMAJOR_AXIS = 8820.58
PERIAPSIS_ALTITUDE = 332.22
PERIAPSIS_ARGUMENT_ANGLE = 327.42
PERIAPSIS_TIME = 2018-12-01T13:51:15.000Z
SPACECRAFT_ORIENTATION = (0.0,1.0,0.0)
^MEX_ORIENTATION_DESC = "MEX_ORIENTATION_DESC.TXT"
SPACECRAFT_POINTING_MODE = NADIR
^MEX_POINTING_DESC = "MEX_POINTING_DESC.TXT"
RIGHT_ASCENSION = -1e+32
DECLINATION = -1e+32
OFFSET_ANGLE = -1e+32
SPACECRAFT_SOLAR_DISTANCE = 2.12511e+08
TARGET_NAME = MARS
/* CAMERA DATA ELEMENTS */
DETECTOR_TEMPERATURE = 18.3705
FOCAL_PLANE_TEMPERATURE = 10.8262
INST_CMPRS_NAME = "DISCRETE COSINE TRANSFORMATION (DCT)"
INST_CMPRS_RATIO = 10.8441
INST_CMPRS_QUALITY = 0
INST_CMPRS_QUANTZ_TBL_ID = 0
INSTRUMENT_TEMPERATURE = 12.8652
LENS_TEMPERATURE = 11.0301
MACROPIXEL_SIZE = 2
MISSING_FRAMES = 0
PIXEL_SUBSAMPLING_FLAG = N
SIGNAL_CHAIN_ID = 1
/* RADIOMETRIC DATA ELEMENTS */
BANDWIDTH = 180.0
CENTER_FILTER_WAVELENGTH = 677.0
RADIANCE_OFFSET = 3.50599
RADIANCE_SCALING_FACTOR = 0.0148947
REFLECTANCE_SCALING_FACTOR = 0.000350942
MEX:REFLECTANCE_OFFSET = 0.0826063
/* IMAGE OBJECT DEFINITIONS */
OBJECT = IMAGE
  INTERCHANGE_FORMAT = BINARY
  LINES = 18641
  LINE_SAMPLES = 3056
  SAMPLE_TYPE = UNSIGNED_INTEGER
  SAMPLE_BITS = 8
  BANDS = 1
  BAND_STORAGE_TYPE = BAND_SEQUENTIAL
  MAXIMUM = 255
  MEAN = 139.569
  MINIMUM = 1
  STANDARD_DEVIATION = 36.5874
END_OBJECT = IMAGE
/* MAP OBJECT DEFINITIONS */
OBJECT = IMAGE_MAP_PROJECTION
  ^DATA_SET_MAP_PROJECTION_CATALOG= "DSMAP.CAT"
  A_AXIS_RADIUS = 3396.0
  B_AXIS_RADIUS = 3396.0
  C_AXIS_RADIUS = 3396.0
  CENTER_LATITUDE = 0.0
  CENTER_LONGITUDE = 301.0
  COORDINATE_SYSTEM_NAME = PLANETOGRAPHIC
  COORDINATE_SYSTEM_TYPE = "BODY-FIXED ROTATING"
  EASTERNMOST_LONGITUDE = 302.21
  FIRST_STANDARD_PARALLEL = "N/A"
  LINE_FIRST_PIXEL = 1
  LINE_LAST_PIXEL = 18641
  LINE_PROJECTION_OFFSET = -67989.75
  MAP_PROJECTION_ROTATION = 0.0
  MAP_PROJECTION_TYPE = SINUSOIDAL
  MAP_RESOLUTION = 2370.85521546667
  MAP_SCALE = 0.025
  MAXIMUM_LATITUDE = -28.6699
  MINIMUM_LATITUDE = -36.499
  POSITIVE_LONGITUDE_DIRECTION = EAST
  REFERENCE_LATITUDE = "N/A"
  REFERENCE_LONGITUDE = "N/A"
  SAMPLE_FIRST_PIXEL = 1
  SAMPLE_LAST_PIXEL = 3056
  SAMPLE_PROJECTION_OFFSET = 564.75
  SECOND_STANDARD_PARALLEL = "N/A"
  WESTERNMOST_LONGITUDE = 300.711
END_OBJECT = IMAGE_MAP_PROJECTION
END
