PDS_VERSION_ID = PDS3
/* FILE DATA ELEMENTS */
RECORD_TYPE = UNDEFINED
/* POINTERS TO DATA OBJECTS */
^IMAGE = ("HI877_0000_IR4.TIF")
/* IDENTIFICATION DATA ELEMENTS */
DATA_SET_ID = "MEX-M-HRSC-4-REFDR-MAPPROJECT-EXT6-V4.0"
DATA_SET_NAME = "MARS EXPRESS HRSC MAP PROJECTED REFDR EXTENSION6 V4.0"
DETECTOR_ID = MEX_HRSC_IR
EVENT_TYPE = "MARS-REGIONAL-MAPPING-Im-Fl"
INSTRUMENT_HOST_ID = MEX
INSTRUMENT_HOST_NAME = "MARS EXPRESS"
INSTRUMENT_ID = HRSC
INSTRUMENT_NAME = "HIGH RESOLUTION STEREO CAMERA"
MISSION_NAME = "MARS EXPRESS"
MISSION_PHASE_NAME = ME_Phase_39
PROCESSING_LEVEL_ID = 4
PRODUCT_CREATION_TIME = 2023-01-29T14:35:52.000Z
PRODUCT_ID = "HI877_0000_IR4.TIF"
RELEASE_ID = 0005
REVISION_ID = 0000
/* QUALITY DATA ELEMENTS */
DATA_QUALITY_ID = 1
DATA_QUALITY_DESC = "Data calculated based on original SPICE kernels"
/* TIME DATA ELEMENTS */
SPACECRAFT_CLOCK_START_COUNT = "1/0491903181.24889"
SPACECRAFT_CLOCK_STOP_COUNT = "1/0491903328.32565"
START_TIME = 2018-12-03T07:47:49.734Z
STOP_TIME = 2018-12-03T07:49:12.137Z
/* ORBITAL DATA ELEMENTS */
ASCENDING_NODE_LONGITUDE = 220.04
MAXIMUM_RESOLUTION = 0.0584
FOOTPRINT_POINT_LATITUDE = (-25.0428,-25.0431,-25.0432,-25.0431, -25.0429,-25.0426,-25.0423,-25.0423, -25.0501,-24.901,-24.8021,-24.6539, -24.5549,-24.4562,-24.3572,-24.2085, -24.0602,-23.9613,-23.8625,-23.6159, -23.4211,-23.274,-23.1267,-23.0285, -22.8809,-22.7823,-22.6343,-22.536, -22.4379,-22.2419,-22.143,-21.9398, -21.7477,-21.5056,-21.3582,-21.2596, -21.1447,-21.0315,-20.8606,-20.7449, -20.6259,-20.5098,-20.3944,-20.2793, -20.1065,-19.9912,-19.9335,-19.8847, -19.8847,-19.884,-19.8836,-19.8827, -19.8823,-19.8819,-19.8813,-19.8805, -19.8797,-19.8789,-19.8789,-19.8798, -19.9953,-20.1108,-20.2261,-20.3987, -20.5141,-20.6301,-20.7463,-20.9205, -21.0366,-21.1531,-21.266,-21.5578, -21.7526,-21.9961,-22.2471,-22.4914, -22.5896,-22.7854,-22.8838,-22.9822, -23.1301,-23.2286,-23.3781,-23.4782, -23.5793,-23.6818,-23.7814,-23.8802, -23.9789,-24.127,-24.2258,-24.3246, -24.4235,-24.5224,-24.6217,-24.7207, -24.869,-24.968,-25.0175,-25.0428)
FOOTPRINT_POINT_LONGITUDE = (49.4584,49.271,48.9712,48.7088,48.509, 48.2591,48.134,48.1215,48.1148,48.115, 48.1148,48.1147,48.1146,48.1144,48.1143 ,48.1142,48.114,48.1139,48.1138,48.1131 ,48.1116,48.1109,48.1103,48.1098, 48.1093,48.1091,48.1087,48.1083,48.1078 ,48.1068,48.1066,48.1058,48.1032, 48.1008,48.1002,48.0999,48.0991,48.097, 48.0943,48.0932,48.0934,48.0925,48.0913 ,48.09,48.088,48.0868,48.0862,48.0857, 48.202,48.4108,48.5542,48.7106,48.8149, 48.9323,49.0497,49.2323,49.3626,49.4669 ,49.4799,49.4843,49.4838,49.4833, 49.4827,49.4816,49.481,49.4806,49.4802, 49.4795,49.4791,49.4787,49.4781,49.4766 ,49.4756,49.4742,49.473,49.4718,49.4714 ,49.4704,49.47,49.4697,49.4693,49.4689, 49.469,49.4692,49.4699,49.471,49.471, 49.4706,49.4702,49.4695,49.4691,49.4687 ,49.4682,49.4678,49.4674,49.467,49.4662 ,49.4657,49.4654,49.4584)
ORBIT_NUMBER = 18877
ORBITAL_ECCENTRICITY = 0.578
ORBITAL_INCLINATION = 86.96
ORBITAL_SEMIMAJOR_AXIS = 8821.77
PERIAPSIS_ALTITUDE = 331.75
PERIAPSIS_ARGUMENT_ANGLE = 326.39
PERIAPSIS_TIME = 2018-12-03T07:45:14.000Z
SPACECRAFT_ORIENTATION = (0.0,1.0,0.0)
^MEX_ORIENTATION_DESC = "MEX_ORIENTATION_DESC.TXT"
SPACECRAFT_POINTING_MODE = NADIR
^MEX_POINTING_DESC = "MEX_POINTING_DESC.TXT"
RIGHT_ASCENSION = -1e+32
DECLINATION = -1e+32
OFFSET_ANGLE = -1e+32
SPACECRAFT_SOLAR_DISTANCE = 2.12764e+08
TARGET_NAME = MARS
/* CAMERA DATA ELEMENTS */
DETECTOR_TEMPERATURE = 17.7588
FOCAL_PLANE_TEMPERATURE = 11.0301
INST_CMPRS_NAME = "DISCRETE COSINE TRANSFORMATION (DCT)"
INST_CMPRS_RATIO = 11.2165
INST_CMPRS_QUALITY = 0
INST_CMPRS_QUANTZ_TBL_ID = 0
INSTRUMENT_TEMPERATURE = 13.4769
LENS_TEMPERATURE = 11.234
MACROPIXEL_SIZE = 4
MISSING_FRAMES = 1
PIXEL_SUBSAMPLING_FLAG = N
SIGNAL_CHAIN_ID = 2
/* RADIOMETRIC DATA ELEMENTS */
BANDWIDTH = 81.0
CENTER_FILTER_WAVELENGTH = 955.5
RADIANCE_OFFSET = 0.713285
RADIANCE_SCALING_FACTOR = 0.00349649
REFLECTANCE_SCALING_FACTOR = 0.000341475
MEX:REFLECTANCE_OFFSET = 0.069661
/* IMAGE OBJECT DEFINITIONS */
OBJECT = IMAGE
  INTERCHANGE_FORMAT = BINARY
  LINES = 6133
  LINE_SAMPLES = 1512
  SAMPLE_TYPE = UNSIGNED_INTEGER
  SAMPLE_BITS = 8
  BANDS = 1
  BAND_STORAGE_TYPE = BAND_SEQUENTIAL
  MAXIMUM = 255
  MEAN = 123.055
  MINIMUM = 1
  STANDARD_DEVIATION = 23.1688
END_OBJECT = IMAGE
/* MAP OBJECT DEFINITIONS */
OBJECT = IMAGE_MAP_PROJECTION
  ^DATA_SET_MAP_PROJECTION_CATALOG= "DSMAP.CAT"
  A_AXIS_RADIUS = 3396.0
  B_AXIS_RADIUS = 3396.0
  C_AXIS_RADIUS = 3396.0
  CENTER_LATITUDE = 0.0
  CENTER_LONGITUDE = 49.0
  COORDINATE_SYSTEM_NAME = PLANETOGRAPHIC
  COORDINATE_SYSTEM_TYPE = "BODY-FIXED ROTATING"
  EASTERNMOST_LONGITUDE = 49.4843
  FIRST_STANDARD_PARALLEL = "N/A"
  LINE_FIRST_PIXEL = 1
  LINE_LAST_PIXEL = 6133
  LINE_PROJECTION_OFFSET = -23585.125
  MAP_PROJECTION_ROTATION = 0.0
  MAP_PROJECTION_TYPE = SINUSOIDAL
  MAP_RESOLUTION = 1185.42760773333
  MAP_SCALE = 0.05
  MAXIMUM_LATITUDE = -19.8789
  MINIMUM_LATITUDE = -25.0501
  POSITIVE_LONGITUDE_DIRECTION = EAST
  REFERENCE_LATITUDE = "N/A"
  REFERENCE_LONGITUDE = "N/A"
  SAMPLE_FIRST_PIXEL = 1
  SAMPLE_LAST_PIXEL = 1512
  SAMPLE_PROJECTION_OFFSET = 999.875
  SECOND_STANDARD_PARALLEL = "N/A"
  WESTERNMOST_LONGITUDE = 48.0857
END_OBJECT = IMAGE_MAP_PROJECTION
END
