PDS_VERSION_ID = PDS3
/* FILE DATA ELEMENTS */
RECORD_TYPE = UNDEFINED
/* POINTERS TO DATA OBJECTS */
^IMAGE = ("HI877_0000_ND4.TIF")
/* IDENTIFICATION DATA ELEMENTS */
DATA_SET_ID = "MEX-M-HRSC-4-REFDR-MAPPROJECT-EXT6-V4.0"
DATA_SET_NAME = "MARS EXPRESS HRSC MAP PROJECTED REFDR EXTENSION6 V4.0"
DETECTOR_ID = MEX_HRSC_NADIR
EVENT_TYPE = "MARS-REGIONAL-MAPPING-Im-Fl"
INSTRUMENT_HOST_ID = MEX
INSTRUMENT_HOST_NAME = "MARS EXPRESS"
INSTRUMENT_ID = HRSC
INSTRUMENT_NAME = "HIGH RESOLUTION STEREO CAMERA"
MISSION_NAME = "MARS EXPRESS"
MISSION_PHASE_NAME = ME_Phase_39
PROCESSING_LEVEL_ID = 4
PRODUCT_CREATION_TIME = 2023-01-29T14:35:52.000Z
PRODUCT_ID = "HI877_0000_ND4.TIF"
RELEASE_ID = 0005
REVISION_ID = 0000
/* QUALITY DATA ELEMENTS */
DATA_QUALITY_ID = 1
DATA_QUALITY_DESC = "Data calculated based on original SPICE kernels"
/* TIME DATA ELEMENTS */
SPACECRAFT_CLOCK_START_COUNT = "1/0491903181.24889"
SPACECRAFT_CLOCK_STOP_COUNT = "1/0491903328.32565"
START_TIME = 2018-12-03T07:47:23.495Z
STOP_TIME = 2018-12-03T07:48:43.492Z
/* ORBITAL DATA ELEMENTS */
ASCENDING_NODE_LONGITUDE = 220.04
MAXIMUM_RESOLUTION = 0.0137
FOOTPRINT_POINT_LATITUDE = (-25.0679,-25.0682,-25.0685,-25.0684, -25.0681,-25.0674,-25.0659,-25.0658, -25.0654,-24.9102,-24.8067,-24.7032, -24.5998,-24.4963,-24.3929,-24.2896, -24.1862,-24.0829,-23.9795,-23.8763, -23.773,-23.6697,-23.5149,-23.4117, -23.3085,-23.2053,-23.1022,-22.9991, -22.896,-22.793,-22.69,-22.587,-22.484, -22.3811,-22.2781,-22.1752,-22.0724, -21.8667,-21.6611,-21.4556,-21.2503, -21.0451,-20.7887,-20.5837,-20.3789, -20.1742,-19.9696,-19.9184,-19.8993, -19.8994,-19.8992,-19.8988,-19.8984, -19.898,-19.8974,-19.8962,-19.8954, -19.8953,-19.8954,-20.1002,-20.3052, -20.5103,-20.7154,-20.9207,-21.1261, -21.3317,-21.5373,-21.7431,-21.846, -21.9489,-22.0519,-22.1549,-22.2579, -22.4125,-22.5156,-22.6187,-22.7218, -22.825,-22.9282,-23.0314,-23.1346, -23.2895,-23.4444,-23.5477,-23.651, -23.7544,-23.8578,-23.9612,-24.0646, -24.1681,-24.2716,-24.3751,-24.4786, -24.5822,-24.6857,-24.7893,-24.893, -24.9966,-25.0484,-25.0679)
FOOTPRINT_POINT_LONGITUDE = (49.4413,49.3117,49.0139,48.8196, 48.6772,48.4572,48.146,48.1331,48.1234, 48.1238,48.1239,48.1239,48.124,48.124, 48.124,48.1243,48.1242,48.1242,48.1242, 48.1244,48.1244,48.1242,48.1233,48.1226 ,48.1223,48.1221,48.1218,48.1216, 48.1212,48.1211,48.1212,48.1209,48.1206 ,48.1202,48.12,48.1198,48.1195,48.1181, 48.1162,48.1148,48.1145,48.1127,48.109, 48.1088,48.1071,48.1052,48.1033,48.1026 ,48.1024,48.2227,48.4902,48.7039, 48.8241,48.9444,49.0781,49.3052,49.4388 ,49.4522,49.4587,49.4584,49.4576, 49.4567,49.4563,49.4559,49.4556,49.4548 ,49.4541,49.4534,49.453,49.4526,49.4525 ,49.4524,49.4521,49.4509,49.4506, 49.4505,49.45,49.4497,49.4496,49.4494, 49.4493,49.4488,49.4489,49.4507,49.4516 ,49.4518,49.4516,49.4514,49.4511, 49.4508,49.4505,49.4501,49.4499,49.4496 ,49.4494,49.449,49.4486,49.4482,49.448, 49.4413)
ORBIT_NUMBER = 18877
ORBITAL_ECCENTRICITY = 0.578
ORBITAL_INCLINATION = 86.96
ORBITAL_SEMIMAJOR_AXIS = 8821.77
PERIAPSIS_ALTITUDE = 331.75
PERIAPSIS_ARGUMENT_ANGLE = 326.39
PERIAPSIS_TIME = 2018-12-03T07:45:14.000Z
SPACECRAFT_ORIENTATION = (0.0,1.0,0.0)
^MEX_ORIENTATION_DESC = "MEX_ORIENTATION_DESC.TXT"
SPACECRAFT_POINTING_MODE = NADIR
^MEX_POINTING_DESC = "MEX_POINTING_DESC.TXT"
RIGHT_ASCENSION = -1e+32
DECLINATION = -1e+32
OFFSET_ANGLE = -1e+32
SPACECRAFT_SOLAR_DISTANCE = 2.12764e+08
TARGET_NAME = MARS
/* CAMERA DATA ELEMENTS */
DETECTOR_TEMPERATURE = 18.9822
FOCAL_PLANE_TEMPERATURE = 11.0301
INST_CMPRS_NAME = "DISCRETE COSINE TRANSFORMATION (DCT)"
INST_CMPRS_RATIO = 6.13446
INST_CMPRS_QUALITY = 0
INST_CMPRS_QUANTZ_TBL_ID = 0
INSTRUMENT_TEMPERATURE = 13.4769
LENS_TEMPERATURE = 11.234
MACROPIXEL_SIZE = 1
MISSING_FRAMES = 0
PIXEL_SUBSAMPLING_FLAG = N
SIGNAL_CHAIN_ID = 0
/* RADIOMETRIC DATA ELEMENTS */
BANDWIDTH = 177.0
CENTER_FILTER_WAVELENGTH = 677.5
RADIANCE_OFFSET = 2.94087
RADIANCE_SCALING_FACTOR = 0.0142788
REFLECTANCE_SCALING_FACTOR = 0.000343377
MEX:REFLECTANCE_OFFSET = 0.0707225
/* IMAGE OBJECT DEFINITIONS */
OBJECT = IMAGE
  INTERCHANGE_FORMAT = BINARY
  LINES = 24530
  LINE_SAMPLES = 6048
  SAMPLE_TYPE = UNSIGNED_INTEGER
  SAMPLE_BITS = 8
  BANDS = 1
  BAND_STORAGE_TYPE = BAND_SEQUENTIAL
  MAXIMUM = 255
  MEAN = 139.024
  MINIMUM = 1
  STANDARD_DEVIATION = 20.6941
END_OBJECT = IMAGE
/* MAP OBJECT DEFINITIONS */
OBJECT = IMAGE_MAP_PROJECTION
  ^DATA_SET_MAP_PROJECTION_CATALOG= "DSMAP.CAT"
  A_AXIS_RADIUS = 3396.0
  B_AXIS_RADIUS = 3396.0
  C_AXIS_RADIUS = 3396.0
  CENTER_LATITUDE = 0.0
  CENTER_LONGITUDE = 49.0
  COORDINATE_SYSTEM_NAME = PLANETOGRAPHIC
  COORDINATE_SYSTEM_TYPE = "BODY-FIXED ROTATING"
  EASTERNMOST_LONGITUDE = 49.4587
  FIRST_STANDARD_PARALLEL = "N/A"
  LINE_FIRST_PIXEL = 1
  LINE_LAST_PIXEL = 24530
  LINE_PROJECTION_OFFSET = -94339.0
  MAP_PROJECTION_ROTATION = 0.0
  MAP_PROJECTION_TYPE = SINUSOIDAL
  MAP_RESOLUTION = 4741.71043093333
  MAP_SCALE = 0.0125
  MAXIMUM_LATITUDE = -19.8953
  MINIMUM_LATITUDE = -25.0685
  POSITIVE_LONGITUDE_DIRECTION = EAST
  REFERENCE_LATITUDE = "N/A"
  REFERENCE_LONGITUDE = "N/A"
  SAMPLE_FIRST_PIXEL = 1
  SAMPLE_LAST_PIXEL = 6048
  SAMPLE_PROJECTION_OFFSET = 4001.0
  SECOND_STANDARD_PARALLEL = "N/A"
  WESTERNMOST_LONGITUDE = 48.1024
END_OBJECT = IMAGE_MAP_PROJECTION
END
