PDS_VERSION_ID = PDS3
/* FILE DATA ELEMENTS */
RECORD_TYPE = UNDEFINED
/* POINTERS TO DATA OBJECTS */
^IMAGE = ("HI877_0000_P14.TIF")
/* IDENTIFICATION DATA ELEMENTS */
DATA_SET_ID = "MEX-M-HRSC-4-REFDR-MAPPROJECT-EXT6-V4.0"
DATA_SET_NAME = "MARS EXPRESS HRSC MAP PROJECTED REFDR EXTENSION6 V4.0"
DETECTOR_ID = MEX_HRSC_P1
EVENT_TYPE = "MARS-REGIONAL-MAPPING-Im-Fl"
INSTRUMENT_HOST_ID = MEX
INSTRUMENT_HOST_NAME = "MARS EXPRESS"
INSTRUMENT_ID = HRSC
INSTRUMENT_NAME = "HIGH RESOLUTION STEREO CAMERA"
MISSION_NAME = "MARS EXPRESS"
MISSION_PHASE_NAME = ME_Phase_39
PROCESSING_LEVEL_ID = 4
PRODUCT_CREATION_TIME = 2023-01-29T14:35:52.000Z
PRODUCT_ID = "HI877_0000_P14.TIF"
RELEASE_ID = 0005
REVISION_ID = 0000
/* QUALITY DATA ELEMENTS */
DATA_QUALITY_ID = 1
DATA_QUALITY_DESC = "Data calculated based on original SPICE kernels"
/* TIME DATA ELEMENTS */
SPACECRAFT_CLOCK_START_COUNT = "1/0491903181.24889"
SPACECRAFT_CLOCK_STOP_COUNT = "1/0491903328.32565"
START_TIME = 2018-12-03T07:47:44.129Z
STOP_TIME = 2018-12-03T07:49:06.023Z
/* ORBITAL DATA ELEMENTS */
ASCENDING_NODE_LONGITUDE = 220.04
MAXIMUM_RESOLUTION = 0.0286
FOOTPRINT_POINT_LATITUDE = (-25.0521,-25.0523,-25.0526,-25.0526, -25.0525,-25.0522,-25.0518,-25.0514, -25.0514,-25.0578,-24.9067,-24.8064, -24.7062,-24.6059,-24.4555,-24.3551, -24.2044,-24.054,-23.9538,-23.8032, -23.6529,-23.4048,-23.2559,-23.1563, -23.0068,-22.857,-22.757,-22.6069, -22.5073,-22.4078,-22.2583,-22.1588, -22.0588,-21.862,-21.7139,-21.5657, -21.4173,-21.3177,-21.1682,-21.0223, -20.8154,-20.6975,-20.5776,-20.4011, -20.2838,-20.1668,-19.991,-19.9323, -19.888,-19.8879,-19.8876,-19.8873, -19.8869,-19.8864,-19.8857,-19.8849, -19.8844,-19.8833,-19.8824,-19.8824, -19.8828,-20.0002,-20.1764,-20.2935, -20.4693,-20.5871,-20.7052,-20.8231, -20.9809,-21.1295,-21.2776,-21.4753, -21.7227,-21.9702,-22.1691,-22.3171, -22.5164,-22.6657,-22.865,-22.9649, -23.0651,-23.1649,-23.2653,-23.3661, -23.5194,-23.6215,-23.7733,-23.8735, -24.0238,-24.1239,-24.2743,-24.3746, -24.4749,-24.5754,-24.676,-24.7763, -24.8766,-24.977,-25.0273,-25.0521)
FOOTPRINT_POINT_LONGITUDE = (49.4544,49.3251,49.0536,48.8595, 48.7173,48.5106,48.3036,48.1354,48.1224 ,48.1147,48.115,48.1148,48.1147,48.1146 ,48.1145,48.1144,48.1144,48.1143, 48.1142,48.1141,48.1139,48.1123,48.1114 ,48.1109,48.1103,48.1098,48.1096, 48.1093,48.1089,48.1084,48.1078,48.1073 ,48.1071,48.105,48.1038,48.1026,48.1014 ,48.101,48.1005,48.0982,48.0952,48.0943 ,48.0943,48.0928,48.0916,48.0903, 48.0884,48.0879,48.0874,48.2215,48.3562 ,48.464,48.5716,48.6793,48.8408,49.0428 ,49.1505,49.3389,49.4601,49.4736, 49.4784,49.478,49.4773,49.4766,49.4756, 49.4752,49.4749,49.4745,49.4739,49.4735 ,49.4728,49.4718,49.4706,49.4694, 49.4687,49.4675,49.4669,49.4663,49.4655 ,49.4652,49.465,49.4646,49.4645,49.4646 ,49.4657,49.4664,49.4666,49.4663, 49.4657,49.4653,49.4647,49.4642,49.4638 ,49.4634,49.4631,49.4626,49.4621, 49.4616,49.4614,49.4544)
ORBIT_NUMBER = 18877
ORBITAL_ECCENTRICITY = 0.578
ORBITAL_INCLINATION = 86.96
ORBITAL_SEMIMAJOR_AXIS = 8821.77
PERIAPSIS_ALTITUDE = 331.75
PERIAPSIS_ARGUMENT_ANGLE = 326.39
PERIAPSIS_TIME = 2018-12-03T07:45:14.000Z
SPACECRAFT_ORIENTATION = (0.0,1.0,0.0)
^MEX_ORIENTATION_DESC = "MEX_ORIENTATION_DESC.TXT"
SPACECRAFT_POINTING_MODE = NADIR
^MEX_POINTING_DESC = "MEX_POINTING_DESC.TXT"
RIGHT_ASCENSION = -1e+32
DECLINATION = -1e+32
OFFSET_ANGLE = -1e+32
SPACECRAFT_SOLAR_DISTANCE = 2.12764e+08
TARGET_NAME = MARS
/* CAMERA DATA ELEMENTS */
DETECTOR_TEMPERATURE = 17.7588
FOCAL_PLANE_TEMPERATURE = 11.0301
INST_CMPRS_NAME = "DISCRETE COSINE TRANSFORMATION (DCT)"
INST_CMPRS_RATIO = 8.63758
INST_CMPRS_QUALITY = 0
INST_CMPRS_QUANTZ_TBL_ID = 0
INSTRUMENT_TEMPERATURE = 13.4769
LENS_TEMPERATURE = 11.234
MACROPIXEL_SIZE = 2
MISSING_FRAMES = 0
PIXEL_SUBSAMPLING_FLAG = N
SIGNAL_CHAIN_ID = 3
/* RADIOMETRIC DATA ELEMENTS */
BANDWIDTH = 174.0
CENTER_FILTER_WAVELENGTH = 675.0
RADIANCE_OFFSET = 3.29808
RADIANCE_SCALING_FACTOR = 0.0138847
REFLECTANCE_SCALING_FACTOR = 0.000338079
MEX:REFLECTANCE_OFFSET = 0.0803053
/* IMAGE OBJECT DEFINITIONS */
OBJECT = IMAGE
  INTERCHANGE_FORMAT = BINARY
  LINES = 12265
  LINE_SAMPLES = 3024
  SAMPLE_TYPE = UNSIGNED_INTEGER
  SAMPLE_BITS = 8
  BANDS = 1
  BAND_STORAGE_TYPE = BAND_SEQUENTIAL
  MAXIMUM = 255
  MEAN = 138.878
  MINIMUM = 1
  STANDARD_DEVIATION = 21.4383
END_OBJECT = IMAGE
/* MAP OBJECT DEFINITIONS */
OBJECT = IMAGE_MAP_PROJECTION
  ^DATA_SET_MAP_PROJECTION_CATALOG= "DSMAP.CAT"
  A_AXIS_RADIUS = 3396.0
  B_AXIS_RADIUS = 3396.0
  C_AXIS_RADIUS = 3396.0
  CENTER_LATITUDE = 0.0
  CENTER_LONGITUDE = 49.0
  COORDINATE_SYSTEM_NAME = PLANETOGRAPHIC
  COORDINATE_SYSTEM_TYPE = "BODY-FIXED ROTATING"
  EASTERNMOST_LONGITUDE = 49.4784
  FIRST_STANDARD_PARALLEL = "N/A"
  LINE_FIRST_PIXEL = 1
  LINE_LAST_PIXEL = 12265
  LINE_PROJECTION_OFFSET = -47169.75
  MAP_PROJECTION_ROTATION = 0.0
  MAP_PROJECTION_TYPE = SINUSOIDAL
  MAP_RESOLUTION = 2370.85521546667
  MAP_SCALE = 0.025
  MAXIMUM_LATITUDE = -19.8824
  MINIMUM_LATITUDE = -25.0578
  POSITIVE_LONGITUDE_DIRECTION = EAST
  REFERENCE_LATITUDE = "N/A"
  REFERENCE_LONGITUDE = "N/A"
  SAMPLE_FIRST_PIXEL = 1
  SAMPLE_LAST_PIXEL = 3024
  SAMPLE_PROJECTION_OFFSET = 2000.25
  SECOND_STANDARD_PARALLEL = "N/A"
  WESTERNMOST_LONGITUDE = 48.0874
END_OBJECT = IMAGE_MAP_PROJECTION
END
