PDS_VERSION_ID = PDS3
/* FILE DATA ELEMENTS */
RECORD_TYPE = UNDEFINED
/* POINTERS TO DATA OBJECTS */
^IMAGE = ("HI883_0000_GR4.TIF")
/* IDENTIFICATION DATA ELEMENTS */
DATA_SET_ID = "MEX-M-HRSC-4-REFDR-MAPPROJECT-EXT6-V4.0"
DATA_SET_NAME = "MARS EXPRESS HRSC MAP PROJECTED REFDR EXTENSION6 V4.0"
DETECTOR_ID = MEX_HRSC_GREEN
EVENT_TYPE = "MARS-REGIONAL-MAPPING-Vo-Fl-Eo"
INSTRUMENT_HOST_ID = MEX
INSTRUMENT_HOST_NAME = "MARS EXPRESS"
INSTRUMENT_ID = HRSC
INSTRUMENT_NAME = "HIGH RESOLUTION STEREO CAMERA"
MISSION_NAME = "MARS EXPRESS"
MISSION_PHASE_NAME = ME_Phase_39
PROCESSING_LEVEL_ID = 4
PRODUCT_CREATION_TIME = 2023-01-29T14:35:52.000Z
PRODUCT_ID = "HI883_0000_GR4.TIF"
RELEASE_ID = 0005
REVISION_ID = 0000
/* QUALITY DATA ELEMENTS */
DATA_QUALITY_ID = 1
DATA_QUALITY_DESC = "Data calculated based on original SPICE kernels"
/* TIME DATA ELEMENTS */
SPACECRAFT_CLOCK_START_COUNT = "1/0492053775.25695"
SPACECRAFT_CLOCK_STOP_COUNT = "1/0492053991.41945"
START_TIME = 2018-12-05T01:37:24.269Z
STOP_TIME = 2018-12-05T01:39:56.244Z
/* ORBITAL DATA ELEMENTS */
ASCENDING_NODE_LONGITUDE = 219.92
MAXIMUM_RESOLUTION = 0.0529
FOOTPRINT_POINT_LATITUDE = (-41.9429,-41.9354,-41.9259,-41.9105, -41.9101,-41.9162,-41.7148,-41.5132, -41.3116,-41.11,-40.9082,-40.6056, -40.4037,-40.2019,-39.8989,-39.5959, -39.3939,-39.1983,-38.9048,-38.709, -38.4161,-38.2202,-38.0241,-37.8283, -37.6325,-37.4368,-37.1432,-36.9473, -36.7515,-36.4586,-36.2628,-35.9683, -35.7722,-35.5765,-35.3807,-35.185, -34.9891,-34.6954,-34.4997,-34.304, -34.1083,-33.9126,-33.7169,-33.4234, -33.1299,-32.9343,-32.7387,-32.5431, -32.3475,-32.152,-32.0542,-31.9923, -31.9953,-31.9991,-32.0031,-32.0053, -32.0054,-32.0062,-32.3,-32.5938, -32.7896,-32.9856,-33.1815,-33.4754, -33.7693,-33.9653,-34.2591,-34.4553, -34.6514,-34.8476,-35.0443,-35.3384, -35.5348,-35.7309,-36.0252,-36.2213, -36.5155,-36.7117,-36.9079,-37.2023, -37.4966,-37.7908,-38.085,-38.2811, -38.4777,-38.7724,-38.9685,-39.1644, -39.3597,-39.5598,-39.7622,-39.9646, -40.2683,-40.5717,-40.8752,-41.1786, -41.4816,-41.7847,-41.8858,-41.9429)
FOOTPRINT_POINT_LONGITUDE = (155.916,155.45,154.979,154.352,154.337 ,154.297,154.31,154.322,154.335,154.347 ,154.359,154.377,154.389,154.4,154.417, 154.434,154.445,154.455,154.471,154.481 ,154.493,154.503,154.515,154.524, 154.533,154.541,154.554,154.562,154.57, 154.579,154.587,154.601,154.61,154.617, 154.624,154.631,154.638,154.648,154.654 ,154.66,154.666,154.672,154.678,154.686 ,154.695,154.7,154.705,154.71,154.715, 154.721,154.723,154.725,154.945,155.228 ,155.675,156.08,156.093,156.097,156.093 ,156.089,156.086,156.084,156.081, 156.077,156.073,156.07,156.065,156.062, 156.059,156.057,156.054,156.049,156.046 ,156.043,156.038,156.035,156.03,156.026 ,156.023,156.018,156.012,156.007, 156.002,155.998,155.994,155.989,155.985 ,155.981,155.977,155.972,155.968, 155.964,155.957,155.951,155.944,155.937 ,155.93,155.923,155.92,155.916)
ORBIT_NUMBER = 18883
ORBITAL_ECCENTRICITY = 0.578
ORBITAL_INCLINATION = 86.96
ORBITAL_SEMIMAJOR_AXIS = 8816.34
PERIAPSIS_ALTITUDE = 332.17
PERIAPSIS_ARGUMENT_ANGLE = 325.37
PERIAPSIS_TIME = 2018-12-05T01:39:12.000Z
SPACECRAFT_ORIENTATION = (0.0,1.0,0.0)
^MEX_ORIENTATION_DESC = "MEX_ORIENTATION_DESC.TXT"
SPACECRAFT_POINTING_MODE = ACROSSTRACK
^MEX_POINTING_DESC = "MEX_POINTING_DESC.TXT"
RIGHT_ASCENSION = -1e+32
DECLINATION = -1e+32
OFFSET_ANGLE = 0.458
SPACECRAFT_SOLAR_DISTANCE = 2.13021e+08
TARGET_NAME = MARS
/* CAMERA DATA ELEMENTS */
DETECTOR_TEMPERATURE = 18.5744
FOCAL_PLANE_TEMPERATURE = 9.6028
INST_CMPRS_NAME = "DISCRETE COSINE TRANSFORMATION (DCT)"
INST_CMPRS_RATIO = 11.2957
INST_CMPRS_QUALITY = 0
INST_CMPRS_QUANTZ_TBL_ID = 0
INSTRUMENT_TEMPERATURE = 11.6418
LENS_TEMPERATURE = 10.2145
MACROPIXEL_SIZE = 4
MISSING_FRAMES = 0
PIXEL_SUBSAMPLING_FLAG = N
SIGNAL_CHAIN_ID = 2
/* RADIOMETRIC DATA ELEMENTS */
BANDWIDTH = 88.0
CENTER_FILTER_WAVELENGTH = 538.0
RADIANCE_OFFSET = 1.39428
RADIANCE_SCALING_FACTOR = 0.00522293
REFLECTANCE_SCALING_FACTOR = 0.000204055
MEX:REFLECTANCE_OFFSET = 0.0544731
/* IMAGE OBJECT DEFINITIONS */
OBJECT = IMAGE
  INTERCHANGE_FORMAT = BINARY
  LINES = 11797
  LINE_SAMPLES = 1732
  SAMPLE_TYPE = UNSIGNED_INTEGER
  SAMPLE_BITS = 8
  BANDS = 1
  BAND_STORAGE_TYPE = BAND_SEQUENTIAL
  MAXIMUM = 255
  MEAN = 154.453
  MINIMUM = 1
  STANDARD_DEVIATION = 24.2181
END_OBJECT = IMAGE
/* MAP OBJECT DEFINITIONS */
OBJECT = IMAGE_MAP_PROJECTION
  ^DATA_SET_MAP_PROJECTION_CATALOG= "DSMAP.CAT"
  A_AXIS_RADIUS = 3396.0
  B_AXIS_RADIUS = 3396.0
  C_AXIS_RADIUS = 3396.0
  CENTER_LATITUDE = 0.0
  CENTER_LONGITUDE = 155.0
  COORDINATE_SYSTEM_NAME = PLANETOGRAPHIC
  COORDINATE_SYSTEM_TYPE = "BODY-FIXED ROTATING"
  EASTERNMOST_LONGITUDE = 156.097
  FIRST_STANDARD_PARALLEL = "N/A"
  LINE_FIRST_PIXEL = 1
  LINE_LAST_PIXEL = 11797
  LINE_PROJECTION_OFFSET = -37928.125
  MAP_PROJECTION_ROTATION = 0.0
  MAP_PROJECTION_TYPE = SINUSOIDAL
  MAP_RESOLUTION = 1185.42760773333
  MAP_SCALE = 0.05
  MAXIMUM_LATITUDE = -31.9923
  MINIMUM_LATITUDE = -41.9429
  POSITIVE_LONGITUDE_DIRECTION = EAST
  REFERENCE_LATITUDE = "N/A"
  REFERENCE_LONGITUDE = "N/A"
  SAMPLE_FIRST_PIXEL = 1
  SAMPLE_LAST_PIXEL = 1732
  SAMPLE_PROJECTION_OFFSET = 628.875
  SECOND_STANDARD_PARALLEL = "N/A"
  WESTERNMOST_LONGITUDE = 154.297
END_OBJECT = IMAGE_MAP_PROJECTION
END
