PDS_VERSION_ID = PDS3
/* FILE DATA ELEMENTS */
RECORD_TYPE = UNDEFINED
/* POINTERS TO DATA OBJECTS */
^IMAGE = ("HI891_0000_ND4.TIF")
/* IDENTIFICATION DATA ELEMENTS */
DATA_SET_ID = "MEX-M-HRSC-4-REFDR-MAPPROJECT-EXT6-V4.0"
DATA_SET_NAME = "MARS EXPRESS HRSC MAP PROJECTED REFDR EXTENSION6 V4.0"
DETECTOR_ID = MEX_HRSC_NADIR
EVENT_TYPE = "MARS-REGIONAL-STEREO-Gl-Pf-La"
INSTRUMENT_HOST_ID = MEX
INSTRUMENT_HOST_NAME = "MARS EXPRESS"
INSTRUMENT_ID = HRSC
INSTRUMENT_NAME = "HIGH RESOLUTION STEREO CAMERA"
MISSION_NAME = "MARS EXPRESS"
MISSION_PHASE_NAME = ME_Phase_39
PROCESSING_LEVEL_ID = 4
PRODUCT_CREATION_TIME = 2023-01-29T14:35:52.000Z
PRODUCT_ID = "HI891_0000_ND4.TIF"
RELEASE_ID = 0005
REVISION_ID = 0000
/* QUALITY DATA ELEMENTS */
DATA_QUALITY_ID = 1
DATA_QUALITY_DESC = "Data calculated based on original SPICE kernels"
/* TIME DATA ELEMENTS */
SPACECRAFT_CLOCK_START_COUNT = "1/0492254861.24549"
SPACECRAFT_CLOCK_STOP_COUNT = "1/0492255102.04886"
START_TIME = 2018-12-07T09:28:45.544Z
STOP_TIME = 2018-12-07T09:29:35.614Z
/* ORBITAL DATA ELEMENTS */
ASCENDING_NODE_LONGITUDE = 219.78
MAXIMUM_RESOLUTION = 0.0138
FOOTPRINT_POINT_LATITUDE = (-44.6148,-44.6137,-44.6128,-44.6118, -44.6105,-44.6091,-44.6076,-44.6059, -44.6041,-44.6021,-44.6,-44.5978, -44.5954,-44.5951,-44.5948,-44.4652, -44.3355,-44.2058,-44.0761,-43.9463, -43.8165,-43.6866,-43.5568,-43.4269, -43.2969,-43.167,-43.037,-42.9069, -42.7769,-42.6468,-42.5167,-42.3865, -42.2564,-42.1262,-42.0611,-41.996, -41.9309,-41.8657,-41.8006,-41.7355, -41.6703,-41.6052,-41.54,-41.4749, -41.3771,-41.3445,-41.3355,-41.3373, -41.3397,-41.3415,-41.3427,-41.3439, -41.3451,-41.3464,-41.347,-41.3476, -41.3486,-41.349,-41.3493,-41.3493, -41.3495,-41.4148,-41.4801,-41.5454, -41.6106,-41.6759,-41.7738,-41.839, -41.9043,-41.9695,-42.0348,-42.1, -42.1652,-42.2304,-42.2956,-42.3608, -42.426,-42.5238,-42.589,-42.6542, -42.7193,-42.7845,-42.8497,-42.9148, -42.9799,-43.0451,-43.1102,-43.273, -43.4032,-43.5334,-43.6635,-43.7936, -43.9237,-44.0537,-44.1838,-44.3138, -44.4437,-44.5736,-44.6061,-44.6148)
FOOTPRINT_POINT_LONGITUDE = (60.5426,60.3365,60.2001,60.0643,59.929 ,59.7944,59.6605,59.5273,59.3948, 59.2627,59.1313,59.0002,58.8699,58.8536 ,58.8538,58.8599,58.866,58.872,58.878, 58.8838,58.8895,58.8953,58.9009,58.9064 ,58.9119,58.9173,58.9227,58.9279, 58.9331,58.9383,58.9433,58.9483,58.9532 ,58.9581,58.9605,58.9628,58.9652, 58.9675,58.9697,58.9721,58.9744,58.9767 ,58.979,58.9812,58.9846,58.9856,58.9859 ,59.1115,59.2856,59.4285,59.5402, 59.6525,59.7812,59.9431,60.0413,60.1398 ,60.3538,60.4863,60.6028,60.6195, 60.6276,60.6277,60.6279,60.6282,60.6277 ,60.6278,60.6289,60.629,60.629,60.6288, 60.6287,60.6288,60.6289,60.6293,60.6296 ,60.6294,60.6295,60.6306,60.6314, 60.6317,60.6319,60.6318,60.6319,60.6321 ,60.6318,60.6319,60.632,60.6329,60.6335 ,60.6336,60.6335,60.6339,60.6346, 60.6351,60.6349,60.6351,60.6353,60.6357 ,60.6357,60.5426)
ORBIT_NUMBER = 18891
ORBITAL_ECCENTRICITY = 0.578
ORBITAL_INCLINATION = 86.97
ORBITAL_SEMIMAJOR_AXIS = 8817.04
PERIAPSIS_ALTITUDE = 330.83
PERIAPSIS_ARGUMENT_ANGLE = 323.98
PERIAPSIS_TIME = 2018-12-07T09:30:58.000Z
SPACECRAFT_ORIENTATION = (0.0,1.0,0.0)
^MEX_ORIENTATION_DESC = "MEX_ORIENTATION_DESC.TXT"
SPACECRAFT_POINTING_MODE = ACROSSTRACK
^MEX_POINTING_DESC = "MEX_POINTING_DESC.TXT"
RIGHT_ASCENSION = -1e+32
DECLINATION = -1e+32
OFFSET_ANGLE = -0.7
SPACECRAFT_SOLAR_DISTANCE = 2.1337e+08
TARGET_NAME = MARS
/* CAMERA DATA ELEMENTS */
DETECTOR_TEMPERATURE = 0.0
FOCAL_PLANE_TEMPERATURE = 0.0
INST_CMPRS_NAME = "DISCRETE COSINE TRANSFORMATION (DCT)"
INST_CMPRS_RATIO = 7.65781
INST_CMPRS_QUALITY = 0
INST_CMPRS_QUANTZ_TBL_ID = 0
INSTRUMENT_TEMPERATURE = 0.0
LENS_TEMPERATURE = 0.0
MACROPIXEL_SIZE = 1
MISSING_FRAMES = 0
PIXEL_SUBSAMPLING_FLAG = N
SIGNAL_CHAIN_ID = 0
/* RADIOMETRIC DATA ELEMENTS */
BANDWIDTH = 177.0
CENTER_FILTER_WAVELENGTH = 677.5
RADIANCE_OFFSET = 7.3531
RADIANCE_SCALING_FACTOR = 0.0140059
REFLECTANCE_SCALING_FACTOR = 0.000338736
MEX:REFLECTANCE_OFFSET = 0.177836
/* IMAGE OBJECT DEFINITIONS */
OBJECT = IMAGE
  INTERCHANGE_FORMAT = BINARY
  LINES = 15552
  LINE_SAMPLES = 6106
  SAMPLE_TYPE = UNSIGNED_INTEGER
  SAMPLE_BITS = 8
  BANDS = 1
  BAND_STORAGE_TYPE = BAND_SEQUENTIAL
  MAXIMUM = 254
  MEAN = 185.479
  MINIMUM = 1
  STANDARD_DEVIATION = 24.4158
END_OBJECT = IMAGE
/* MAP OBJECT DEFINITIONS */
OBJECT = IMAGE_MAP_PROJECTION
  ^DATA_SET_MAP_PROJECTION_CATALOG= "DSMAP.CAT"
  A_AXIS_RADIUS = 3396.0
  B_AXIS_RADIUS = 3396.0
  C_AXIS_RADIUS = 3396.0
  CENTER_LATITUDE = 0.0
  CENTER_LONGITUDE = 60.0
  COORDINATE_SYSTEM_NAME = PLANETOGRAPHIC
  COORDINATE_SYSTEM_TYPE = "BODY-FIXED ROTATING"
  EASTERNMOST_LONGITUDE = 60.6357
  FIRST_STANDARD_PARALLEL = "N/A"
  LINE_FIRST_PIXEL = 1
  LINE_LAST_PIXEL = 15552
  LINE_PROJECTION_OFFSET = -196002.0
  MAP_PROJECTION_ROTATION = 0.0
  MAP_PROJECTION_TYPE = SINUSOIDAL
  MAP_RESOLUTION = 4741.71043093333
  MAP_SCALE = 0.0125
  MAXIMUM_LATITUDE = -41.3355
  MINIMUM_LATITUDE = -44.6148
  POSITIVE_LONGITUDE_DIRECTION = EAST
  REFERENCE_LATITUDE = "N/A"
  REFERENCE_LONGITUDE = "N/A"
  SAMPLE_FIRST_PIXEL = 1
  SAMPLE_LAST_PIXEL = 6106
  SAMPLE_PROJECTION_OFFSET = 3870.0
  SECOND_STANDARD_PARALLEL = "N/A"
  WESTERNMOST_LONGITUDE = 58.8536
END_OBJECT = IMAGE_MAP_PROJECTION
END
