PDS_VERSION_ID = PDS3
/* FILE DATA ELEMENTS */
RECORD_TYPE = UNDEFINED
/* POINTERS TO DATA OBJECTS */
^IMAGE = ("HI894_0000_GR4.TIF")
/* IDENTIFICATION DATA ELEMENTS */
DATA_SET_ID = "MEX-M-HRSC-4-REFDR-MAPPROJECT-EXT6-V4.0"
DATA_SET_NAME = "MARS EXPRESS HRSC MAP PROJECTED REFDR EXTENSION6 V4.0"
DETECTOR_ID = MEX_HRSC_GREEN
EVENT_TYPE = "MARS-REGIONAL-MAPPING-Vo-Im"
INSTRUMENT_HOST_ID = MEX
INSTRUMENT_HOST_NAME = "MARS EXPRESS"
INSTRUMENT_ID = HRSC
INSTRUMENT_NAME = "HIGH RESOLUTION STEREO CAMERA"
MISSION_NAME = "MARS EXPRESS"
MISSION_PHASE_NAME = ME_Phase_39
PROCESSING_LEVEL_ID = 4
PRODUCT_CREATION_TIME = 2023-01-29T14:35:52.000Z
PRODUCT_ID = "HI894_0000_GR4.TIF"
RELEASE_ID = 0005
REVISION_ID = 0000
/* QUALITY DATA ELEMENTS */
DATA_QUALITY_ID = 1
DATA_QUALITY_DESC = "Data calculated based on original SPICE kernels"
/* TIME DATA ELEMENTS */
SPACECRAFT_CLOCK_START_COUNT = "1/0492330370.23948"
SPACECRAFT_CLOCK_STOP_COUNT = "1/0492330585.46990"
START_TIME = 2018-12-08T06:27:17.179Z
STOP_TIME = 2018-12-08T06:29:49.402Z
/* ORBITAL DATA ELEMENTS */
ASCENDING_NODE_LONGITUDE = 219.72
MAXIMUM_RESOLUTION = 0.0526
FOOTPRINT_POINT_LATITUDE = (-38.8994,-38.8908,-38.8831,-38.8757, -38.8754,-38.8804,-38.6827,-38.4851, -38.2871,-38.0892,-37.7927,-37.595, -37.3972,-37.1995,-37.0018,-36.8041, -36.6063,-36.3097,-36.0131,-35.8153, -35.6177,-35.42,-35.2225,-35.0249, -34.8273,-34.6298,-34.3335,-34.136, -33.8397,-33.5438,-33.3465,-33.1492, -32.9519,-32.7547,-32.5576,-32.3605, -32.1634,-31.9664,-31.7695,-31.4743, -31.2774,-31.0806,-30.6873,-30.2942, -29.9015,-29.5976,-29.395,-29.0911, -28.9898,-28.9435,-28.9471,-28.9495, -28.9511,-28.9512,-28.952,-29.2564, -29.4594,-29.6625,-29.8656,-30.0633, -30.4566,-30.8504,-31.0473,-31.3429, -31.54,-31.7372,-31.9346,-32.1319, -32.3293,-32.5266,-32.7241,-32.9216, -33.119,-33.3166,-33.5143,-33.8108, -34.0086,-34.3053,-34.5031,-34.7999, -34.9978,-35.1958,-35.3937,-35.6904, -35.8888,-36.0868,-36.384,-36.5821, -36.7802,-36.9783,-37.2755,-37.5726, -37.7707,-37.9687,-38.1666,-38.3662, -38.5647,-38.7626,-38.8621,-38.8994)
FOOTPRINT_POINT_LONGITUDE = (112.945,112.299,111.865,111.51,111.497 ,111.47,111.479,111.487,111.496,111.505 ,111.516,111.524,111.531,111.538, 111.545,111.552,111.56,111.57,111.58, 111.587,111.593,111.599,111.605,111.611 ,111.616,111.622,111.63,111.635,111.643 ,111.65,111.655,111.66,111.664,111.668, 111.673,111.677,111.681,111.684,111.688 ,111.693,111.697,111.7,111.707,111.712, 111.718,111.721,111.724,111.727,111.728 ,111.729,112.133,112.524,113.062, 113.075,113.079,113.076,113.074,113.072 ,113.07,113.069,113.064,113.06,113.058, 113.055,113.053,113.051,113.049,113.047 ,113.045,113.043,113.04,113.038,113.036 ,113.033,113.031,113.027,113.025, 113.021,113.019,113.015,113.013,113.01, 113.007,113.003,113.001,112.998,112.994 ,112.991,112.988,112.985,112.981, 112.976,112.973,112.97,112.966,112.965, 112.962,112.958,112.957,112.945)
ORBIT_NUMBER = 18894
ORBITAL_ECCENTRICITY = 0.578
ORBITAL_INCLINATION = 86.96
ORBITAL_SEMIMAJOR_AXIS = 8817.54
PERIAPSIS_ALTITUDE = 330.6
PERIAPSIS_ARGUMENT_ANGLE = 323.45
PERIAPSIS_TIME = 2018-12-08T06:27:50.000Z
SPACECRAFT_ORIENTATION = (0.0,1.0,0.0)
^MEX_ORIENTATION_DESC = "MEX_ORIENTATION_DESC.TXT"
SPACECRAFT_POINTING_MODE = ACROSSTRACK
^MEX_POINTING_DESC = "MEX_POINTING_DESC.TXT"
RIGHT_ASCENSION = -1e+32
DECLINATION = -1e+32
OFFSET_ANGLE = 0.229
SPACECRAFT_SOLAR_DISTANCE = 2.13503e+08
TARGET_NAME = MARS
/* CAMERA DATA ELEMENTS */
DETECTOR_TEMPERATURE = 18.1666
FOCAL_PLANE_TEMPERATURE = 10.2145
INST_CMPRS_NAME = "DISCRETE COSINE TRANSFORMATION (DCT)"
INST_CMPRS_RATIO = 9.6898
INST_CMPRS_QUALITY = 0
INST_CMPRS_QUANTZ_TBL_ID = 0
INSTRUMENT_TEMPERATURE = 12.2535
LENS_TEMPERATURE = 10.4184
MACROPIXEL_SIZE = 4
MISSING_FRAMES = 0
PIXEL_SUBSAMPLING_FLAG = N
SIGNAL_CHAIN_ID = 2
/* RADIOMETRIC DATA ELEMENTS */
BANDWIDTH = 88.0
CENTER_FILTER_WAVELENGTH = 538.0
RADIANCE_OFFSET = 1.53995
RADIANCE_SCALING_FACTOR = 0.00620223
REFLECTANCE_SCALING_FACTOR = 0.000243413
MEX:REFLECTANCE_OFFSET = 0.060437
/* IMAGE OBJECT DEFINITIONS */
OBJECT = IMAGE
  INTERCHANGE_FORMAT = BINARY
  LINES = 11806
  LINE_SAMPLES = 1615
  SAMPLE_TYPE = UNSIGNED_INTEGER
  SAMPLE_BITS = 8
  BANDS = 1
  BAND_STORAGE_TYPE = BAND_SEQUENTIAL
  MAXIMUM = 255
  MEAN = 151.271
  MINIMUM = 1
  STANDARD_DEVIATION = 33.0126
END_OBJECT = IMAGE
/* MAP OBJECT DEFINITIONS */
OBJECT = IMAGE_MAP_PROJECTION
  ^DATA_SET_MAP_PROJECTION_CATALOG= "DSMAP.CAT"
  A_AXIS_RADIUS = 3396.0
  B_AXIS_RADIUS = 3396.0
  C_AXIS_RADIUS = 3396.0
  CENTER_LATITUDE = 0.0
  CENTER_LONGITUDE = 112.0
  COORDINATE_SYSTEM_NAME = PLANETOGRAPHIC
  COORDINATE_SYSTEM_TYPE = "BODY-FIXED ROTATING"
  EASTERNMOST_LONGITUDE = 113.079
  FIRST_STANDARD_PARALLEL = "N/A"
  LINE_FIRST_PIXEL = 1
  LINE_LAST_PIXEL = 11806
  LINE_PROJECTION_OFFSET = -34309.875
  MAP_PROJECTION_ROTATION = 0.0
  MAP_PROJECTION_TYPE = SINUSOIDAL
  MAP_RESOLUTION = 1185.42760773333
  MAP_SCALE = 0.05
  MAXIMUM_LATITUDE = -28.9435
  MINIMUM_LATITUDE = -38.8994
  POSITIVE_LONGITUDE_DIRECTION = EAST
  REFERENCE_LATITUDE = "N/A"
  REFERENCE_LONGITUDE = "N/A"
  SAMPLE_FIRST_PIXEL = 1
  SAMPLE_LAST_PIXEL = 1615
  SAMPLE_PROJECTION_OFFSET = 496.625
  SECOND_STANDARD_PARALLEL = "N/A"
  WESTERNMOST_LONGITUDE = 111.47
END_OBJECT = IMAGE_MAP_PROJECTION
END
