PDS_VERSION_ID = PDS3
/* FILE DATA ELEMENTS */
RECORD_TYPE = UNDEFINED
/* POINTERS TO DATA OBJECTS */
^IMAGE = ("HI895_0000_RE4.TIF")
/* IDENTIFICATION DATA ELEMENTS */
DATA_SET_ID = "MEX-M-HRSC-4-REFDR-MAPPROJECT-EXT6-V4.0"
DATA_SET_NAME = "MARS EXPRESS HRSC MAP PROJECTED REFDR EXTENSION6 V4.0"
DETECTOR_ID = MEX_HRSC_RED
EVENT_TYPE = "MARS-REGIONAL-MAPPING-Im"
INSTRUMENT_HOST_ID = MEX
INSTRUMENT_HOST_NAME = "MARS EXPRESS"
INSTRUMENT_ID = HRSC
INSTRUMENT_NAME = "HIGH RESOLUTION STEREO CAMERA"
MISSION_NAME = "MARS EXPRESS"
MISSION_PHASE_NAME = ME_Phase_39
PROCESSING_LEVEL_ID = 4
PRODUCT_CREATION_TIME = 2023-01-29T14:35:52.000Z
PRODUCT_ID = "HI895_0000_RE4.TIF"
RELEASE_ID = 0005
REVISION_ID = 0000
/* QUALITY DATA ELEMENTS */
DATA_QUALITY_ID = 1
DATA_QUALITY_DESC = "Data calculated based on original SPICE kernels"
/* TIME DATA ELEMENTS */
SPACECRAFT_CLOCK_START_COUNT = "1/0492355595.25689"
SPACECRAFT_CLOCK_STOP_COUNT = "1/0492355859.23705"
START_TIME = 2018-12-08T13:27:12.161Z
STOP_TIME = 2018-12-08T13:30:24.654Z
/* ORBITAL DATA ELEMENTS */
ASCENDING_NODE_LONGITUDE = 219.71
MAXIMUM_RESOLUTION = 0.055
FOOTPRINT_POINT_LATITUDE = (-33.4033,-33.4041,-33.4032,-33.3984, -33.3982,-33.3766,-32.8823,-32.633, -32.3823,-31.8924,-31.3977,-31.1498, -30.9021,-30.6546,-30.4068,-30.0349, -29.787,-29.5385,-29.2906,-28.7956, -28.5474,-28.2996,-27.9185,-27.6624, -27.4055,-27.147,-26.8898,-26.6331, -26.248,-25.9909,-25.7339,-25.4772, -25.0931,-24.708,-24.4508,-24.1939, -23.9375,-23.6814,-23.4219,-23.0375, -22.7811,-22.3962,-22.1395,-21.8829, -21.6268,-21.2415,-20.8573,-20.7285, -20.6845,-20.6839,-20.6822,-20.6791, -20.6742,-20.674,-20.6748,-20.9315, -21.1876,-21.5729,-21.8298,-22.0864, -22.3432,-22.6003,-22.8574,-23.1144, -23.3715,-23.7572,-24.0148,-24.4, -24.7863,-25.0441,-25.3003,-25.558, -25.8151,-26.0712,-26.3289,-26.5859, -26.843,-27.2259,-27.4861,-27.7428, -27.9999,-28.2544,-28.5033,-28.7521, -29.0005,-29.2498,-29.4981,-29.8702, -30.1182,-30.4901,-30.7386,-30.9877, -31.4836,-31.8539,-32.2256,-32.4739, -32.7216,-33.2157,-33.3393,-33.4033)
FOOTPRINT_POINT_LONGITUDE = (11.3512,10.9303,10.5871,10.0046, 9.99194,9.98249,9.99144,9.99506,9.99809 ,10.0072,10.0144,10.0175,10.0207, 10.0237,10.0265,10.0304,10.0328,10.0349 ,10.0371,10.0412,10.0429,10.0445, 10.0467,10.048,10.049,10.0493,10.0499, 10.0505,10.0511,10.0512,10.0512,10.0512 ,10.0512,10.0505,10.0498,10.049,10.0482 ,10.0473,10.0454,10.0435,10.0421, 10.0396,10.0378,10.0358,10.0339,10.0303 ,10.0268,10.0253,10.0247,10.3182, 10.5869,10.9848,11.3837,11.3967,11.401, 11.4004,11.4002,11.3994,11.3989,11.3985 ,11.398,11.3974,11.3968,11.3963,11.3957 ,11.3948,11.394,11.3934,11.3922,11.3913 ,11.3911,11.3902,11.3896,11.3895, 11.3885,11.3879,11.3872,11.3875,11.3852 ,11.3846,11.3838,11.3832,11.3822, 11.3813,11.3806,11.3793,11.3786,11.3775 ,11.3767,11.3756,11.3744,11.373,11.371, 11.3701,11.3684,11.3669,11.3657,11.3637 ,11.363,11.3512)
ORBIT_NUMBER = 18895
ORBITAL_ECCENTRICITY = 0.578
ORBITAL_INCLINATION = 86.96
ORBITAL_SEMIMAJOR_AXIS = 8814.59
PERIAPSIS_ALTITUDE = 331.19
PERIAPSIS_ARGUMENT_ANGLE = 323.28
PERIAPSIS_TIME = 2018-12-08T13:26:47.000Z
SPACECRAFT_ORIENTATION = (0.0,1.0,0.0)
^MEX_ORIENTATION_DESC = "MEX_ORIENTATION_DESC.TXT"
SPACECRAFT_POINTING_MODE = ACROSSTRACK
^MEX_POINTING_DESC = "MEX_POINTING_DESC.TXT"
RIGHT_ASCENSION = -1e+32
DECLINATION = -1e+32
OFFSET_ANGLE = -0.13
SPACECRAFT_SOLAR_DISTANCE = 2.13548e+08
TARGET_NAME = MARS
/* CAMERA DATA ELEMENTS */
DETECTOR_TEMPERATURE = 19.5939
FOCAL_PLANE_TEMPERATURE = 10.2145
INST_CMPRS_NAME = "DISCRETE COSINE TRANSFORMATION (DCT)"
INST_CMPRS_RATIO = 15.8574
INST_CMPRS_QUALITY = 0
INST_CMPRS_QUANTZ_TBL_ID = 0
INSTRUMENT_TEMPERATURE = 12.6613
LENS_TEMPERATURE = 10.4184
MACROPIXEL_SIZE = 4
MISSING_FRAMES = 0
PIXEL_SUBSAMPLING_FLAG = N
SIGNAL_CHAIN_ID = 2
/* RADIOMETRIC DATA ELEMENTS */
BANDWIDTH = 48.0
CENTER_FILTER_WAVELENGTH = 748.0
RADIANCE_OFFSET = 1.10292
RADIANCE_SCALING_FACTOR = 0.00508396
REFLECTANCE_SCALING_FACTOR = 0.000529077
MEX:REFLECTANCE_OFFSET = 0.114778
/* IMAGE OBJECT DEFINITIONS */
OBJECT = IMAGE
  INTERCHANGE_FORMAT = BINARY
  LINES = 15066
  LINE_SAMPLES = 1571
  SAMPLE_TYPE = UNSIGNED_INTEGER
  SAMPLE_BITS = 8
  BANDS = 1
  BAND_STORAGE_TYPE = BAND_SEQUENTIAL
  MAXIMUM = 255
  MEAN = 109.931
  MINIMUM = 1
  STANDARD_DEVIATION = 23.6911
END_OBJECT = IMAGE
/* MAP OBJECT DEFINITIONS */
OBJECT = IMAGE_MAP_PROJECTION
  ^DATA_SET_MAP_PROJECTION_CATALOG= "DSMAP.CAT"
  A_AXIS_RADIUS = 3396.0
  B_AXIS_RADIUS = 3396.0
  C_AXIS_RADIUS = 3396.0
  CENTER_LATITUDE = 0.0
  CENTER_LONGITUDE = 11.0
  COORDINATE_SYSTEM_NAME = PLANETOGRAPHIC
  COORDINATE_SYSTEM_TYPE = "BODY-FIXED ROTATING"
  EASTERNMOST_LONGITUDE = 11.401
  FIRST_STANDARD_PARALLEL = "N/A"
  LINE_FIRST_PIXEL = 1
  LINE_LAST_PIXEL = 15066
  LINE_PROJECTION_OFFSET = -24494.125
  MAP_PROJECTION_ROTATION = 0.0
  MAP_PROJECTION_TYPE = SINUSOIDAL
  MAP_RESOLUTION = 1185.42760773333
  MAP_SCALE = 0.05
  MAXIMUM_LATITUDE = -20.674
  MINIMUM_LATITUDE = -33.4041
  POSITIVE_LONGITUDE_DIRECTION = EAST
  REFERENCE_LATITUDE = "N/A"
  REFERENCE_LONGITUDE = "N/A"
  SAMPLE_FIRST_PIXEL = 1
  SAMPLE_LAST_PIXEL = 1571
  SAMPLE_PROJECTION_OFFSET = 1105.875
  SECOND_STANDARD_PARALLEL = "N/A"
  WESTERNMOST_LONGITUDE = 9.98249
END_OBJECT = IMAGE_MAP_PROJECTION
END
