PDS_VERSION_ID = PDS3
/* FILE DATA ELEMENTS */
RECORD_TYPE = UNDEFINED
/* POINTERS TO DATA OBJECTS */
^IMAGE = ("HI898_0000_P24.TIF")
/* IDENTIFICATION DATA ELEMENTS */
DATA_SET_ID = "MEX-M-HRSC-4-REFDR-MAPPROJECT-EXT6-V4.0"
DATA_SET_NAME = "MARS EXPRESS HRSC MAP PROJECTED REFDR EXTENSION6 V4.0"
DETECTOR_ID = MEX_HRSC_P2
EVENT_TYPE = "MARS-REGIONAL-STEREO-Im-Gl-Mw"
INSTRUMENT_HOST_ID = MEX
INSTRUMENT_HOST_NAME = "MARS EXPRESS"
INSTRUMENT_ID = HRSC
INSTRUMENT_NAME = "HIGH RESOLUTION STEREO CAMERA"
MISSION_NAME = "MARS EXPRESS"
MISSION_PHASE_NAME = ME_Phase_39
PROCESSING_LEVEL_ID = 4
PRODUCT_CREATION_TIME = 2023-01-29T14:35:52.000Z
PRODUCT_ID = "HI898_0000_P24.TIF"
RELEASE_ID = 0005
REVISION_ID = 0000
/* QUALITY DATA ELEMENTS */
DATA_QUALITY_ID = 1
DATA_QUALITY_DESC = "Data calculated based on original SPICE kernels"
/* TIME DATA ELEMENTS */
SPACECRAFT_CLOCK_START_COUNT = "1/0492430978.23991"
SPACECRAFT_CLOCK_STOP_COUNT = "1/0492431138.08374"
START_TIME = 2018-12-09T10:23:40.178Z
STOP_TIME = 2018-12-09T10:25:16.639Z
/* ORBITAL DATA ELEMENTS */
ASCENDING_NODE_LONGITUDE = 219.65
MAXIMUM_RESOLUTION = 0.0277
FOOTPRINT_POINT_LATITUDE = (-35.9726,-35.9738,-35.9741,-35.9739, -35.973,-35.9717,-35.9698,-35.9697, -35.9138,-35.7873,-35.6618,-35.4741, -35.2854,-35.1597,-35.0342,-34.908, -34.7821,-34.6543,-34.4641,-34.2759, -34.1502,-34.0241,-33.8985,-33.7724, -33.584,-33.3945,-33.2676,-33.1417, -33.0156,-32.8898,-32.6403,-32.4503, -32.3229,-32.1963,-32.0705,-31.8844, -31.6941,-31.5663,-31.4396,-31.3136, -31.1874,-31.0614,-30.8113,-30.6852, -30.5585,-30.432,-30.3056,-30.1791, -30.0531,-29.9272,-29.6772,-29.6166, -29.5871,-29.5882,-29.5871,-29.5863, -29.5837,-29.5816,-29.5776,-29.5774, -29.5778,-29.7672,-30.0184,-30.2079, -30.398,-30.5247,-30.6509,-30.7776, -30.9042,-31.0309,-31.2209,-31.4102, -31.6012,-31.7274,-31.8541,-31.9801, -32.1692,-32.2955,-32.485,-32.6746, -32.864,-32.9897,-33.1157,-33.2416, -33.4288,-33.6206,-33.7463,-33.8727, -34.1867,-34.3758,-34.563,-34.8135, -34.9412,-35.1328,-35.3216,-35.5101, -35.6359,-35.8248,-35.8883,-35.9726)
FOOTPRINT_POINT_LONGITUDE = (65.1003,64.799,64.5809,64.3634,64.1468 ,63.9308,63.7151,63.7016,63.6807, 63.6834,63.6865,63.6911,63.6954,63.6981 ,63.701,63.7035,63.7062,63.7082,63.7115 ,63.7155,63.7179,63.7203,63.7227, 63.7249,63.7284,63.7315,63.7333,63.7354 ,63.7374,63.7395,63.744,63.7465,63.7479 ,63.7495,63.7513,63.7547,63.7567, 63.7578,63.7591,63.7606,63.762,63.7635, 63.7667,63.768,63.7691,63.7702,63.7713, 63.7723,63.7734,63.7745,63.7771,63.7784 ,63.7785,64.0433,64.2292,64.3757, 64.6701,64.8449,65.1421,65.1556,65.1605 ,65.1604,65.1612,65.1611,65.1605, 65.1601,65.16,65.1596,65.1592,65.1587, 65.1581,65.1579,65.1564,65.1563,65.1558 ,65.1557,65.1555,65.1552,65.1548, 65.1541,65.1536,65.1537,65.1535,65.1534 ,65.1544,65.1519,65.1518,65.1512, 65.1512,65.1505,65.1513,65.1515,65.1497 ,65.1469,65.1462,65.1457,65.1452, 65.1443,65.1436,65.1003)
ORBIT_NUMBER = 18898
ORBITAL_ECCENTRICITY = 0.578
ORBITAL_INCLINATION = 86.98
ORBITAL_SEMIMAJOR_AXIS = 8814.9
PERIAPSIS_ALTITUDE = 330.29
PERIAPSIS_ARGUMENT_ANGLE = 322.77
PERIAPSIS_TIME = 2018-12-09T10:23:42.000Z
SPACECRAFT_ORIENTATION = (0.0,1.0,0.0)
^MEX_ORIENTATION_DESC = "MEX_ORIENTATION_DESC.TXT"
SPACECRAFT_POINTING_MODE = ACROSSTRACK
^MEX_POINTING_DESC = "MEX_POINTING_DESC.TXT"
RIGHT_ASCENSION = -1e+32
DECLINATION = -1e+32
OFFSET_ANGLE = -0.229
SPACECRAFT_SOLAR_DISTANCE = 2.13682e+08
TARGET_NAME = MARS
/* CAMERA DATA ELEMENTS */
DETECTOR_TEMPERATURE = 19.1861
FOCAL_PLANE_TEMPERATURE = 11.0301
INST_CMPRS_NAME = "DISCRETE COSINE TRANSFORMATION (DCT)"
INST_CMPRS_RATIO = 7.20882
INST_CMPRS_QUALITY = 0
INST_CMPRS_QUANTZ_TBL_ID = 0
INSTRUMENT_TEMPERATURE = 12.8652
LENS_TEMPERATURE = 11.4379
MACROPIXEL_SIZE = 2
MISSING_FRAMES = 0
PIXEL_SUBSAMPLING_FLAG = N
SIGNAL_CHAIN_ID = 3
/* RADIOMETRIC DATA ELEMENTS */
BANDWIDTH = 177.0
CENTER_FILTER_WAVELENGTH = 676.5
RADIANCE_OFFSET = 5.98572
RADIANCE_SCALING_FACTOR = 0.019331
REFLECTANCE_SCALING_FACTOR = 0.000468002
MEX:REFLECTANCE_OFFSET = 0.144913
/* IMAGE OBJECT DEFINITIONS */
OBJECT = IMAGE
  INTERCHANGE_FORMAT = BINARY
  LINES = 15063
  LINE_SAMPLES = 3015
  SAMPLE_TYPE = UNSIGNED_INTEGER
  SAMPLE_BITS = 8
  BANDS = 1
  BAND_STORAGE_TYPE = BAND_SEQUENTIAL
  MAXIMUM = 255
  MEAN = 176.733
  MINIMUM = 1
  STANDARD_DEVIATION = 30.6512
END_OBJECT = IMAGE
/* MAP OBJECT DEFINITIONS */
OBJECT = IMAGE_MAP_PROJECTION
  ^DATA_SET_MAP_PROJECTION_CATALOG= "DSMAP.CAT"
  A_AXIS_RADIUS = 3396.0
  B_AXIS_RADIUS = 3396.0
  C_AXIS_RADIUS = 3396.0
  CENTER_LATITUDE = 0.0
  CENTER_LONGITUDE = 64.0
  COORDINATE_SYSTEM_NAME = PLANETOGRAPHIC
  COORDINATE_SYSTEM_TYPE = "BODY-FIXED ROTATING"
  EASTERNMOST_LONGITUDE = 65.16119999999999
  FIRST_STANDARD_PARALLEL = "N/A"
  LINE_FIRST_PIXEL = 1
  LINE_LAST_PIXEL = 15063
  LINE_PROJECTION_OFFSET = -70165.75
  MAP_PROJECTION_ROTATION = 0.0
  MAP_PROJECTION_TYPE = SINUSOIDAL
  MAP_RESOLUTION = 2370.85521546667
  MAP_SCALE = 0.025
  MAXIMUM_LATITUDE = -29.5774
  MINIMUM_LATITUDE = -35.9741
  POSITIVE_LONGITUDE_DIRECTION = EAST
  REFERENCE_LATITUDE = "N/A"
  REFERENCE_LONGITUDE = "N/A"
  SAMPLE_FIRST_PIXEL = 1
  SAMPLE_LAST_PIXEL = 3015
  SAMPLE_PROJECTION_OFFSET = 611.75
  SECOND_STANDARD_PARALLEL = "N/A"
  WESTERNMOST_LONGITUDE = 63.6807
END_OBJECT = IMAGE_MAP_PROJECTION
END
